BEGIN:VCALENDAR
VERSION:2.0
PRODID:-//Orto Botanico di Padova - ECPv6.15.19//NONSGML v1.0//EN
CALSCALE:GREGORIAN
METHOD:PUBLISH
X-WR-CALNAME:Orto Botanico di Padova
X-ORIGINAL-URL:https://ortobotanico1545.it
X-WR-CALDESC:Eventi per Orto Botanico di Padova
REFRESH-INTERVAL;VALUE=DURATION:PT1H
X-Robots-Tag:noindex
X-PUBLISHED-TTL:PT1H
BEGIN:VTIMEZONE
TZID:Europe/Rome
BEGIN:DAYLIGHT
TZOFFSETFROM:+0100
TZOFFSETTO:+0200
TZNAME:CEST
DTSTART:20200329T010000
END:DAYLIGHT
BEGIN:STANDARD
TZOFFSETFROM:+0200
TZOFFSETTO:+0100
TZNAME:CET
DTSTART:20201025T010000
END:STANDARD
BEGIN:DAYLIGHT
TZOFFSETFROM:+0100
TZOFFSETTO:+0200
TZNAME:CEST
DTSTART:20210328T010000
END:DAYLIGHT
BEGIN:STANDARD
TZOFFSETFROM:+0200
TZOFFSETTO:+0100
TZNAME:CET
DTSTART:20211031T010000
END:STANDARD
BEGIN:DAYLIGHT
TZOFFSETFROM:+0100
TZOFFSETTO:+0200
TZNAME:CEST
DTSTART:20220327T010000
END:DAYLIGHT
BEGIN:STANDARD
TZOFFSETFROM:+0200
TZOFFSETTO:+0100
TZNAME:CET
DTSTART:20221030T010000
END:STANDARD
BEGIN:DAYLIGHT
TZOFFSETFROM:+0100
TZOFFSETTO:+0200
TZNAME:CEST
DTSTART:20230326T010000
END:DAYLIGHT
BEGIN:STANDARD
TZOFFSETFROM:+0200
TZOFFSETTO:+0100
TZNAME:CET
DTSTART:20231029T010000
END:STANDARD
END:VTIMEZONE
BEGIN:VEVENT
DTSTART;TZID=Europe/Rome:20211008T100000
DTEND;TZID=Europe/Rome:20220320T190000
DTSTAMP:20260423T020625
CREATED:20241001T095249Z
LAST-MODIFIED:20241119T163706Z
UID:2878-1633687200-1647802800@ortobotanico1545.it
SUMMARY:How nature works
DESCRIPTION:Dopo il grande successo di pubblico ottenuto nei primi tre mesi di apertura\, la mostra di Krištof Kintera inaugurata lo scorso 8 ottobre nelle serre ottocentesche dell’Orto botanico è stata prorogata fino al 20 marzo 2022. \nInnovativi progetti espositivi dal respiro internazionale continuano a caratterizzare l’attività dell’Orto botanico: dopo Spandrel e The Forbidden Garden of Europe presso la Biennale Architettura di Venezia\, e Planet Book. La mostra negli spazi dell’Orto antico e del Giardino della Biodiversità\, dal 9 ottobre ha aperto al pubblico anche How nature works\, una mostra site-specific frutto dell’ormai consolidata collaborazione con Arte Sella. \nLe serre ottocentesche dell’Orto botanico universitario più antico al mondo hanno ispirato Krištof Kintera\, poliedrico artista ceco attivo da tre decenni nel panorama internazionale\, nella realizzazione di diversi ambienti in cui gli scarti dell’Era dell’Informazione (schede madri\, cavi\, lampadine ecc.) sono trasformati in affascinanti creazioni\, che sfidano la tradizionale opposizione tra Natura e Tecnologia attraverso la definizione di una realtà “post-naturale”. Le “nuove” piante di Kintera richiamano da vicino le “vecchie” piante dell’Orto\, componendo un ricco scenario in cui scienza e tecnologia sembrano integrarsi perfettamente\, rivelando le sorprendenti analogie tra sistemi artificiali e biologici. \nLa mostra\, compresa nel biglietto d’ingresso\, è visitabile dal 9 ottobre 2021 al 20 marzo 2022\, negli orari di apertura dell’Orto. \n\n\n  \nkristofkintera.com
URL:https://ortobotanico1545.it/eventi/how-nature-works/
CATEGORIES:Mostre e installazioni
ATTACH;FMTTYPE=image/jpeg:https://ortobotanico1545.it/wp-content/uploads/2024/10/Header_960x400.jpg
END:VEVENT
END:VCALENDAR