BEGIN:VCALENDAR
VERSION:2.0
PRODID:-//Orto Botanico di Padova - ECPv6.15.19//NONSGML v1.0//EN
CALSCALE:GREGORIAN
METHOD:PUBLISH
X-WR-CALNAME:Orto Botanico di Padova
X-ORIGINAL-URL:https://ortobotanico1545.it
X-WR-CALDESC:Eventi per Orto Botanico di Padova
REFRESH-INTERVAL;VALUE=DURATION:PT1H
X-Robots-Tag:noindex
X-PUBLISHED-TTL:PT1H
BEGIN:VTIMEZONE
TZID:Europe/Rome
BEGIN:DAYLIGHT
TZOFFSETFROM:+0100
TZOFFSETTO:+0200
TZNAME:CEST
DTSTART:20210328T010000
END:DAYLIGHT
BEGIN:STANDARD
TZOFFSETFROM:+0200
TZOFFSETTO:+0100
TZNAME:CET
DTSTART:20211031T010000
END:STANDARD
BEGIN:DAYLIGHT
TZOFFSETFROM:+0100
TZOFFSETTO:+0200
TZNAME:CEST
DTSTART:20220327T010000
END:DAYLIGHT
BEGIN:STANDARD
TZOFFSETFROM:+0200
TZOFFSETTO:+0100
TZNAME:CET
DTSTART:20221030T010000
END:STANDARD
BEGIN:DAYLIGHT
TZOFFSETFROM:+0100
TZOFFSETTO:+0200
TZNAME:CEST
DTSTART:20230326T010000
END:DAYLIGHT
BEGIN:STANDARD
TZOFFSETFROM:+0200
TZOFFSETTO:+0100
TZNAME:CET
DTSTART:20231029T010000
END:STANDARD
BEGIN:DAYLIGHT
TZOFFSETFROM:+0100
TZOFFSETTO:+0200
TZNAME:CEST
DTSTART:20240331T010000
END:DAYLIGHT
BEGIN:STANDARD
TZOFFSETFROM:+0200
TZOFFSETTO:+0100
TZNAME:CET
DTSTART:20241027T010000
END:STANDARD
END:VTIMEZONE
BEGIN:VEVENT
DTSTART;TZID=Europe/Rome:20221111T100000
DTEND;TZID=Europe/Rome:20230305T190000
DTSTAMP:20260422T120737
CREATED:20241001T095219Z
LAST-MODIFIED:20241016T102653Z
UID:2828-1668160800-1678042800@ortobotanico1545.it
SUMMARY:Vincenzo Castella. Il libro di Padova
DESCRIPTION:L’artista Vincenzo Castella presenta una selezione di quaranta immagini della città di Padova\, sperimentando una possibile traduzione estetica dal formato del libro edito da Silvana Editoriale – che raccoglie un centinaio di fotografie scattate tra il 2020 e il 2021 – a quello della mostra. Curata da Salvatore Lacagnina e realizzata con il sostegno di Hermès\, l’esposizione è visitabile in Orto botanico dall’11 novembre 2022 all’8 gennaio 2023 e\, grazie alla proroga prevista dopo la pausa invernale\, anche dal 14 febbraio al 5 marzo 2023. \nLe immagini si presentano in due soli formati: uno panoramico\, stretto e lungo\, usato in orizzontale e in verticale\, con scatti ravvicinati e accostati tra loro; uno quasi quadrato\, che appare in pochi momenti precisi\, necessari\, come un’apertura improvvisa dello sguardo. \nLa città è mostrata attraverso quattro temi: l’Orto botanico\, o più in generale il mondo vegetale; la pittura\, principalmente gli affreschi\, conservati nelle chiese\, nelle cappelle\, negli oratori\, nei battisteri\, nei palazzi; l’architettura\, che l’artista lascia emergere come spazio quasi sempre interno; l’Università\, con la sua storia che è un nodo cruciale della cultura europea. \nLa mostra – compresa nel biglietto d’ingresso e visitabile negli orari di apertura dell’Orto – è realizzata dall’Orto botanico di Padova con il sostegno di Hermès e con la collaborazione di Silvana Editoriale e Studio la Città\, nell’ambito delle celebrazioni per gli 800 anni dell’Università di Padova. \n— \nVincenzo Castella è nato a Napoli nel 1952 e vive a Milano. Le sue opere sono presentate dal 1980 in Europa e in America\, iniziando a diventare fortemente a-narrative dal 1998. Con stampe a colori di grandi dimensioni da pellicole di grande formato esprime la complessità degli intrecci delle città: da quelle europee quali Napoli\, Milano\, Torino\, Rouen\, Caen\, Le Havre\, Helsinki e Berlino fino a realtà più lontane come Ramallah e Gerusalemme. Nel 2015 il Board of Trustees della Tate Modern ha incluso nella sua collezione cinque lavori dal suo Progetto Malta.
URL:https://ortobotanico1545.it/eventi/vincenzo-castella-il-libro-di-padova/
CATEGORIES:Mostre e installazioni
ATTACH;FMTTYPE=image/jpeg:https://ortobotanico1545.it/wp-content/uploads/2024/10/71a_Loggia-Cornaro_Francesco-Maria-Falconetto-copia-2.jpg
END:VEVENT
BEGIN:VEVENT
DTSTART;VALUE=DATE:20221207
DTEND;VALUE=DATE:20221211
DTSTAMP:20260422T120738
CREATED:20241001T095226Z
LAST-MODIFIED:20241020T064138Z
UID:2840-1670371200-1670716799@ortobotanico1545.it
SUMMARY:Concerto di ghiaccio
DESCRIPTION:Un concerto unico\, con protagonisti Giovanni Sollima\, Tim Linhart\, Corrado Bungaro\, Nicola Segatta e la musica eseguita su delicatissimi strumenti di ghiaccio accompagnati da La Piccola Orchestra Lumière. La proiezione del docufilm che ne racconta la nascita\, il viaggio\, la fine. In chiusura\, l’incontro con i protagonisti: il creatore degli strumenti\, il regista-musicista\, uno strumento di ghiaccio da vedere dal vivo nella cornice dell’Orto botanico d’inverno. Ghiaccio\, clima che cambia\, musica che ci muove a una riflessione sul Mediterraneo e sulle culture che vi si affacciano\, sulle migrazioni\, sul Pianeta.\nAppuntamento all’Orto botanico e al Teatro Verdi\, dal 7 al 10 dicembre: \nN-ICE CELLO. Storia del violoncello di ghiaccio/ docufilm di Corrado Bungaro \nmercoledì 7 dicembre\, ore 21. Ingresso gratuito\, su prenotazione \nCONCERTO DI GHIACCIO  \nvenerdì 9 dicembre 2022\, ore 21 al Teatro Verdi. Biglietto intero 20 euro\, ridotto 10 euro under 26 \ncon\nGiovanni Sollima\, ice cello\nNicola Segatta\, ice cello\nCorrado Bungaro\, ice violin \ne la Piccola Orchestra Lumière\ndirettore Andrea Aste \nL’ARTISTA DI GHIACCIO \nsabato 10 dicembre\n\nore 16.30 – 19.30 in Sala Colonne\, visita agli strumenti di ghiaccio ad ingresso libero \nore 17.30 in auditorium\, incontro con Tim Linhart e Corrado Bungaro\, ad ingresso gratuito su prenotazione. \nI tre eventi sono prodotti dall’Università di Padova\, ideati dall’Orto botanico con l’associazione culturale Il Vagabondo\, in collaborazione con Wasabi filmakers e il Teatro Stabile del Veneto e con Alì spa come sponsor tecnico\, nell’ambito delle celebrazioni per l’ottavo centenario dell’Università di Padova. \nFoto © Pino Ninfa
URL:https://ortobotanico1545.it/eventi/concerto-di-ghiaccio/
CATEGORIES:Eventi in collaborazione
ATTACH;FMTTYPE=image/jpeg:https://ortobotanico1545.it/wp-content/uploads/2024/10/ConcertoGhiaccio_996x372.jpg
END:VEVENT
END:VCALENDAR