BEGIN:VCALENDAR
VERSION:2.0
PRODID:-//Orto Botanico di Padova - ECPv6.15.19//NONSGML v1.0//EN
CALSCALE:GREGORIAN
METHOD:PUBLISH
X-ORIGINAL-URL:https://ortobotanico1545.it
X-WR-CALDESC:Eventi per Orto Botanico di Padova
REFRESH-INTERVAL;VALUE=DURATION:PT1H
X-Robots-Tag:noindex
X-PUBLISHED-TTL:PT1H
BEGIN:VTIMEZONE
TZID:Europe/Rome
BEGIN:DAYLIGHT
TZOFFSETFROM:+0100
TZOFFSETTO:+0200
TZNAME:CEST
DTSTART:20220327T010000
END:DAYLIGHT
BEGIN:STANDARD
TZOFFSETFROM:+0200
TZOFFSETTO:+0100
TZNAME:CET
DTSTART:20221030T010000
END:STANDARD
BEGIN:DAYLIGHT
TZOFFSETFROM:+0100
TZOFFSETTO:+0200
TZNAME:CEST
DTSTART:20230326T010000
END:DAYLIGHT
BEGIN:STANDARD
TZOFFSETFROM:+0200
TZOFFSETTO:+0100
TZNAME:CET
DTSTART:20231029T010000
END:STANDARD
BEGIN:DAYLIGHT
TZOFFSETFROM:+0100
TZOFFSETTO:+0200
TZNAME:CEST
DTSTART:20240331T010000
END:DAYLIGHT
BEGIN:STANDARD
TZOFFSETFROM:+0200
TZOFFSETTO:+0100
TZNAME:CET
DTSTART:20241027T010000
END:STANDARD
END:VTIMEZONE
BEGIN:VEVENT
DTSTART;TZID=Europe/Rome:20230321T180000
DTEND;TZID=Europe/Rome:20231214T190000
DTSTAMP:20260422T060346
CREATED:20241001T095111Z
LAST-MODIFIED:20241120T084429Z
UID:2713-1679421600-1702580400@ortobotanico1545.it
SUMMARY:Racconti della Natura 2023
DESCRIPTION:Racconti della Natura è una rassegna di appuntamenti letterari\, organizzati dall’Orto botanico dell’Università di Padova\, che ruotano attorno al tema della scrittura come mezzo privilegiato per raccontare la natura che ci circonda. \nAPPUNTAMENTI \nRacconti della Natura \n\n\n21 marzo\, ore 18 – Brunella Torresin\, Nel gran teatro della natura. Maria Sibylla Merian\, donna d’arte e di scienza 1647-1717\, Edizioni Pendragon – dialogo con Elena Canadelli e visita al Museo botanico\n20 giugno ore 18.30 – Daniele Zovi\, Caccia al topo. Una storia di uomini\, animali\, trappole e amicizie\, UTET – presentazione del libro in dialogo con Renato Semenzato\n5 luglio ore 18.30 – Giuseppe Barbera\, Agrumi. Una storia del mondo\, Il Saggiatore – presentazione del libro e visita guidata\n23 settembre ore 10.30 – Barbara Bernardini\, Dall’Orto al mondo. Piccolo manuale di resistenza ecologica\, Nottetempo – presentazione del libro in dialogo con Roberto Tacchetto\n7 ottobre ore 10 – Jacopo Starace\, Essere montagna\, BAO Publishing – presentazione del libro e workshop di fumetto a cura dell’autore\n14 dicembre ore 18 – Massimo De Giuseppe\, Cacao\, la pianta che attraversa il tempo\, Carocci Editore – presentazione del libro in dialogo con Rafael Gaune e Mario Sartor\n\nRacconti della Natura KIDS \n\n\n21 maggio ore 10.30 – Valentina Gottardi\, Danio Miserocchi\, Maciej Michno\, Solo dance. Api solitarie e api selvatiche\, Cocai Books – presentazione del libro e attività ludico-didattica\n27 agosto ore 10.30 – Arianna Papini\, Prima di tagliare un albero\, Camelozampa – presentazione del libro e laboratorio creativo per persone di tutte le età\n26 novembre ore 10.30 – Irene Penazzi\, Un anno tra gli alberi (testi di Valentina Levrini\, illustrazioni di Irene Penazzi)\, Terre di mezzo Editore – presentazione del libro e attività ludico-didattica
URL:https://ortobotanico1545.it/eventi/racconti-della-natura/
CATEGORIES:Racconti della Natura
END:VEVENT
BEGIN:VEVENT
DTSTART;VALUE=DATE:20230422
DTEND;VALUE=DATE:20230502
DTSTAMP:20260422T060346
CREATED:20241001T095213Z
LAST-MODIFIED:20241022T072438Z
UID:2818-1682121600-1682985599@ortobotanico1545.it
SUMMARY:Sonus Horti
DESCRIPTION:Sonus Horti (Il suono dell’Orto) è un progetto artistico ideato da Rocco Papia e realizzato con Nikki Rifiutile all’interno del collettivo International Sound Reuse ArtWorkshop. \nIl progetto muove da una ricerca artistica sul luogo fisico\, storico e filosofico dell’Orto botanico di Padova: gli attrezzi e i materiali usati da chi si prende cura quotidianamente dell’Orto cinquecentesco e la sua particolare architettura – un quadrato inscritto in un cerchio che rimanda all’ideale dell’Hortus Conclusus\, luogo paradisiaco in cui ricercare l’armonia tra essere umano e universo – sono le suggestioni che gli artisti hanno restituito in tre grandi sculture sonore interattive. \nLe opere sono complessi aerofoni che utilizzano l’acqua per muovere l’aria\, collegandosi così in maniera organica agli elementi fondamentali dell’ecosistema dell’Orto botanico e sono state ideate per essere suonate da più persone contemporaneamente\, invitando gli utenti alla condivisione dell’esperienza sonora e alla ricerca di un’armonia collettiva. \nNell’opera Cunabula Sonorum due cerchi rotanti inscritti in una struttura cubica vengono fatti oscillare\, come una culla\, producendo una melodia di domanda e risposta\, in una sorta di respiro melodico. In Nymphaeae Sonorae un quadrato di altalene per ninfe oscilla immergendo delle ninfee plastiche i cui fiori/flauti emettono accordi armonici\, mentre in Sonus Temporum si può entrare in una struttura formata da due cerchi orizzontali sovrapposti\, dove quattro strani fiori sono sospesi su altrettanti piccoli bacini d’acqua: immergendoli suoneranno quattro diverse stagioni…armoniche. \nLa metodologia utilizzata è quella del riuso creativo degli oggetti quotidiani e di scarto\, come già fatto con il Corallo Sonoro\, scultura sonora interattiva dedicata all’ascolto dell’ecosistema acustico marino presentata al festival Risvegli 2022\, e con l’installazione diffusa Il Giardino dei Suoni presentata al Boom Cantiere Creativo 2022 di Calderara di Reno (BO). \nLe installazioni sono ospitate nel prato di fronte alle serre del Giardino della biodiversità e presso la Fontana delle Quattro Stagioni (Porta Est) dal 22 aprile al 1 maggio. \n—\nRocco Papia è un artista poliedrico che vive a Barcellona: oltre ad essere un apprezzato musicista che ha collaborato con artisti internazionali\, è il direttore dell’Orquesta ReuSónica Trío\, dell’International Sound Reuse ArtWorkShop\, conduce laboratori didattici sul riuso creativo ed è creatore di percorsi innovativi tra arte e divulgazione ecologica. \nNikki Rifiutile (aka Nikki Rodgerson) è co-fondatrice di ISRAW: artista scozzese membro di Mutoid Waste Company\,  è scultrice\, performer e scenografa e conduce laboratori di riuso creativo dei residui. \nISRAW è un collettivo internazionale di artisti formatosi nel 2020 sotto la direzione di Rocco Papia per la ricerca e lo sviluppo di Sound Reuse Artworks: opere d’arte sonore che incorporano una visione di sviluppo ecologico e sostenibile realizzate attraverso il riuso creativo di materiali quotidiani e di scarto.
URL:https://ortobotanico1545.it/eventi/sonus-horti/
CATEGORIES:Festival Risvegli
ATTACH;FMTTYPE=image/png:https://ortobotanico1545.it/wp-content/uploads/2024/10/Sonus_horti_17_aprile.png
END:VEVENT
BEGIN:VEVENT
DTSTART;VALUE=DATE:20230422
DTEND;VALUE=DATE:20230503
DTSTAMP:20260422T060346
CREATED:20241001T095221Z
LAST-MODIFIED:20241120T092652Z
UID:2833-1682121600-1683071999@ortobotanico1545.it
SUMMARY:Mostre e installazioni
DESCRIPTION:22 APRILE-1 MAGGIO\nSonus Horti\nInstallazioni interattive\na cura di Rocco Papia e collettivo ISRAW\, con la collaborazione di Nikki Rifiutile \n  \nFINO AL 4 GIUGNO\nAlberi! 30+1 frammenti di storia d’Italia\nMostra\na cura di M9 – Museo del ‘900
URL:https://ortobotanico1545.it/eventi/mostre-e-installazioni-3/
CATEGORIES:Risvegli 2023
ATTACH;FMTTYPE=image/jpeg:https://ortobotanico1545.it/wp-content/uploads/2024/10/ELW_0825-1-scaled.jpg
END:VEVENT
BEGIN:VEVENT
DTSTART;TZID=Europe/Rome:20230422T173000
DTEND;TZID=Europe/Rome:20230422T183000
DTSTAMP:20260422T060346
CREATED:20241001T095146Z
LAST-MODIFIED:20241021T101612Z
UID:2772-1682184600-1682188200@ortobotanico1545.it
SUMMARY:Giornata mondiale della Terra
DESCRIPTION:Rocco Papia\, artista\, musicista e divulgatore poliedrico residente a Barcellona\, direttore del progetto Orquesta ReuSónica e del collettivo International Sound Reuse Artworkshop\, invita il percussionista italiano Marco Zanotti\, direttore della Classica Orquesta Afrobeat e già collaboratore del progetto ORT\, per una performance coinvolgente e originale in cui\, utilizzando come strumenti musicali gli attrezzi e i materiali utilizzati dai giardinieri per prendersi cura delle piante dell’Orto botanico\, presenteranno le sculture sonore dell’installazione Sonus Horti. \nLe opere dell’installazione sonora interattiva di Rocco Papia con Nikki Rifiutile utilizzano l’acqua per muovere l’aria\, collegandosi così in maniera organica agli elementi fondamentali dell’ecosistema dell’Orto botanico e sono state ideate per essere suonate da più persone contemporaneamente\, invitando gli utenti alla condivisione dell’esperienza sonora e alla ricerca di un’armonia collettiva. \nLa performance ha luogo in occasione della Giornata mondiale della Terra\, il 22 aprile alle 17.30 all’aperto\, nel prato di fronte alle serre del Giardino della biodiversità; in caso di maltempo l’evento si terrà in Auditorium. Non sono previste sedute tradizionali. \nPer partecipare all’evento\, incluso nel biglietto d’ingresso\, è consigliata la prenotazione.
URL:https://ortobotanico1545.it/eventi/giornata-mondiale-della-terra/
CATEGORIES:Giornate speciali
ATTACH;FMTTYPE=image/png:https://ortobotanico1545.it/wp-content/uploads/2024/10/Sonus_horti_17_aprile.png
END:VEVENT
END:VCALENDAR