BEGIN:VCALENDAR
VERSION:2.0
PRODID:-//Orto Botanico di Padova - ECPv6.15.19//NONSGML v1.0//EN
CALSCALE:GREGORIAN
METHOD:PUBLISH
X-WR-CALNAME:Orto Botanico di Padova
X-ORIGINAL-URL:https://ortobotanico1545.it
X-WR-CALDESC:Eventi per Orto Botanico di Padova
REFRESH-INTERVAL;VALUE=DURATION:PT1H
X-Robots-Tag:noindex
X-PUBLISHED-TTL:PT1H
BEGIN:VTIMEZONE
TZID:Europe/Rome
BEGIN:DAYLIGHT
TZOFFSETFROM:+0100
TZOFFSETTO:+0200
TZNAME:CEST
DTSTART:20220327T010000
END:DAYLIGHT
BEGIN:STANDARD
TZOFFSETFROM:+0200
TZOFFSETTO:+0100
TZNAME:CET
DTSTART:20221030T010000
END:STANDARD
BEGIN:DAYLIGHT
TZOFFSETFROM:+0100
TZOFFSETTO:+0200
TZNAME:CEST
DTSTART:20230326T010000
END:DAYLIGHT
BEGIN:STANDARD
TZOFFSETFROM:+0200
TZOFFSETTO:+0100
TZNAME:CET
DTSTART:20231029T010000
END:STANDARD
BEGIN:DAYLIGHT
TZOFFSETFROM:+0100
TZOFFSETTO:+0200
TZNAME:CEST
DTSTART:20240331T010000
END:DAYLIGHT
BEGIN:STANDARD
TZOFFSETFROM:+0200
TZOFFSETTO:+0100
TZNAME:CET
DTSTART:20241027T010000
END:STANDARD
END:VTIMEZONE
BEGIN:VEVENT
DTSTART;TZID=Europe/Rome:20230321T180000
DTEND;TZID=Europe/Rome:20231214T190000
DTSTAMP:20260422T042927
CREATED:20241001T095111Z
LAST-MODIFIED:20241120T084429Z
UID:2713-1679421600-1702580400@ortobotanico1545.it
SUMMARY:Racconti della Natura 2023
DESCRIPTION:Racconti della Natura è una rassegna di appuntamenti letterari\, organizzati dall’Orto botanico dell’Università di Padova\, che ruotano attorno al tema della scrittura come mezzo privilegiato per raccontare la natura che ci circonda. \nAPPUNTAMENTI \nRacconti della Natura \n\n\n21 marzo\, ore 18 – Brunella Torresin\, Nel gran teatro della natura. Maria Sibylla Merian\, donna d’arte e di scienza 1647-1717\, Edizioni Pendragon – dialogo con Elena Canadelli e visita al Museo botanico\n20 giugno ore 18.30 – Daniele Zovi\, Caccia al topo. Una storia di uomini\, animali\, trappole e amicizie\, UTET – presentazione del libro in dialogo con Renato Semenzato\n5 luglio ore 18.30 – Giuseppe Barbera\, Agrumi. Una storia del mondo\, Il Saggiatore – presentazione del libro e visita guidata\n23 settembre ore 10.30 – Barbara Bernardini\, Dall’Orto al mondo. Piccolo manuale di resistenza ecologica\, Nottetempo – presentazione del libro in dialogo con Roberto Tacchetto\n7 ottobre ore 10 – Jacopo Starace\, Essere montagna\, BAO Publishing – presentazione del libro e workshop di fumetto a cura dell’autore\n14 dicembre ore 18 – Massimo De Giuseppe\, Cacao\, la pianta che attraversa il tempo\, Carocci Editore – presentazione del libro in dialogo con Rafael Gaune e Mario Sartor\n\nRacconti della Natura KIDS \n\n\n21 maggio ore 10.30 – Valentina Gottardi\, Danio Miserocchi\, Maciej Michno\, Solo dance. Api solitarie e api selvatiche\, Cocai Books – presentazione del libro e attività ludico-didattica\n27 agosto ore 10.30 – Arianna Papini\, Prima di tagliare un albero\, Camelozampa – presentazione del libro e laboratorio creativo per persone di tutte le età\n26 novembre ore 10.30 – Irene Penazzi\, Un anno tra gli alberi (testi di Valentina Levrini\, illustrazioni di Irene Penazzi)\, Terre di mezzo Editore – presentazione del libro e attività ludico-didattica
URL:https://ortobotanico1545.it/eventi/racconti-della-natura/
CATEGORIES:Racconti della Natura
END:VEVENT
BEGIN:VEVENT
DTSTART;VALUE=DATE:20230518
DTEND;VALUE=DATE:20230523
DTSTAMP:20260422T042927
CREATED:20241001T095327Z
LAST-MODIFIED:20241023T081154Z
UID:2941-1684368000-1684799999@ortobotanico1545.it
SUMMARY:Affascinante natura
DESCRIPTION:Mercoledì 18 maggio è la Giornata internazionale del fascino delle piante (Fascination of Plants Day)\, domenica 22 maggio la Giornata mondiale della Biodiversità (World Biodiversity Day): due importanti ricorrenze che l’Orto botanico di Padova intende celebrare proponendo Affascinante natura\, una serie di incontri\, laboratori e giochi dedicati al pubblico di ogni età incentrati sulla straordinaria bellezza delle piante e della biodiversità\, elementi fondamentali per la vita sulla Terra. \nL’iniziativa vede la partecipazione di docenti\, ricercatori e ricercatrici\, studentesse e studenti dell’Università di Padova impegnati nello studio del mondo naturale\, che trovano nell’Orto un punto di riferimento per quanto riguarda la conservazione delle specie\, la ricerca sulle piante\, la valorizzazione e la divulgazione del sapere scientifico. \n  \nATTIVITÀ GRATUITE\, SU PRENOTAZIONE \nMercoledì 18 maggio – ore 18.30\nPANE E NOCI\nPresentazione di libro e reading musicale con Lucio Montecchio e Giorgio Gobbo \n  \nATTIVITÀ COMPRESE NEL BIGLIETTO D’INGRESSO\, SENZA PRENOTAZIONE \nSabato 21 maggio – ore 14-18 | domenica 22 maggio – ore 10-13 e 14-18\nVIAGGIO AL CENTRO DELLA TERRA\nLaboratorio tout public\na cura delle studentesse e degli studenti dell’insegnamento di Divulgazione e museologia naturalistica \nCosa si nasconde sotto la crosta terrestre? Cosa ci possono insegnare rocce\, fossili e minerali? Come si sono formate le montagne? Un vero e proprio viaggio alla scoperta delle meraviglie nascoste della Terra. \n  \nSabato 21 maggio – ore 14-19 | domenica 22 maggio – ore 10-13 e 14-19\nQUANTI FRUTTI CONOSCI?\nLaboratorio tout public\na cura dei ricercatori e delle ricercatrici dell’Orto botanico di Padova \nCome si riconoscono le diverse tipologie di frutti? Tra varietà di forme\, consistenze\, dimensioni e colorazioni\, i partecipanti impareranno a destreggiarsi tra drupe\, bacche\, falsi frutti e frutti composti. Un’ attività per riflettere anche su quali siano le diverse strategie che le piante utilizzano per disperdere i semi!\nQuesto progetto ha ricevuto finanziamenti dal programma di ricerca e innovazione Horizon 2020 dell’Unione Europea nell’ambito dell’accordo di sovvenzione Marie Skłodowska-Curie no. 101007738. \n  \nATTIVITÀ COMPRESE NEL BIGLIETTO D’INGRESSO\, SU PRENOTAZIONE \nSabato 21 maggio – ore 14.30 e 16.30 \nUN TESORO DI TERRA\nLaboratorio (età consigliata: 7–10 anni)\na cura delle studentesse e degli studenti dell’insegnamento di Divulgazione e museologia naturalistica \nPerché il suolo è fondamentale per la vita sulla Terra? Molto spesso l’attività umana diventa una minaccia per la vita del nostro Pianeta. Attraverso questo laboratorio i partecipanti andranno ad approfondire il fenomeno dell’erosione del suolo e il suo legame con i cambiamenti climatici. \n  \nSabato 21 maggio – ore 16 | domenica 22 maggio – ore 10.30 e 16 \nLA SCIENZA DEI POKÉMON\nVisita guidata tematica (età consigliata: dagli 8 anni)\na cura delle studentesse e degli studenti dell’insegnamento di Divulgazione e museologia naturalistica \nScienza e natura sono presenti nel mondo Pokémon molto più di quello che si possa immaginare. Accompagnati dalla Professoressa Acacia\, gli “Allenatori” andranno alla scoperta dei Pokémon ispirati al mondo naturale che si nascondono tra le piante dell’Orto botanico. \n  \nSabato 21 maggio – ore 15 e 17\n \nNON SOLO API\nGioco (età consigliata: 8-12 anni)\na cura delle studentesse e degli studenti dell’insegnamento di Divulgazione e museologia naturalistica \nUn gioco a squadre per conoscere l’incredibile mondo degli insetti impollinatori e il loro ruolo fondamentale per la salvaguardia degli equilibri del nostro Pianeta. \n  \nSabato 21 maggio – ore 15.30 e 17.30 \nNATURA FANTASY\nGioco (età consigliata: dai 10 anni)\na cura delle studentesse e degli studenti dell’insegnamento di Divulgazione e museologia naturalistica \nConservazione di specie a rischio e tutela degli habitat naturali. Ecco alcune tematiche che i giocatori affronteranno in un’avventura stile fantasy nelle vesti di strani personaggi come elfi\, orchi e tante altre specie immaginarie! \n  \nDomenica 22 maggio – ore 11 e 16 \nPICCOLO VERDE\nPresentazione del libro e laboratorio (età consigliata: 4-8 anni)\na cura di Chiara Carminati e Massimiliano Tappari \nNella fretta quotidiana non capita spesso di soffermarsi ad osservare un ciuffo d’erba che spunta tra le crepe dell’asfalto o le piccole fioriture di stagione che affermano la loro presenza nei luoghi più impensabili. Un’attività che invita ad osservare attentamente le minuscole meraviglie che fanno capolino dai nostri marciapiedi\, insieme a Chiara Carminati e Massimiliano Tappari\, autori del nuovo libro della collana dell’Orto botanico “Piccolo verde”. \n  \nDomenica 22 maggio – ore 11\, 14.30 e 16.30 \nTANTI OCCHI\, MILLE COLORI\nLaboratorio (età consigliata: 6-10 anni)\na cura delle studentesse e degli studenti dell’insegnamento di Divulgazione e museologia naturalistica \nCome funzionano gli occhi degli animali? Quanto è diverso il loro modo di vedere il mondo? Una simpatica attività per scoprire con quanti colori il mondo appare alla vista degli animali. \n  \nDomenica 22 maggio – ore 11.30\, 15.30 e 17.30 \nSENZA CONFINI. VIAGGIO ALLA SCOPERTA DELL’UMANITÀ\nAttività itinerante (età consigliata: dai 14 anni)\na cura delle studentesse e degli studenti dell’insegnamento di Divulgazione e museologia naturalistica \nLa nostra storia\, quella dell’essere umano\, è fatta di molte ramificazioni\, di viaggi\, di scambi e incontri. Ma quali sono i segreti della nostra evoluzione? Tante domande per tentare di rispondere a un quesito vecchio quanto l’umanità: chi siamo? \n  \n  \n  \n 
URL:https://ortobotanico1545.it/eventi/affascinante-natura/
CATEGORIES:Giornate speciali
ATTACH;FMTTYPE=image/jpeg:https://ortobotanico1545.it/wp-content/uploads/2024/10/Affascinante-natura_960x400.jpg
END:VEVENT
BEGIN:VEVENT
DTSTART;TZID=Europe/Rome:20230521T103000
DTEND;TZID=Europe/Rome:20230521T113000
DTSTAMP:20260422T042927
CREATED:20241001T095146Z
LAST-MODIFIED:20241027T211510Z
UID:2773-1684665000-1684668600@ortobotanico1545.it
SUMMARY:Solo dance. Api solitarie e api selvatiche
DESCRIPTION:Domenica 21 maggio alle 10.30\, alla conclusione della settimana del Fascination of Plants Day\, l’Orto botanico di Padova propone il primo appuntamento KIDS dell’edizione 2023 di Racconti della Natura. \nSolo dance. Api solitarie e api selvatiche è un albo illustrato che conduce alla scoperta del mondo delle api\, soffermandosi però su quelle non domestiche\, quelle che “ballano da sole”\, come suggerisce il titolo: maestosi bombi\, grandi api legnaiole dal colore blu metallizzato\, api cardatrici\, api cuculo e molte altre\, tra le 940 specie presenti in Italia. Questi insetti impollinatori sono sotto gli occhi di tutti e sono di fondamentale importanza per i nostri ecosistemi\, eppure sono poco noti. Conoscerli è il primo fondamentale passo per poterli apprezzare e proteggere. \nLa presentazione del libro è accompagnata da un’attività ludico-didattica a cura dell’illustratrice Valentina Gottardi e dell’autore Maciej Michno. L’evento\, dedicato ai bambini e alle bambine dai 6 ai 12 anni\, è compreso nel biglietto di ingresso all’Orto botanico e si tiene all’aperto (in caso di maltempo\, in uno spazio coperto). \nSolo dance. Api solitarie e api selvatiche (di Valentina Gottardi\, Maciej Michno e Danio Miserocchi – edizioni Cocai Books)\, è in vendita presso il bookshop dal 21 maggio. Al termine dell’evento è previsto un breve firmacopie. \n  \nValentina Gottardi è designer e illustratrice. Lavora nell’ambito della progettazione grafica e dell’illustrazione per il digitale ed è specializzata in particolare nell’illustrazione naturalistica e scientifica\, soprattutto in ambito didattico e allestitivo. È ideatrice del progetto Cocai Design/Cocai Books\, con cui crea e produce materiale didattico montessoriano a tema naturalistico. \nMaciej Michno è informatico\, specializzato in architettura dell’informazione. Si occupa di testi\, traduzioni\, siti internet e software.
URL:https://ortobotanico1545.it/eventi/solo-dance-api-solitarie-e-api-selvatiche/
END:VEVENT
END:VCALENDAR