BEGIN:VCALENDAR
VERSION:2.0
PRODID:-//Orto Botanico di Padova - ECPv6.15.19//NONSGML v1.0//EN
CALSCALE:GREGORIAN
METHOD:PUBLISH
X-ORIGINAL-URL:https://ortobotanico1545.it
X-WR-CALDESC:Eventi per Orto Botanico di Padova
REFRESH-INTERVAL;VALUE=DURATION:PT1H
X-Robots-Tag:noindex
X-PUBLISHED-TTL:PT1H
BEGIN:VTIMEZONE
TZID:Europe/Rome
BEGIN:DAYLIGHT
TZOFFSETFROM:+0100
TZOFFSETTO:+0200
TZNAME:CEST
DTSTART:20220327T010000
END:DAYLIGHT
BEGIN:STANDARD
TZOFFSETFROM:+0200
TZOFFSETTO:+0100
TZNAME:CET
DTSTART:20221030T010000
END:STANDARD
BEGIN:DAYLIGHT
TZOFFSETFROM:+0100
TZOFFSETTO:+0200
TZNAME:CEST
DTSTART:20230326T010000
END:DAYLIGHT
BEGIN:STANDARD
TZOFFSETFROM:+0200
TZOFFSETTO:+0100
TZNAME:CET
DTSTART:20231029T010000
END:STANDARD
BEGIN:DAYLIGHT
TZOFFSETFROM:+0100
TZOFFSETTO:+0200
TZNAME:CEST
DTSTART:20240331T010000
END:DAYLIGHT
BEGIN:STANDARD
TZOFFSETFROM:+0200
TZOFFSETTO:+0100
TZNAME:CET
DTSTART:20241027T010000
END:STANDARD
END:VTIMEZONE
BEGIN:VEVENT
DTSTART;TZID=Europe/Rome:20230321T180000
DTEND;TZID=Europe/Rome:20231214T190000
DTSTAMP:20260422T025711
CREATED:20241001T095111Z
LAST-MODIFIED:20241120T084429Z
UID:2713-1679421600-1702580400@ortobotanico1545.it
SUMMARY:Racconti della Natura 2023
DESCRIPTION:Racconti della Natura è una rassegna di appuntamenti letterari\, organizzati dall’Orto botanico dell’Università di Padova\, che ruotano attorno al tema della scrittura come mezzo privilegiato per raccontare la natura che ci circonda. \nAPPUNTAMENTI \nRacconti della Natura \n\n\n21 marzo\, ore 18 – Brunella Torresin\, Nel gran teatro della natura. Maria Sibylla Merian\, donna d’arte e di scienza 1647-1717\, Edizioni Pendragon – dialogo con Elena Canadelli e visita al Museo botanico\n20 giugno ore 18.30 – Daniele Zovi\, Caccia al topo. Una storia di uomini\, animali\, trappole e amicizie\, UTET – presentazione del libro in dialogo con Renato Semenzato\n5 luglio ore 18.30 – Giuseppe Barbera\, Agrumi. Una storia del mondo\, Il Saggiatore – presentazione del libro e visita guidata\n23 settembre ore 10.30 – Barbara Bernardini\, Dall’Orto al mondo. Piccolo manuale di resistenza ecologica\, Nottetempo – presentazione del libro in dialogo con Roberto Tacchetto\n7 ottobre ore 10 – Jacopo Starace\, Essere montagna\, BAO Publishing – presentazione del libro e workshop di fumetto a cura dell’autore\n14 dicembre ore 18 – Massimo De Giuseppe\, Cacao\, la pianta che attraversa il tempo\, Carocci Editore – presentazione del libro in dialogo con Rafael Gaune e Mario Sartor\n\nRacconti della Natura KIDS \n\n\n21 maggio ore 10.30 – Valentina Gottardi\, Danio Miserocchi\, Maciej Michno\, Solo dance. Api solitarie e api selvatiche\, Cocai Books – presentazione del libro e attività ludico-didattica\n27 agosto ore 10.30 – Arianna Papini\, Prima di tagliare un albero\, Camelozampa – presentazione del libro e laboratorio creativo per persone di tutte le età\n26 novembre ore 10.30 – Irene Penazzi\, Un anno tra gli alberi (testi di Valentina Levrini\, illustrazioni di Irene Penazzi)\, Terre di mezzo Editore – presentazione del libro e attività ludico-didattica
URL:https://ortobotanico1545.it/eventi/racconti-della-natura/
CATEGORIES:Racconti della Natura
END:VEVENT
BEGIN:VEVENT
DTSTART;TZID=Europe/Rome:20230620T183000
DTEND;TZID=Europe/Rome:20230620T193000
DTSTAMP:20260422T025711
CREATED:20241001T095157Z
LAST-MODIFIED:20241027T210403Z
UID:2792-1687285800-1687289400@ortobotanico1545.it
SUMMARY:Caccia al topo
DESCRIPTION:Il mondo è un posto pericoloso e spesso nessuno che venga a salvarci. Forse nella gentilezza\, nell’amore per quello che ci circonda possiamo trovare la speranza\, nella natura possiamo trovare la libertà.\nDaniele Zovi \n  \nMartedì 20 giugno\, alle ore 18.30\, il Teatro botanico ospita un nuovo appuntamento di Racconti della Natura: Daniele Zovi\, scrittore e divulgatore esperto di foreste e animali\, presenta il suo ultimo libro\, Caccia al topo\, edito da UTET\, una storia di uomini\, animali\, trappole e amicizie. \nUna sera\, nella sua casa sull’altopiano di Asiago\, l’autore scopre un topolino. È immobile sui gradini che portano alle camere da letto e\, nonostante la presenza di un umano\, non fugge\, anzi resta lì con gli occhi fissi nei suoi. È così che Zovi\, profondo conoscitore della natura ed esperto amante degli animali\, comincia la sua caccia al topo. I topi mangiano le sue provviste\, rosicchiano le prese e lasciano spiacevoli tracce in tutte le stanze ma lui\, dopo quello scambio di sguardi\, non vuole ucciderli\, solo catturarli per poi rimetterli in natura. In un susseguirsi di tentativi a tratti esilaranti\, acquista trappole sempre più sofisticate\, ma gli avversari sono astuti e l’impresa si rivela più difficile del previsto… \nLa presentazione del libro è un dialogo tra l’autore e Renato Semenzato\, biologo della Conservazione della Natura e della Gestione della Fauna Selvatica\, in una riflessione sul nostro rapporto con gli animali\, sul modo in cui li sfruttiamo e su come interagiamo con loro durante la nostra vita. Modera l’incontro Sofia Belardinelli\, giornalista de Il Bo Live. \nIn chiusura è previsto un breve firmacopie. Caccia al topo è in vendita presso il bookshop dell’Orto a partire dal 20 giugno. L’evento è gratuito. \n  \nDaniele Zovi\, originario di Roana (VI)\, si è laureato in Scienze forestali all’Università di Padova nel 1975 e per quarant’anni ha prestato servizio nel Corpo forestale dello Stato. È autore di numerosi libri e articoli su riviste scientifiche\, oltre che di documentari storico-naturalistici.
URL:https://ortobotanico1545.it/eventi/caccia-al-topo/
END:VEVENT
END:VCALENDAR