BEGIN:VCALENDAR
VERSION:2.0
PRODID:-//Orto Botanico di Padova - ECPv6.15.19//NONSGML v1.0//EN
CALSCALE:GREGORIAN
METHOD:PUBLISH
X-ORIGINAL-URL:https://ortobotanico1545.it
X-WR-CALDESC:Eventi per Orto Botanico di Padova
REFRESH-INTERVAL;VALUE=DURATION:PT1H
X-Robots-Tag:noindex
X-PUBLISHED-TTL:PT1H
BEGIN:VTIMEZONE
TZID:Europe/Rome
BEGIN:DAYLIGHT
TZOFFSETFROM:+0100
TZOFFSETTO:+0200
TZNAME:CEST
DTSTART:20230326T010000
END:DAYLIGHT
BEGIN:STANDARD
TZOFFSETFROM:+0200
TZOFFSETTO:+0100
TZNAME:CET
DTSTART:20231029T010000
END:STANDARD
BEGIN:DAYLIGHT
TZOFFSETFROM:+0100
TZOFFSETTO:+0200
TZNAME:CEST
DTSTART:20240331T010000
END:DAYLIGHT
BEGIN:STANDARD
TZOFFSETFROM:+0200
TZOFFSETTO:+0100
TZNAME:CET
DTSTART:20241027T010000
END:STANDARD
BEGIN:DAYLIGHT
TZOFFSETFROM:+0100
TZOFFSETTO:+0200
TZNAME:CEST
DTSTART:20250330T010000
END:DAYLIGHT
BEGIN:STANDARD
TZOFFSETFROM:+0200
TZOFFSETTO:+0100
TZNAME:CET
DTSTART:20251026T010000
END:STANDARD
BEGIN:DAYLIGHT
TZOFFSETFROM:+0100
TZOFFSETTO:+0200
TZNAME:CEST
DTSTART:20260329T010000
END:DAYLIGHT
BEGIN:STANDARD
TZOFFSETFROM:+0200
TZOFFSETTO:+0100
TZNAME:CET
DTSTART:20261025T010000
END:STANDARD
END:VTIMEZONE
BEGIN:VEVENT
DTSTART;TZID=Europe/Rome:20240425T100000
DTEND;TZID=Europe/Rome:20250106T170000
DTSTAMP:20260420T234426
CREATED:20241016T153643Z
LAST-MODIFIED:20250128T134738Z
UID:3793-1714039200-1736182800@ortobotanico1545.it
SUMMARY:Le piante\, agli occhi della scienza
DESCRIPTION:Dalle prime riproduzioni fotografiche ottenute a fini scientifici alle illustrazioni moderne: microscopie\, infrarossi\, ultravioletti\, immagini satellitari\, timelapse raccontano i temi del contemporaneo\, dal cambiamento climatico alla qualità dell’aria\, dalla sostenibilità agricola alla gestione del verde urbano e forestale. Approda a Padova la sezione fotografica della mostra Impronte – Noi e le piante\, realizzata dall’Orto botanico dell’Università di Parma (Parma\, gennaio/marzo 2024). \nStoricamente le finalità delle immagini di piante sono inizialmente pratiche e didattiche: le illustrazioni non servono a scoprire il mondo vegetale\, ma a formare la classe medica sulle piante curative. Le raffigurazioni iniziali hanno spesso carattere decorativo\, risultando inservibili per il riconoscimento certo delle specie ma utili per memorizzare e studiare\, mentre l’attenzione per la biodiversità emergerà più tardi. \nSe un tempo i botanici portavano con sé gli illustratori in campo\, oggi i ricercatori accolgono in laboratorio artisti visuali per creare immagini scientificamente ineccepibili e potenziate nelle cromie. Sono figure digitali con funzione di ricerca e disseminazione\, che finiscono sulle copertine delle riviste scientifiche più prestigiose e contaminano con un pizzico di estro umano l’oggettività della scienza. \nLe piante\, agli occhi della scienza apre giovedì 25 aprile in occasione del festival Risvegli ed è visitabile in Foyer negli orari di apertura dell’Orto\, compresa nel biglietto d’ingresso\, fino al 6 gennaio 2025. \nDal 7 luglio sono inoltre disponibili al piano terra del foyer i video dell’installazione Il caleidoscopio della Natura in cui si possono ammirare le diatomee\, antiche alghe unicellulari comparse sulla Terra più di 100 milioni di anni fa\, conservate in una collezione del Museo botanico.
URL:https://ortobotanico1545.it/eventi/le-piante-agli-occhi-della-scienza-2/
CATEGORIES:Mostre e installazioni
ATTACH;FMTTYPE=image/jpeg:https://ortobotanico1545.it/wp-content/uploads/2024/10/Plains-Coreopsis-Pair-2_62x42.jpg
END:VEVENT
BEGIN:VEVENT
DTSTART;VALUE=DATE:20240703
DTEND;VALUE=DATE:20240815
DTSTAMP:20260420T234426
CREATED:20241001T095114Z
LAST-MODIFIED:20241119T170849Z
UID:2718-1719964800-1723679999@ortobotanico1545.it
SUMMARY:Visite guidate tematiche
DESCRIPTION:Durante l’estate sono previste diverse visite tematiche; il biglietto d’ingresso (tariffa unica 6 euro) è acquistabile online o presso la biglietteria dell’Orto (aperta dal martedì alla domenica e nei giorni festivi dalle 10 alle 18.15) fino ad esaurimento dei posti\, non è rimborsabile e resterà valido anche nella data di recupero\, indicata sotto a ciascun evento. \n  \nMERCOLEDÌ 3 LUGLIO (ore 20.30\, 21\, 21.30)\n \nStasera al Museo botanico \nUna visita serale speciale al Museo botanico alla scoperta della storia dell’Orto botanico\, delle sue piante e di chi le ha raccolte: un viaggio unico attraverso i secoli per raccontare il rapporto tra botanica e medicina\, la didattica\, l’evoluzione delle discipline botaniche e dell’importanza che gli orti botanici ricoprono nella difesa della biodiversità. L’evento è garantito anche in caso di maltempo. \n  \nMERCOLEDÌ 31 LUGLIO (ore 20.30\, 21\, 21.30)\n \nUn milione di spezie \nLe spezie per secoli furono motivo di viaggi\, l’occasione per tracciare vie che superavano i confini tra Oriente e Occidente favorendo incontri tra genti diverse. Nell’anno delle celebrazioni della figura di Marco Polo\, una visita guidata accompagnati da storie di grandi botanici e viaggiatori alla ricerca di piante sconosciute. In caso di maltempo\, l’evento sarà rimandato a giovedì 1 agosto. \n  \nMERCOLEDì 7 AGOSTO (ore 18\, 19.30)\n \nPasseggiata aliena \nArgomento dai più ancora poco conosciuto\, le specie aliene invasive sono piante che arrivano e si diffondono in ambienti diversi da quelli originari. Gli orti botanici sono i luoghi ideali per conoscere queste specie e per comprendere il fenomeno di dimensioni globali delle invasioni biologiche. Ma non siamo solo noi ad essere invasi\, possiamo guardare il problema da una prospettiva inedita: quali e quante specie europee invasive ci sono in giro per il mondo? \nIn collaborazione con Servizio Biodiversità\, Regione Autonoma Friuli Venezia Giulia – Giardino Botanico Carsiana In caso di maltempo\, l’evento sarà rimandato a giovedì 8 agosto. \n  \nMERCOLEDì 14 AGOSTO (ore 20.30\, 21\, 21.30)\n \nIl giardino segreto \nUna visita guidata alla scoperta dell’Orto botanico in versione serale: accompagnati dal solo rumore degli zampilli delle fontane e con il cammino illuminato da lampade ad olio\, i visitatori sono guidati alla scoperta di piante e storie da tutto il mondo. In caso di maltempo\, l’appuntamento è confermato e si articolerà in una visita al Museo botanico
URL:https://ortobotanico1545.it/eventi/visite-guidate-tematiche/
CATEGORIES:Estate all'Orto 2024
ATTACH;FMTTYPE=image/png:https://ortobotanico1545.it/wp-content/uploads/2024/10/visiteguidate-estate-3.png
END:VEVENT
BEGIN:VEVENT
DTSTART;TZID=Europe/Rome:20240709T060000
DTEND;TZID=Europe/Rome:20240819T230000
DTSTAMP:20260420T234426
CREATED:20241001T095115Z
LAST-MODIFIED:20241120T082503Z
UID:2720-1720504800-1724108400@ortobotanico1545.it
SUMMARY:Dancing Strides - Harvest
DESCRIPTION:Dancing Strides è un progetto di BASE 9 che unisce l’azione della camminata collettiva alle pratiche coreografiche\, in cui chi partecipa viene guidato nell’attivazione sensoriale e corporea in relazione a ciò che ha intorno\, per riscoprire un senso di connessione con se stessi\, con le altre persone e con l’ambiente circostante attraverso i sensi\, il movimento e la danza. Gli eventi sono itineranti. Il biglietto (tariffa unica 6 euro; gratuito 0-5 anni) è acquistabile online o presso la biglietteria dell’Orto (aperta dal martedì alla domenica e nei giorni festivi dalle 10 alle 18.15)\, fino ad esaurimento dei posti disponibili. \n  \nDANCING STRIDE – HARVEST\, FLOWER EDITION \nMentre l’Orto botanico si sveglia e si attiva\, due danzatrici invitano ad un risveglio sensoriale e corporeo portando l’attenzione sui fiori dell’Orto botanico e raccogliendo stimoli percettivi e di movimento da questi. La camminata porta a esplorare i modi con cui il corpo può leggere\, tradurre e farsi muovere da ciò che incontra. \n\nmartedì 9 luglio\, ore 6 e ore 7.30\n\nDANCING STRIDE – HARVEST\, TIME EDITION \nIn un Orto botanico illuminato dalla luna piena\, due danzatrici invitano a raccogliere stimoli percettivi e di movimento lungo il percorso\, attivando una riflessione sullo scorrere del tempo. Ad ogni tappa il nostro sguardo e il nostro ascolto si soffermano su un elemento\, per esplorare come il corpo lo può leggere e tradurre\, per chiederci quali sono i segni del passare del tempo e scoprire come questa esperienza può creare connessione tra le persone presenti e l’ambiente che le ospita. \n\nlunedì 22 luglio\, ore 22 \nlunedì 19 agosto\, ore 22 \n\nLa passeggiata in programma per lunedì 19 agosto è annullata per maltempo ed è rinviata a martedì 20 agosto. I biglietti acquistati per il 19 agosto rimangono validi anche per la data di recupero; la prenotazione effettuata per il 20 agosto non consente la diretta partecipazione all’attività; è necessario presentare la mail di conferma in biglietteria e provvedere al pagamento del biglietto di ingresso (tariffa unica 6 euro; gratuito 0-5 anni). \n  \nBase 9 è un’associazione culturale fondata nel 2022\, che si occupa di progetti performativi\, partecipativi\, formativi e di ricerca attraverso il movimento\, la danza e la coreografia. I suoi progetti vengono ospitati presso numerosi festival\, musei\, spazi urbani e naturali. BASE 9 esplora processi di co-immaginazione e co-creazione radicati in un’idea di reciprocità\, scambio di esperienze e prospettive\, in cui le poetiche collettive e individuali si nutrono a vicenda. Dancing Strides #4 – Harvest è guidata e danzata da Isabel Paladin\, Beatrice Bresolin\, Giovanna Garzotto e Elena Sgarbossa.
URL:https://ortobotanico1545.it/eventi/dancing-strides-harvest/
CATEGORIES:Estate all'Orto 2024
ATTACH;FMTTYPE=image/png:https://ortobotanico1545.it/wp-content/uploads/2024/10/dancingstrides-estate-2.png
END:VEVENT
END:VCALENDAR