BEGIN:VCALENDAR
VERSION:2.0
PRODID:-//Orto Botanico di Padova - ECPv6.15.19//NONSGML v1.0//EN
CALSCALE:GREGORIAN
METHOD:PUBLISH
X-WR-CALNAME:Orto Botanico di Padova
X-ORIGINAL-URL:https://ortobotanico1545.it
X-WR-CALDESC:Eventi per Orto Botanico di Padova
REFRESH-INTERVAL;VALUE=DURATION:PT1H
X-Robots-Tag:noindex
X-PUBLISHED-TTL:PT1H
BEGIN:VTIMEZONE
TZID:Europe/Rome
BEGIN:DAYLIGHT
TZOFFSETFROM:+0100
TZOFFSETTO:+0200
TZNAME:CEST
DTSTART:20230326T010000
END:DAYLIGHT
BEGIN:STANDARD
TZOFFSETFROM:+0200
TZOFFSETTO:+0100
TZNAME:CET
DTSTART:20231029T010000
END:STANDARD
BEGIN:DAYLIGHT
TZOFFSETFROM:+0100
TZOFFSETTO:+0200
TZNAME:CEST
DTSTART:20240331T010000
END:DAYLIGHT
BEGIN:STANDARD
TZOFFSETFROM:+0200
TZOFFSETTO:+0100
TZNAME:CET
DTSTART:20241027T010000
END:STANDARD
BEGIN:DAYLIGHT
TZOFFSETFROM:+0100
TZOFFSETTO:+0200
TZNAME:CEST
DTSTART:20250330T010000
END:DAYLIGHT
BEGIN:STANDARD
TZOFFSETFROM:+0200
TZOFFSETTO:+0100
TZNAME:CET
DTSTART:20251026T010000
END:STANDARD
BEGIN:DAYLIGHT
TZOFFSETFROM:+0100
TZOFFSETTO:+0200
TZNAME:CEST
DTSTART:20260329T010000
END:DAYLIGHT
BEGIN:STANDARD
TZOFFSETFROM:+0200
TZOFFSETTO:+0100
TZNAME:CET
DTSTART:20261025T010000
END:STANDARD
END:VTIMEZONE
BEGIN:VEVENT
DTSTART;TZID=Europe/Rome:20240425T100000
DTEND;TZID=Europe/Rome:20250106T170000
DTSTAMP:20260420T220756
CREATED:20241016T153643Z
LAST-MODIFIED:20250128T134738Z
UID:3793-1714039200-1736182800@ortobotanico1545.it
SUMMARY:Le piante\, agli occhi della scienza
DESCRIPTION:Dalle prime riproduzioni fotografiche ottenute a fini scientifici alle illustrazioni moderne: microscopie\, infrarossi\, ultravioletti\, immagini satellitari\, timelapse raccontano i temi del contemporaneo\, dal cambiamento climatico alla qualità dell’aria\, dalla sostenibilità agricola alla gestione del verde urbano e forestale. Approda a Padova la sezione fotografica della mostra Impronte – Noi e le piante\, realizzata dall’Orto botanico dell’Università di Parma (Parma\, gennaio/marzo 2024). \nStoricamente le finalità delle immagini di piante sono inizialmente pratiche e didattiche: le illustrazioni non servono a scoprire il mondo vegetale\, ma a formare la classe medica sulle piante curative. Le raffigurazioni iniziali hanno spesso carattere decorativo\, risultando inservibili per il riconoscimento certo delle specie ma utili per memorizzare e studiare\, mentre l’attenzione per la biodiversità emergerà più tardi. \nSe un tempo i botanici portavano con sé gli illustratori in campo\, oggi i ricercatori accolgono in laboratorio artisti visuali per creare immagini scientificamente ineccepibili e potenziate nelle cromie. Sono figure digitali con funzione di ricerca e disseminazione\, che finiscono sulle copertine delle riviste scientifiche più prestigiose e contaminano con un pizzico di estro umano l’oggettività della scienza. \nLe piante\, agli occhi della scienza apre giovedì 25 aprile in occasione del festival Risvegli ed è visitabile in Foyer negli orari di apertura dell’Orto\, compresa nel biglietto d’ingresso\, fino al 6 gennaio 2025. \nDal 7 luglio sono inoltre disponibili al piano terra del foyer i video dell’installazione Il caleidoscopio della Natura in cui si possono ammirare le diatomee\, antiche alghe unicellulari comparse sulla Terra più di 100 milioni di anni fa\, conservate in una collezione del Museo botanico.
URL:https://ortobotanico1545.it/eventi/le-piante-agli-occhi-della-scienza-2/
CATEGORIES:Mostre e installazioni
ATTACH;FMTTYPE=image/jpeg:https://ortobotanico1545.it/wp-content/uploads/2024/10/Plains-Coreopsis-Pair-2_62x42.jpg
END:VEVENT
BEGIN:VEVENT
DTSTART;TZID=Europe/Rome:20240922T103000
DTEND;TZID=Europe/Rome:20240922T120000
DTSTAMP:20260420T220756
CREATED:20241120T122057Z
LAST-MODIFIED:20241120T122248Z
UID:5657-1727001000-1727006400@ortobotanico1545.it
SUMMARY:Alfabeti naturali
DESCRIPTION:“La capacità di vedere i pattern ha aiutato l’uomo a prevedere\, riconoscere\, progettare\, trasformare\, inventare\, pensare. I pattern non si formano dal nulla. Sono il modo in cui gli elementi naturali – acqua\, aria\, minerali… – si muovono o si trasformano e in cui la vita cresce\, cambia e si adatta agli ambienti.”\nFederica Buglioni \nDomenica 22 settembre alle 10.30 l’Orto botanico di Padova propone un nuovo appuntamento KIDS della rassegna Racconti della Natura dedicato al libro Alfabeti naturali (Topipittori). \nLa natura è un intreccio di forme e simmetrie\, strutture che si ripetono e raccontano le dinamiche profonde che regolano l’universo. Righe\, spirali\, ramificazioni e altre forme geometriche si manifestano ovunque\, da una semplice foglia a un’intera galassia. Accompagnati dall’autrice Federica Buglioni\, con le straordinarie illustrazioni di Luogo Comune\, i partecipanti saranno accompagnati alla scoperta di questi affascinanti schemi naturali e a imparare a riconoscerli nel mondo che ci circonda\, attivando una riflessione sulle regole della natura e sui modi in cui essa crea\, evolve e si trasforma. Un’occasione per imparare a osservare con attenzione e scoprire le connessioni tra fenomeni apparentemente distanti\, come le spirali di una chiocciola e quelle di una galassia. Un’opportunità speciale per osservare da vicino le meraviglie dell’Orto botanico alla ricerca dei pattern che lo popolano\, scoprendo così le leggi invisibili che regolano la vita e l’universo. \nL’evento\, pensato per bambine e bambini dai 6 anni\, è compreso nel biglietto di ingresso ed è itinerante; segue poi un’attività didattica per tutta la famiglia. Per partecipare è richiesta la prenotazione online. \nAlfabeti naturali è in vendita presso il bookshop a partire dal 22 settembre. Al termine dell’evento è previsto un breve firmacopie. \nFederica Buglioni\nFederica Buglioni progetta e conduce laboratori di cucina e di educazione alimentare e naturale per bambini\, oltre che corsi di formazione per insegnanti. Ha fondato e diretto per 15 anni l’associazione “Bambini in cucina” ed è autrice di volumi per adulti e bambini\, collaboratrice di UPPA\, membro della redazione di Milanoperibambini.it e del comitato scientifico di Foodinsider (l’osservatorio nazionale delle mense scolastiche). Attraverso i libri\, i corsi di formazione e i laboratori ludico-didattici\, promuove il valore affettivo ed educativo del cucinare con i bambini\, assieme a un approccio all’educazione alimentare e ambientale fondato sul piacere del fare. Appassionata di natura\, cucina\, pedagogia e didattica\, ha ideato il “Manifesto dei diritti alimentari dei bambini”. Nel 2022 ha vinto il Premio Andersen come Protagonista della cultura per l’infanzia. Il suo ultimo libro è “Alfabeti Naturali” (Topipittori)\, vincitore del premio Bambini e Natura 2023.
URL:https://ortobotanico1545.it/eventi/alfabeti-naturali/
CATEGORIES:Racconti della Natura
ATTACH;FMTTYPE=image/png:https://ortobotanico1545.it/wp-content/uploads/2024/11/alfabetinaturali_paginaintera-1.png
END:VEVENT
END:VCALENDAR