BEGIN:VCALENDAR
VERSION:2.0
PRODID:-//Orto Botanico di Padova - ECPv6.15.19//NONSGML v1.0//EN
CALSCALE:GREGORIAN
METHOD:PUBLISH
X-WR-CALNAME:Orto Botanico di Padova
X-ORIGINAL-URL:https://ortobotanico1545.it
X-WR-CALDESC:Eventi per Orto Botanico di Padova
REFRESH-INTERVAL;VALUE=DURATION:PT1H
X-Robots-Tag:noindex
X-PUBLISHED-TTL:PT1H
BEGIN:VTIMEZONE
TZID:Europe/Rome
BEGIN:DAYLIGHT
TZOFFSETFROM:+0100
TZOFFSETTO:+0200
TZNAME:CEST
DTSTART:20240331T010000
END:DAYLIGHT
BEGIN:STANDARD
TZOFFSETFROM:+0200
TZOFFSETTO:+0100
TZNAME:CET
DTSTART:20241027T010000
END:STANDARD
BEGIN:DAYLIGHT
TZOFFSETFROM:+0100
TZOFFSETTO:+0200
TZNAME:CEST
DTSTART:20250330T010000
END:DAYLIGHT
BEGIN:STANDARD
TZOFFSETFROM:+0200
TZOFFSETTO:+0100
TZNAME:CET
DTSTART:20251026T010000
END:STANDARD
BEGIN:DAYLIGHT
TZOFFSETFROM:+0100
TZOFFSETTO:+0200
TZNAME:CEST
DTSTART:20260329T010000
END:DAYLIGHT
BEGIN:STANDARD
TZOFFSETFROM:+0200
TZOFFSETTO:+0100
TZNAME:CET
DTSTART:20261025T010000
END:STANDARD
END:VTIMEZONE
BEGIN:VEVENT
DTSTART;TZID=Europe/Rome:20250320T170000
DTEND;TZID=Europe/Rome:20250320T190000
DTSTAMP:20260420T112719
CREATED:20250311T171225Z
LAST-MODIFIED:20250324T083251Z
UID:6610-1742490000-1742497200@ortobotanico1545.it
SUMMARY:Università svelate
DESCRIPTION:Il 20 marzo\, in occasione della Giornata nazionale delle università italiane\, l’Orto botanico partecipa con tutta l’Università di Padova all’iniziativa “Università svelate”: una giornata dedicata alla celebrazione del sapere e dell’istruzione\, un momento di condivisione con la cittadinanza del patrimonio scientifico e culturale.\nL’Orto botanico vi prende parte con una visita guidata dalla conservatrice del Museo botanico: un’occasione da non perdere per mettere in evidenza l’importanza degli erbari e il loro ruolo come strumenti di ricerca e conoscenza. \nLe tante facce della botanica (ore 17 e 18)\nDagli erbari alle moderne ricerche\, il Museo botanico conserva secoli di studi sulle piante. Modelli botanici e strumenti scientifici testimoniano l’evoluzione della botanica e il suo contributo alla conoscenza e conservazione della biodiversità. \nLa partecipazione è gratuita\, su prenotazione\, e prevede una visita guidata della durata di un’ora\, senza la visita completa dell’Orto botanico.
URL:https://ortobotanico1545.it/eventi/universita-svelate/
CATEGORIES:Giornate speciali
ATTACH;FMTTYPE=image/jpeg:https://ortobotanico1545.it/wp-content/uploads/2025/03/Galleria-erbari-1-scaled.jpg
END:VEVENT
END:VCALENDAR