BEGIN:VCALENDAR
VERSION:2.0
PRODID:-//Orto Botanico di Padova - ECPv6.15.19//NONSGML v1.0//EN
CALSCALE:GREGORIAN
METHOD:PUBLISH
X-ORIGINAL-URL:https://ortobotanico1545.it
X-WR-CALDESC:Eventi per Orto Botanico di Padova
REFRESH-INTERVAL;VALUE=DURATION:PT1H
X-Robots-Tag:noindex
X-PUBLISHED-TTL:PT1H
BEGIN:VTIMEZONE
TZID:Europe/Rome
BEGIN:DAYLIGHT
TZOFFSETFROM:+0100
TZOFFSETTO:+0200
TZNAME:CEST
DTSTART:20240331T010000
END:DAYLIGHT
BEGIN:STANDARD
TZOFFSETFROM:+0200
TZOFFSETTO:+0100
TZNAME:CET
DTSTART:20241027T010000
END:STANDARD
BEGIN:DAYLIGHT
TZOFFSETFROM:+0100
TZOFFSETTO:+0200
TZNAME:CEST
DTSTART:20250330T010000
END:DAYLIGHT
BEGIN:STANDARD
TZOFFSETFROM:+0200
TZOFFSETTO:+0100
TZNAME:CET
DTSTART:20251026T010000
END:STANDARD
BEGIN:DAYLIGHT
TZOFFSETFROM:+0100
TZOFFSETTO:+0200
TZNAME:CEST
DTSTART:20260329T010000
END:DAYLIGHT
BEGIN:STANDARD
TZOFFSETFROM:+0200
TZOFFSETTO:+0100
TZNAME:CET
DTSTART:20261025T010000
END:STANDARD
END:VTIMEZONE
BEGIN:VEVENT
DTSTART;TZID=Europe/Rome:20250405T160000
DTEND;TZID=Europe/Rome:20250406T170000
DTSTAMP:20260420T100104
CREATED:20250321T101907Z
LAST-MODIFIED:20250415T142855Z
UID:6770-1743868800-1743958800@ortobotanico1545.it
SUMMARY:Visite guidate primaverili
DESCRIPTION:Con l’arrivo della primavera\, la Natura si risveglia e insieme a lei l’Orto botanico di Padova\, svelando nuove fioriture e colori. \nIl primo giorno di primavera inaugura l’inizio delle visite guidate stagionali\, offrendo l’opportunità di osservare da vicino il risveglio della natura e i primi cambiamenti.\nIl calendario per il terzo fine settimana di visite guidate segue la seguente programmazione: \n\nSabato 5 aprile – ore 16\nDomenica 6 aprile – ore 16\n\nLe visite guidate primaverili proseguono fino a metà aprile: per dettagli sul calendario degli appuntamenti\, modalità di prenotazione e prezzi\, si invita a fare riferimento alla pagina dedicata alle visite guidate stagionali.
URL:https://ortobotanico1545.it/eventi/visite-guidate-primaverili-3/
CATEGORIES:Giornate speciali
ATTACH;FMTTYPE=image/png:https://ortobotanico1545.it/wp-content/uploads/2025/03/visiteprimavera56-1.png
END:VEVENT
END:VCALENDAR