BEGIN:VCALENDAR
VERSION:2.0
PRODID:-//Orto Botanico di Padova - ECPv6.15.19//NONSGML v1.0//EN
CALSCALE:GREGORIAN
METHOD:PUBLISH
X-WR-CALNAME:Orto Botanico di Padova
X-ORIGINAL-URL:https://ortobotanico1545.it
X-WR-CALDESC:Eventi per Orto Botanico di Padova
REFRESH-INTERVAL;VALUE=DURATION:PT1H
X-Robots-Tag:noindex
X-PUBLISHED-TTL:PT1H
BEGIN:VTIMEZONE
TZID:Europe/Rome
BEGIN:DAYLIGHT
TZOFFSETFROM:+0100
TZOFFSETTO:+0200
TZNAME:CEST
DTSTART:20240331T010000
END:DAYLIGHT
BEGIN:STANDARD
TZOFFSETFROM:+0200
TZOFFSETTO:+0100
TZNAME:CET
DTSTART:20241027T010000
END:STANDARD
BEGIN:DAYLIGHT
TZOFFSETFROM:+0100
TZOFFSETTO:+0200
TZNAME:CEST
DTSTART:20250330T010000
END:DAYLIGHT
BEGIN:STANDARD
TZOFFSETFROM:+0200
TZOFFSETTO:+0100
TZNAME:CET
DTSTART:20251026T010000
END:STANDARD
BEGIN:DAYLIGHT
TZOFFSETFROM:+0100
TZOFFSETTO:+0200
TZNAME:CEST
DTSTART:20260329T010000
END:DAYLIGHT
BEGIN:STANDARD
TZOFFSETFROM:+0200
TZOFFSETTO:+0100
TZNAME:CET
DTSTART:20261025T010000
END:STANDARD
END:VTIMEZONE
BEGIN:VEVENT
DTSTART;VALUE=DATE:20250501
DTEND;VALUE=DATE:20250505
DTSTAMP:20260420T083705
CREATED:20250417T145614Z
LAST-MODIFIED:20250501T112738Z
UID:7422-1746057600-1746403199@ortobotanico1545.it
SUMMARY:Primavera svelata
DESCRIPTION:GIOVEDÌ 1\, VENERDÌ 2\, SABATO 3 e DOMENICA 4 MAGGIO – ore 11\, 11.30\, 15\, 16 e 17 (durata 1 ora)\nVisita guidata\nA cura dell’Orto botanico di Padova\nAttività compresa nel biglietto di ingresso | Su prenotazione \nUna visita guidata tra storia ed estetica dove la bellezza dei fiori appena sbocciati\, vere opere d’arte della natura\, si mescola a curiosità e leggende nascoste; il tutto all’interno della cornice unica dell’orto botanico universitario più antico del mondo. \nL’attività è itinerante con ritrovo al Meeting point. \nPer informazioni e prenotazioni è possibile scrivere a prenotazioni@ortobotanicopd.it o contattare il numero 049 827 3939 (attivo tutti i giorni dalle 9 alle 17).
URL:https://ortobotanico1545.it/eventi/primavera-svelata/
CATEGORIES:Giornata di apertura,Visite guidate
ATTACH;FMTTYPE=image/png:https://ortobotanico1545.it/wp-content/uploads/2025/04/36.png
END:VEVENT
BEGIN:VEVENT
DTSTART;VALUE=DATE:20250501
DTEND;VALUE=DATE:20250804
DTSTAMP:20260420T083705
CREATED:20250418T074213Z
LAST-MODIFIED:20250520T112008Z
UID:7456-1746057600-1754265599@ortobotanico1545.it
SUMMARY:Finestre sull'altrove. 60 vedute per 60 rifugiati
DESCRIPTION:I rifugiati sono stati sradicati\, hanno visto le loro esistenze strappate via\, rivoltate e trapiantate brutalmente in un suolo altro\, in un ambiente diverso\, un differente clima\, ecosistema… Rimettere radici può riguardare la condizione del rifugiato\, ma\, in fondo\, la condizione universale di tutti coloro che si ritrovano a vivere il dramma dello sradicamento e devono tentare\, in qualche modo\, di ripartire. Un processo doloroso\, faticoso\, ma che lascia aperto uno spiraglio di speranza.  (Martina Bastianello)GIOVEDÌ 1 MAGGIO – DOMENICA 3 AGOSTO 2025\nMostra\nin collaborazione con Amnesty International Italia\nCompresa nel biglietto di ingresso \nSessanta vedute. Sessanta storie. Sessanta persone rifugiate che\, insieme all’architetto e disegnatore Matteo Pericoli\, hanno trasformato una finestra in una narrazione visiva e personale. Finestre sull’altrove è un progetto ideato da Bill Shipsey\, fondatore di Art for Human Rights\, e Matteo Pericoli\, realizzato tra il 2018 e il 2021 a sostegno di Amnesty International.  \nIl percorso espositivo raccoglie sessanta disegni originali realizzati da Pericoli\, ognuno accompagnato dal racconto intimo di chi ha affrontato lo sradicamento\, la perdita\, ma anche la rinascita in una nuova terra. L’idea di portare questa esperienza all’Orto botanico di Padova nasce da un’intuizione di Martina Bastianello\, che ha colto un dialogo profondo tra il progetto e il patrimonio vegetale dell’Orto botanico. Proprio come gli alberi evocati con struggente affetto nei racconti dei rifugiati\, le finestre della mostra si affacciano su memorie\, identità e speranze. In molti scrivono degli alberi della loro infanzia e dei nuovi alberi osservati oggi: un filo verde e vivo che unisce passato e presente. \nIl tiglio rovesciato di Linneo – capace di trasformare rami in radici – diventa simbolo della condizione del rifugiato: vite capovolte che cercano di mettere nuove radici in un terreno altro. È una metafora potente\, che parla anche a chiunque viva un’esperienza di cambiamento profondo\, di dislocazione\, di ricostruzione. \nCome scriveva Gianni Rufini\, allora direttore di Amnesty International Italia:\n“Non solo che gli occhi vedano\, ma che vedano attraverso altri occhi: occhi che non sono né ‘nostri’ né ‘loro’\, bensì occhi comuni\, sguardi condivisi…”. Finestre sull’altrove invita proprio a questo: guardare il mondo attraverso occhi diversi\, lasciandosi toccare da storie che ci riguardano tutti. \nAmnesty InternationalAmnesty International è un movimento globale indipendente che conta oltre 10 milioni di persone impegnate nella difesa dei diritti umani. Denuncia le violazioni\, fa pressione su governi e aziende affinché rispettino la legge internazionale\, e mobilita attivisti in tutto il mondo per promuovere giustizia\, libertà e dignità. Attraverso campagne\, azioni concrete ed educazione ai diritti umani\, da oltre 50 anni lavora per un mondo più giusto\, combattendo discriminazioni\, tortura\, repressione del dissenso e difendendo i diritti di rifugiati e migranti.Matteo PericoliMatteo Pericoli è architetto\, autore\, disegnatore e insegnante. I suoi lavori sono stati pubblicati su numerosi giornali e riviste nazionali e internazionali. Nel 2007 completa Skyline of the World\, un murale di 120 metri per il terminal dell’American Airlines all’aeroporto internazionale JFK. I suoi libri sono stati pubblicati in Italia\, in Francia\, negli Stati Uniti\, nel Regno Unito\, in Corea del Sud\, in Taiwan e in Cina. L’ultimo è Il grande museo vivente dell’immaginazione. Guida all’esplorazione dell’architettura letteraria (Il Saggiatore). A Torino nel 2010 ha fondato il Laboratorio di architettura letteraria.Art for Human RightsArt for Human Rights riunisce artisti di tutte le discipline per sensibilizzare l’opinione pubblica sulle violazioni dei diritti umani. Usiamo l’arte per ispirare l’azione affinché la libertà\, l’uguaglianza e la dignità diventino una realtà per tutti”.
URL:https://ortobotanico1545.it/eventi/finestre-sullaltrove/
CATEGORIES:Attività a ciclo continuo,Giornata di apertura,Mostre e installazioni,Risvegli 2025
ATTACH;FMTTYPE=image/jpeg:https://ortobotanico1545.it/wp-content/uploads/2025/04/finestresull-altrove.jpg
END:VEVENT
BEGIN:VEVENT
DTSTART;TZID=Europe/Rome:20250501T160000
DTEND;TZID=Europe/Rome:20250501T190000
DTSTAMP:20260420T083705
CREATED:20250422T095534Z
LAST-MODIFIED:20250423T082908Z
UID:7529-1746115200-1746126000@ortobotanico1545.it
SUMMARY:Buskers flower edition
DESCRIPTION:GIOVEDÌ 1 MAGGIO – ore 16-19\nEsibizioni musicali \ncon Associazione Ferrara Buskers Festival\nAttività compresa nel biglietto di ingresso  \nIl Ferrara Buskers Festival è la prima manifestazione al mondo dedicata alla figura dell’artista di strada. Si svolge a fine agosto e seleziona ogni anno circa un centinaio di artisti – non solo musicisti ma anche giocolieri\, acrobati\, spettacoli teatrali e pittorici – provenienti da tutto il mondo che si esibiscono per quattro giorni nelle strade cittadine attirando un pubblico trasversale.\nNella giornata di apertura di Risvegli\, il Ferrara Buskers Festival porta in Orto botanico quattro gruppi musicali (Drumbo Drummer\, Porcapizza\, Stradeaperte\, Arpa di Melusina) per dare un avvio speciale alla festa dei fiori. Attenti all’ecologia e alla salvaguardia ambientale\, con la propria arte e la propria creatività questi performer hanno realizzato strumenti con materiali di riciclo ai quali è stata regalata una seconda vita. \nLe esibizioni musicali si tengono negli spazi esterni dell’Orto botanico. \nDrumbo Drummer\nDrumbo Drummer\, il batterista rasoterra Made in Bergamo ma residente da anni nel Lazio\, riempie le piazze di ogni parte d’Italia con i suoi strumenti strampalati e le sue performance piene di energia. Secchi di vernice\, pentole\, teglie\, bidoni dell’olio\, parabole in disuso: non c’è nulla di convenzionale nelle sue performance. Questi sono alcuni degli “strumenti musicali” preferiti da Drumbo e utilizzati magistralmente per creare nuove sonorità e spettacoli sempre più ricercati. Tutti i materiali utilizzati per la sua musica vivono una seconda vita\, contribuendo così alla salvaguardia e alla pulizia del pianeta. \nPorcapizza\nPorcapizza è un miscuglio di musica\, arte e intrattenimento. Questa inarrestabile one-man-band suona strumenti che ha costruito da sé usando materiali  da riciclo e oggetti di uso quotidiano.  Lo spettacolo di Porcapizza diventa l’occasione per scoprire cosa succede combinando una buona dose di talento alla passione per la musica\, e il cosiddetto “thinking outside the box”\, poiché nessuno degli oggetti che usa per fare musica è inizialmente pensato per questo uso.  Nello spettacolo di Porcapizza scoprirete cosa succede combinando una buona dose di  talento con tanta passione per la musica e il cosiddetto “thinking outside the box”  poiché nessuno degli strumenti che usa è convenzionalmente pensato per fare  musica. \nStradeaperte\nStradeaperte è un progetto che nasce a Napoli nel 2018. La sua attività musicale si basa principalmente sul busking e sulla performance da strada. Il gruppo utilizza una strumentazione molto varia ed eccentrica che va dalle campanelle al violoncello\, passando da percussioni tubolari e suoni elettronici. La loro musica è caratterizzata da un approccio dance-elettronico ma dedicato alla valorizzazione della sostenibilità ambientale per il riciclo di oggetti in forme d’arte. \nMelusina\nMelusina è una fata del folklore francese\, nonché il nome dell’arpa. Una donna serpente\, una sirena sulla terraferma\, una creatura femminile con un lato oscuro e un potere fortemente generativo. Propone un progetto narrativo canoro e bardico\, dedicato alla musica popolare\, volto alla scoperta e riscoperta di melodie e racconti del passato dedicati al femminile\, ma non solo.
URL:https://ortobotanico1545.it/eventi/buskers-flower-edition/
CATEGORIES:Giornata di apertura
ATTACH;FMTTYPE=image/png:https://ortobotanico1545.it/wp-content/uploads/2025/04/immagine-eventi-2560x1707e-14.png
END:VEVENT
END:VCALENDAR