BEGIN:VCALENDAR
VERSION:2.0
PRODID:-//Orto Botanico di Padova - ECPv6.15.19//NONSGML v1.0//EN
CALSCALE:GREGORIAN
METHOD:PUBLISH
X-ORIGINAL-URL:https://ortobotanico1545.it
X-WR-CALDESC:Eventi per Orto Botanico di Padova
REFRESH-INTERVAL;VALUE=DURATION:PT1H
X-Robots-Tag:noindex
X-PUBLISHED-TTL:PT1H
BEGIN:VTIMEZONE
TZID:Europe/Rome
BEGIN:DAYLIGHT
TZOFFSETFROM:+0100
TZOFFSETTO:+0200
TZNAME:CEST
DTSTART:20240331T010000
END:DAYLIGHT
BEGIN:STANDARD
TZOFFSETFROM:+0200
TZOFFSETTO:+0100
TZNAME:CET
DTSTART:20241027T010000
END:STANDARD
BEGIN:DAYLIGHT
TZOFFSETFROM:+0100
TZOFFSETTO:+0200
TZNAME:CEST
DTSTART:20250330T010000
END:DAYLIGHT
BEGIN:STANDARD
TZOFFSETFROM:+0200
TZOFFSETTO:+0100
TZNAME:CET
DTSTART:20251026T010000
END:STANDARD
BEGIN:DAYLIGHT
TZOFFSETFROM:+0100
TZOFFSETTO:+0200
TZNAME:CEST
DTSTART:20260329T010000
END:DAYLIGHT
BEGIN:STANDARD
TZOFFSETFROM:+0200
TZOFFSETTO:+0100
TZNAME:CET
DTSTART:20261025T010000
END:STANDARD
END:VTIMEZONE
BEGIN:VEVENT
DTSTART;VALUE=DATE:20250501
DTEND;VALUE=DATE:20250804
DTSTAMP:20260420T052813
CREATED:20250418T074213Z
LAST-MODIFIED:20250520T112008Z
UID:7456-1746057600-1754265599@ortobotanico1545.it
SUMMARY:Finestre sull'altrove. 60 vedute per 60 rifugiati
DESCRIPTION:I rifugiati sono stati sradicati\, hanno visto le loro esistenze strappate via\, rivoltate e trapiantate brutalmente in un suolo altro\, in un ambiente diverso\, un differente clima\, ecosistema… Rimettere radici può riguardare la condizione del rifugiato\, ma\, in fondo\, la condizione universale di tutti coloro che si ritrovano a vivere il dramma dello sradicamento e devono tentare\, in qualche modo\, di ripartire. Un processo doloroso\, faticoso\, ma che lascia aperto uno spiraglio di speranza.  (Martina Bastianello)GIOVEDÌ 1 MAGGIO – DOMENICA 3 AGOSTO 2025\nMostra\nin collaborazione con Amnesty International Italia\nCompresa nel biglietto di ingresso \nSessanta vedute. Sessanta storie. Sessanta persone rifugiate che\, insieme all’architetto e disegnatore Matteo Pericoli\, hanno trasformato una finestra in una narrazione visiva e personale. Finestre sull’altrove è un progetto ideato da Bill Shipsey\, fondatore di Art for Human Rights\, e Matteo Pericoli\, realizzato tra il 2018 e il 2021 a sostegno di Amnesty International.  \nIl percorso espositivo raccoglie sessanta disegni originali realizzati da Pericoli\, ognuno accompagnato dal racconto intimo di chi ha affrontato lo sradicamento\, la perdita\, ma anche la rinascita in una nuova terra. L’idea di portare questa esperienza all’Orto botanico di Padova nasce da un’intuizione di Martina Bastianello\, che ha colto un dialogo profondo tra il progetto e il patrimonio vegetale dell’Orto botanico. Proprio come gli alberi evocati con struggente affetto nei racconti dei rifugiati\, le finestre della mostra si affacciano su memorie\, identità e speranze. In molti scrivono degli alberi della loro infanzia e dei nuovi alberi osservati oggi: un filo verde e vivo che unisce passato e presente. \nIl tiglio rovesciato di Linneo – capace di trasformare rami in radici – diventa simbolo della condizione del rifugiato: vite capovolte che cercano di mettere nuove radici in un terreno altro. È una metafora potente\, che parla anche a chiunque viva un’esperienza di cambiamento profondo\, di dislocazione\, di ricostruzione. \nCome scriveva Gianni Rufini\, allora direttore di Amnesty International Italia:\n“Non solo che gli occhi vedano\, ma che vedano attraverso altri occhi: occhi che non sono né ‘nostri’ né ‘loro’\, bensì occhi comuni\, sguardi condivisi…”. Finestre sull’altrove invita proprio a questo: guardare il mondo attraverso occhi diversi\, lasciandosi toccare da storie che ci riguardano tutti. \nAmnesty InternationalAmnesty International è un movimento globale indipendente che conta oltre 10 milioni di persone impegnate nella difesa dei diritti umani. Denuncia le violazioni\, fa pressione su governi e aziende affinché rispettino la legge internazionale\, e mobilita attivisti in tutto il mondo per promuovere giustizia\, libertà e dignità. Attraverso campagne\, azioni concrete ed educazione ai diritti umani\, da oltre 50 anni lavora per un mondo più giusto\, combattendo discriminazioni\, tortura\, repressione del dissenso e difendendo i diritti di rifugiati e migranti.Matteo PericoliMatteo Pericoli è architetto\, autore\, disegnatore e insegnante. I suoi lavori sono stati pubblicati su numerosi giornali e riviste nazionali e internazionali. Nel 2007 completa Skyline of the World\, un murale di 120 metri per il terminal dell’American Airlines all’aeroporto internazionale JFK. I suoi libri sono stati pubblicati in Italia\, in Francia\, negli Stati Uniti\, nel Regno Unito\, in Corea del Sud\, in Taiwan e in Cina. L’ultimo è Il grande museo vivente dell’immaginazione. Guida all’esplorazione dell’architettura letteraria (Il Saggiatore). A Torino nel 2010 ha fondato il Laboratorio di architettura letteraria.Art for Human RightsArt for Human Rights riunisce artisti di tutte le discipline per sensibilizzare l’opinione pubblica sulle violazioni dei diritti umani. Usiamo l’arte per ispirare l’azione affinché la libertà\, l’uguaglianza e la dignità diventino una realtà per tutti”.
URL:https://ortobotanico1545.it/eventi/finestre-sullaltrove/
CATEGORIES:Attività a ciclo continuo,Giornata di apertura,Mostre e installazioni,Risvegli 2025
ATTACH;FMTTYPE=image/jpeg:https://ortobotanico1545.it/wp-content/uploads/2025/04/finestresull-altrove.jpg
END:VEVENT
BEGIN:VEVENT
DTSTART;TZID=Europe/Rome:20250723T210000
DTEND;TZID=Europe/Rome:20250723T223000
DTSTAMP:20260420T052813
CREATED:20250624T124525Z
LAST-MODIFIED:20250724T072703Z
UID:9988-1753304400-1753309800@ortobotanico1545.it
SUMMARY:Tra alberi e stelle
DESCRIPTION:Mercoledì 23 luglio alle ore 21 l’Orto botanico propone una speciale visita guidata serale con osservazione delle stelle\, in collaborazione con il Planetario di Padova. \nI partecipanti\, accompagnati dalle guide dell’Orto botanico\, scoprono curiosità sul significato dell’architettura rinascimentale del sito\, che presenta legami con il cosmo e riferimenti al rapporto tra uomo e universo\, e possono conoscere meglio il momento storico di metà Cinquecento in cui si colloca la fondazione dell’Orto\, quando i medici\, spinti dalla necessità di allargare le conoscenze sulle piante e sulle loro proprietà\, hanno iniziato lo studio dal vivo dei “semplici”. \nInsieme a Luca Nobili e a Marco Bregolato\, del Planetario di Padova\, si osserva poi il cielo con l’Orsa Maggiore\, la Stella Polare e le costellazioni estive come il Cigno e la Lira\, e si scoprono le stelle non visibili ad occhio nudo grazie al telescopio. \nPer partecipare è necessario acquistare il biglietto online (10 €\, dagli 8 anni\, non rimborsabile)\, fino ad esaurimento dei posti disponibili. \nIn caso di cielo nuvoloso\, l’evento si svolge al coperto. In caso di maltempo\, il biglietto e la prenotazione rimangono validi per il recupero previsto per giovedì 24 luglio. \nPosti esauritiLuca Nobili\nLuca Nobili è laureato in astronomia\, ed è autore e conduttore di rubriche di astronomia su radio locali e nazionali\, in precedenza siti web e articoli di divulgazione per l’ufficio Comunicazione dell’INAF- Istituto Nazionale di Astrofisica. Attualmente libero professionista della comunicazione\, è stato docente di laboratori di Comunicazione all’Università di Padova. Presso il Planetario di Padova svolge i ruoli di coordinamento delle attività divulgativo-scientifiche\, di progettazione e presentazione di spettacoli fulldome per pubblico\, scuole\, eventi e show\, di coordinamento delle attività di comunicazione\, e di direzione artistica. Ha un canale Youtube\, Astrochiacchiere con Luca Nobili. \nMarco Bregolato\nMarco Bregolato è nato a Padova il 24 aprile 1962. Dal 1996 è Astrofilo praticante presso il G.A.P. (Gruppo Astrofili di Padova) con presentazioni di Osservazioni stellari con orientamento e strumenti astronomici. Dal 1996 al 2000 ha pubblicato numerosi articoli di astronomia per la rivista mensile “Il Messaggero dei Ragazzi” di Padova\, mentre dal 2012 al 2018 ha pubblicato articoli di astronomia sulla rivista “Euganeamente” di Monselice. Dal 2011 ricopre un incarico di divulgazione di astronomia pratica presso il Planetario di Padova\, con attività complementari di osservazioni del Sole e Stellari a Scuole e Pubblico ed è iscritto all’U.A.I. (Unione Astrofili Italiani)\, dove tiene corsi per l’abilitazione MIUR alla divulgazione ed è attivo nella divulgazione con strumentazione ottica presso luoghi di interesse turistico astronomico. Ha conseguito nel 2014 l’attestato “Astro Accademy” di attività didattica e divulgativa e nel 2023 l’attestato Scuola di Astronomia “Il Cielo in una Scuola”\, entrambi organizzati dall’U.A.I.
URL:https://ortobotanico1545.it/eventi/tra-alberi-e-stelle/
CATEGORIES:Estate all'Orto 2025
ATTACH;FMTTYPE=image/jpeg:https://ortobotanico1545.it/wp-content/uploads/2025/06/ELW_9841-1-scaled.jpg
END:VEVENT
END:VCALENDAR