BEGIN:VCALENDAR
VERSION:2.0
PRODID:-//Orto Botanico di Padova - ECPv6.15.19//NONSGML v1.0//EN
CALSCALE:GREGORIAN
METHOD:PUBLISH
X-ORIGINAL-URL:https://ortobotanico1545.it
X-WR-CALDESC:Eventi per Orto Botanico di Padova
REFRESH-INTERVAL;VALUE=DURATION:PT1H
X-Robots-Tag:noindex
X-PUBLISHED-TTL:PT1H
BEGIN:VTIMEZONE
TZID:Europe/Rome
BEGIN:DAYLIGHT
TZOFFSETFROM:+0100
TZOFFSETTO:+0200
TZNAME:CEST
DTSTART:20240331T010000
END:DAYLIGHT
BEGIN:STANDARD
TZOFFSETFROM:+0200
TZOFFSETTO:+0100
TZNAME:CET
DTSTART:20241027T010000
END:STANDARD
BEGIN:DAYLIGHT
TZOFFSETFROM:+0100
TZOFFSETTO:+0200
TZNAME:CEST
DTSTART:20250330T010000
END:DAYLIGHT
BEGIN:STANDARD
TZOFFSETFROM:+0200
TZOFFSETTO:+0100
TZNAME:CET
DTSTART:20251026T010000
END:STANDARD
BEGIN:DAYLIGHT
TZOFFSETFROM:+0100
TZOFFSETTO:+0200
TZNAME:CEST
DTSTART:20260329T010000
END:DAYLIGHT
BEGIN:STANDARD
TZOFFSETFROM:+0200
TZOFFSETTO:+0100
TZNAME:CET
DTSTART:20261025T010000
END:STANDARD
END:VTIMEZONE
BEGIN:VEVENT
DTSTART;TZID=Europe/Rome:20250903T203000
DTEND;TZID=Europe/Rome:20250903T223000
DTSTAMP:20260420T020852
CREATED:20250728T170330Z
LAST-MODIFIED:20250904T065029Z
UID:10446-1756931400-1756938600@ortobotanico1545.it
SUMMARY:Impollinatori by night: viaggi segreti in Orto botanico
DESCRIPTION:EVENTO RINVIATO A MERCOLEDÌ 3 SETTEMBRE\nMercoledì 27 agosto\, alle ore 20.30 e 21.30\, l’Orto botanico propone un’esperienza guidata alla scoperta del viaggio degli insetti impollinatori\, in collaborazione con il Dipartimento di Scienze ambientali\, informatica e statistica dell’Università Ca’ Foscari di Venezia\, Gruppo fenologia e strategie vitali\, Società Botanica Italiana\, Progetto Life SeedForce e progetto Life PollinAction. \nChe gli impollinatori siano instancabili lavoratori è un fatto noto: la maggior parte delle piante\, comprese molte di quelle coltivate per alimentazione\, salute e produzione tessile\, si riproduce grazie alla loro attività. Alcuni pronubi operano di notte e\, per questo motivo\, sfuggono normalmente all’osservazione diretta; tuttavia\, è possibile rendere visibili i loro spostamenti. Presso l’Orto botanico e accompagnati da Mariacristina Villani\, Edy Fantinato e Marta Galloni\, si ha l’occasione di osservare dal vivo un intreccio fluorescente che mostra le tracce lasciate dai voli notturni. \nIl biglietto d’ingresso (tariffa unica 6 euro) è acquistabile online o presso la biglietteria dell’Orto\, fino ad esaurimento dei posti disponibili. \nL’evento si tiene all’aperto. È consigliabile munirsi di repellente antizanzare. In caso di maltempo l’evento è rimandato a giovedì 28 agosto. \nOre 20.30 – Posti esauritiOre 21.30 – Posti esauritiEdy Fantinato\nEdy Fantinato è ricercatore presso il Dipartimento di Scienze ambientali\, informatica e statistica dell’Università Ca’ Foscari di Venezia. La sua ricerca si concentra prevalentemente sui temi propri dell’ecologia dell’impollinazione\, della conservazione della biodiversità e del ripristino degli ecosistemi\, con particolare attenzione agli aspetti funzionali degli ecosistemi. \nMarta Galloni\nMarta Galloni è docente di Botanica dell’Università di Bologna\, è uno dei massimi esperti a livello nazionale delle interazioni tra piante e impollinatori\, argomento che studia da molti anni\, ed è promotrice di progetti europei e iniziative di “citizen science”. \nMariacristina Villani \nMariacristina Villani\, laureata in Scienze Biologiche all’Università di Padova\, lavora presso il Centro di ateneo Orto Botanico come referente scientifica delle collezioni e della banca del germoplasma. Docente a contratto presso l’Università di Padova di corsi nell’ambito dell’ecologia vegetale. Si sta occupando di progetti di conservazione in situ ed ex situ in ambito locale (Parco Regionale dei Colli Euganei) e internazionale (Progetto Life SeedForce)
URL:https://ortobotanico1545.it/eventi/impollinatori-by-night-viaggi-segreti-in-orto-botanico-2/
CATEGORIES:Estate all'Orto,Estate all'Orto 2025
ATTACH;FMTTYPE=image/jpeg:https://ortobotanico1545.it/wp-content/uploads/2025/07/AdobeStock_388896691.jpeg
END:VEVENT
END:VCALENDAR