BEGIN:VCALENDAR
VERSION:2.0
PRODID:-//Orto Botanico di Padova - ECPv6.15.19//NONSGML v1.0//EN
CALSCALE:GREGORIAN
METHOD:PUBLISH
X-WR-CALNAME:Orto Botanico di Padova
X-ORIGINAL-URL:https://ortobotanico1545.it
X-WR-CALDESC:Eventi per Orto Botanico di Padova
REFRESH-INTERVAL;VALUE=DURATION:PT1H
X-Robots-Tag:noindex
X-PUBLISHED-TTL:PT1H
BEGIN:VTIMEZONE
TZID:Europe/Rome
BEGIN:DAYLIGHT
TZOFFSETFROM:+0100
TZOFFSETTO:+0200
TZNAME:CEST
DTSTART:20240331T010000
END:DAYLIGHT
BEGIN:STANDARD
TZOFFSETFROM:+0200
TZOFFSETTO:+0100
TZNAME:CET
DTSTART:20241027T010000
END:STANDARD
BEGIN:DAYLIGHT
TZOFFSETFROM:+0100
TZOFFSETTO:+0200
TZNAME:CEST
DTSTART:20250330T010000
END:DAYLIGHT
BEGIN:STANDARD
TZOFFSETFROM:+0200
TZOFFSETTO:+0100
TZNAME:CET
DTSTART:20251026T010000
END:STANDARD
BEGIN:DAYLIGHT
TZOFFSETFROM:+0100
TZOFFSETTO:+0200
TZNAME:CEST
DTSTART:20260329T010000
END:DAYLIGHT
BEGIN:STANDARD
TZOFFSETFROM:+0200
TZOFFSETTO:+0100
TZNAME:CET
DTSTART:20261025T010000
END:STANDARD
END:VTIMEZONE
BEGIN:VEVENT
DTSTART;TZID=Europe/Rome:20250918T210000
DTEND;TZID=Europe/Rome:20250918T223000
DTSTAMP:20260420T020832
CREATED:20250904T084428Z
LAST-MODIFIED:20250909T121323Z
UID:10911-1758229200-1758234600@ortobotanico1545.it
SUMMARY:Alieni in Laguna. Studio per uno spettacolo
DESCRIPTION:GIOVEDÌ 18 SETTEMBRE – ore 21 (durata 90 minuti)\nStudio per uno spettacolo\ndi e con Andrea Pennacchi\ne con le musiche eseguite dal vivo di Giorgio Gobbo \nCinghiali\, orsi e lupi che tornano a percorrere le strade delle città\, granchi blu e vongole filippine che invadono le acque: un bestiario contemporaneo che ci racconta chi siamo e quanto siamo fragili\, e che prepara la scena per uno speciale racconto teatrale. Giovedì 18 settembre alle ore 21\, l’Orto botanico di Padova ospita uno studio per lo spettacolo Alieni in Laguna\, di e con Andrea Pennacchi\, accompagnato dalle musiche dal vivo di Giorgio Gobbo. \nAlieni in Laguna è una ballata eco-narrativa che invita a riflettere sul fragile equilibrio tra uomo e ambiente\, sul concetto stesso di “alieno” e sulla nostra capacità di convivere con altre specie viventi. Pennacchi intreccia storie di alghe “killer” e lucciole che brillano tra i condomini\, di marinai e cacciatori di frodo\, di complottisti convinti che piovano serpenti dal cielo e di uomini d’osteria che popolano un mosaico ironico e visionario. Un intreccio che accompagna lo spettatore dall’Era della Plasmabilità e dell’Amnesia Ecologica fino all’approdo nella laguna\, simbolo del brodo primordiale da cui provengono tutte le specie viventi. Le musiche originali di Giorgio Gobbo\, tra chitarra e voce\, amplificano e riverberano questo viaggio poetico ed epico\, trasformando l’ascolto in un’esperienza immersiva tra poesia e ironia\, fino a porci una domanda semplice e allo stesso tempo radicale: “Tu\, a chi sei alieno?”. \nLo spettacolo nasce da un’idea di Andrea Pennacchi\, con i contributi ai testi di Marco Segato\, Raffaele Pizzatti Sertorelli e Marco Gnaccolini\, ed è accompagnato dalle musiche composte ed eseguite dal vivo di Giorgio Gobbo. È una produzione Galapagos Produzioni con la collaborazione dell’Orto botanico dell’Università di Padova\, con il contributo di Arte Sella. \nIl biglietto è acquistabile online o presso la biglietteria dell’Orto (biglietto intero 15€\, ridotto under 26 10€)  fino a esaurimento dei posti disponibili. \nPosti esauritiGiorgio Gobbo \nGiorgio Gobbo è cantante\, autore di canzoni e compositore. Ama le montagne solitarie\, le buone compagnie\, i libri. Produce musica per progetti video nel suo CasaForesta home studio. A teatro coltiva insieme ad Andrea Pennacchi un fertile sodalizio ed esegue in scena musiche e canzoni che accompagnano lo storytelling dell’attore padovano. \nAndrea Pennacchi \nAndrea Pennacchi è autore e attore teatrale\, televisivo e cinematografico. Ha debuttato nella drammaturgia con Villan People\, selezionato al festival Trame d’Autore del Piccolo Teatro Grassi di Milano e premio Fersen alla regia nel 2014. Altri suoi spettacoli sono: Eroi\, Mio padre: appunti sulla guerra civile\, Pojana e i suoi fratelli. Ha recitato in diverse produzioni del Teatro Stabile del Veneto ed in numerosi film e serie italiane di successo. Dal 2019 il venerdì è ospite di Propaganda live su La7 con il personaggio di “Pojana”\, su cui ha scritto anche due libri࿒ Pojana e i suoi fratelli e La guerra dei Bepi.
URL:https://ortobotanico1545.it/eventi/alieni-in-laguna-studio-per-uno-spettacolo/
ATTACH;FMTTYPE=image/png:https://ortobotanico1545.it/wp-content/uploads/2025/09/Estate-allOrto-5-1.png
END:VEVENT
END:VCALENDAR