BEGIN:VCALENDAR
VERSION:2.0
PRODID:-//Orto Botanico di Padova - ECPv6.15.19//NONSGML v1.0//EN
CALSCALE:GREGORIAN
METHOD:PUBLISH
X-WR-CALNAME:Orto Botanico di Padova
X-ORIGINAL-URL:https://ortobotanico1545.it
X-WR-CALDESC:Eventi per Orto Botanico di Padova
REFRESH-INTERVAL;VALUE=DURATION:PT1H
X-Robots-Tag:noindex
X-PUBLISHED-TTL:PT1H
BEGIN:VTIMEZONE
TZID:Europe/Rome
BEGIN:DAYLIGHT
TZOFFSETFROM:+0100
TZOFFSETTO:+0200
TZNAME:CEST
DTSTART:20240331T010000
END:DAYLIGHT
BEGIN:STANDARD
TZOFFSETFROM:+0200
TZOFFSETTO:+0100
TZNAME:CET
DTSTART:20241027T010000
END:STANDARD
BEGIN:DAYLIGHT
TZOFFSETFROM:+0100
TZOFFSETTO:+0200
TZNAME:CEST
DTSTART:20250330T010000
END:DAYLIGHT
BEGIN:STANDARD
TZOFFSETFROM:+0200
TZOFFSETTO:+0100
TZNAME:CET
DTSTART:20251026T010000
END:STANDARD
BEGIN:DAYLIGHT
TZOFFSETFROM:+0100
TZOFFSETTO:+0200
TZNAME:CEST
DTSTART:20260329T010000
END:DAYLIGHT
BEGIN:STANDARD
TZOFFSETFROM:+0200
TZOFFSETTO:+0100
TZNAME:CET
DTSTART:20261025T010000
END:STANDARD
BEGIN:DAYLIGHT
TZOFFSETFROM:+0100
TZOFFSETTO:+0200
TZNAME:CEST
DTSTART:20270328T010000
END:DAYLIGHT
BEGIN:STANDARD
TZOFFSETFROM:+0200
TZOFFSETTO:+0100
TZNAME:CET
DTSTART:20271031T010000
END:STANDARD
END:VTIMEZONE
BEGIN:VEVENT
DTSTART;TZID=Europe/Rome:20250926T180000
DTEND;TZID=Europe/Rome:20250928T190000
DTSTAMP:20260420T020832
CREATED:20250912T133912Z
LAST-MODIFIED:20250925T081433Z
UID:11046-1758909600-1759086000@ortobotanico1545.it
SUMMARY:Science4All 2025
DESCRIPTION:Science4All\, la festa delle scienze\, torna a Padova da venerdì 26 a domenica 28 settembre 2025\, un progetto di comunicazione scientifica dell’Università di Padova rivolto alla cittadinanza per comunicare la scienza in modo semplice e divertente. Anche quest’anno il pubblico ha l’opportunità di incontrare ricercatrici e ricercatori in numerose sedi dell’Università e di partecipare ad attività interattive e dimostrazioni scientifiche\, esperimenti\, quiz\, giochi\, visite guidate e laboratori pensati per tutte le fasce d’età. \nNato dall’unione di Venetonight\, la notte dei ricercatori\, e Kids University Padova\, Science4All prende vita nei mesi di settembre\, per la cittadinanza\, e tra novembre e dicembre\, con un programma specifico rivolto alle scuole. Il centro storico di Padova ospita la manifestazione in diversi luoghi tra i quali Palazzo del Bo e piazza Cavour\, il Liston\, piazzetta Garzeria e via San Fermo\, nonché nelle sedi diffuse di musei\, biblioteche\, centri universitari con la partecipazione di numerosi partner scientifici. Anche l’Orto botanico e il Museo della Natura e dell’Uomo aderiscono a Science4All\, proponendo diverse attività coinvolgenti e divertenti e visite guidate tematiche. \nIn occasione della manifestazione l’ingresso all’Orto botanico è gratuito per l’intera giornata di sabato 27 e domenica 28 settembre\, dalle 10 alle 19. \nSi comincia venerdì 26 settembre con due appuntamenti su prenotazione: alle ore 18 la presentazione della mostra Xilogenesi e alle ore 19 la visita guidata al Museo botanico La multidisciplinarietà della botanica nella ricerca. \nTante le attività a ciclo continuo\, senza prenotazione\, nei giorni di sabato 27 e domenica 28 settembre\, che offrono l’occasione\, attraverso laboratori interattivi\, giochi\, immagini e l’uso di microscopi\, di esplorare il mondo nascosto delle piante in particolari habitat\, conoscere il ruolo delle piante autoctone nella trasformazione degli spazi urbani\, improvvisarsi esploratori per svelare i misteri del mondo vegetale e approfondire e sperimentare nuove applicazioni della biologia sintetica. \nATTIVITÀ A CICLO CONTINUO \nCittà fiorite: la rivincita delle piante selvatiche\nIn questo laboratorio interattivo\, pensato per adulti e bambini\, si possono conoscere da vicino le piante autoctone che trasformano gli spazi urbani in oasi di biodiversità. Un’occasione per imparare divertendosi attraverso giochi\, quiz e attività creative\, e provare a immaginare insieme una città più verde e ricca di vita per l’intero ecosistema urbano. \nCon il naso all'insù: storie verdi tra i rami delle foreste tropicali del Messico\nAttraverso giochi\, immagini e microscopi si esplora il mondo nascosto delle piante epifite e dei licheni\, per capire come questi organismi rispondono ai cambiamenti dell’ambiente e perché sono fondamentali per la salute degli ecosistemi tropicali. Un’avventura con lo sguardo rivolto verso l’alto\, per scoprire la vita nascosta tra i rami e le chiome delle foreste tropicali del Messico. \nIndiana Plants e i misteri del mondo vegetale\nIn questa attività\, chi partecipa si improvvisa un odierno Indiana Jones per svelare i misteri del mondo vegetale\, curiosando nel mondo dei muschi e delle piante e scoprendo l’incredibile varietà di questi organismi. Sfruttando la logica si scopre come funziona la fotosintesi e si possono testare piccoli esperimenti\, provando l’emozione di essere ricercatrici e ricercatori. \nMostra Cure illustrate: farmaci e salute nei manifesti della Collezione Salce\n“Cure illustrate: farmaci e salute nei manifesti della Collezione Salce” offre una panoramica sull’evoluzione del linguaggio pubblicitario tra XIX e XX secolo attraverso una selezione di manifesti provenienti dalla prestigiosa Collezione Salce di Treviso. \nScopri di più \nMostra Xilogenesi\nNella mostra Xilogenesi sono presentati alcuni pezzi della collezione di libri in legno di Eugenio Trevisan e le opere d’arte degli artisti coinvolti da Dolomiti Contemporanee. Vengono raccontati la Xiloteca\, il restauro e il significato del legno\, un materiale di origine biologica che testimonia gli eventi del passato e rappresenta una risorsa di eccellenza per le architetture del futuro. \nMutans: la biologia sintetica fatta dagli studenti\nIn questa attività è possibile approfondire e sperimentare le applicazioni della biologia sintetica\, una branca multidisciplinare che applica principi ingegneristici a sistemi biologici con finalità di ricerca e di produzione in campo medico\, industriale e agro-alimentare\, apprendendone di nuove con l’uso del microscopio\, pannelli espositivi\, giochi e quiz interattivi. \nOrto quotidiano\nGli esperti giardinieri dell’Orto botanico\, che ogni giorno si prendono cura delle collezioni botaniche\, condividono i segreti del loro mestiere\, offrendo uno sguardo inedito sul lavoro quotidiano necessario a mantenere viva la diversità vegetale dell’Orto. \nTutte le attività a ciclo continuo sono gratuite\, non prevedono prenotazione e si svolgono nei giorni di sabato 27 e domenica 28 settembre dalle 10 alle 19. Le mostre “Cure illustrate”\, visitabile fino al 6 ottobre 2025\, e “Xilogenesi”\, in corso fino al 6 gennaio 2026\, nei giorni successivi alla manifestazione sono comprese nel biglietto di ingresso all’Orto botanico. \nVISITE GUIDATE E INIZIATIVE SU PRENOTAZIONE \nPresentazione della mostra Xilogenesi \nLa multidisciplinarietà della botanica nella ricerca \nI segreti nascosti dell’Orto botanico di Padova \nRadici del sapere: botanica e medicina nei libri della Biblioteca storica Pinali Marsili \nLe prenotazioni aprono martedì 16 settembre sul sito science4all.it.
URL:https://ortobotanico1545.it/eventi/science4all-2025/
CATEGORIES:Giornate speciali
ATTACH;FMTTYPE=image/jpeg:https://ortobotanico1545.it/wp-content/uploads/2025/09/GK3A4552_-scaled.jpg
END:VEVENT
BEGIN:VEVENT
DTSTART;TZID=Europe/Rome:20250926T180000
DTEND;TZID=Europe/Rome:20260106T170000
DTSTAMP:20260420T020832
CREATED:20250916T110122Z
LAST-MODIFIED:20260107T095914Z
UID:11218-1758909600-1767718800@ortobotanico1545.it
SUMMARY:Mostra Xilogenesi
DESCRIPTION:Xilogenesi è un progetto scientifico\, culturale e artistico\, di valorizzazione e comunicazione\, per la Xiloteca ottocentesca di Eugenio Trevisan\, una collezione unica di libri in legno\, realizzata con perizia eccezionale attorno alla metà del XIX secolo\, connettendo aspetti di studio e ricerca scientifica ed ecologica\, rinnovazione culturale e artistica\, valorizzazione e comunicazione\, costruendo un programma interdisciplinare. \nL’esposizione racconta la Xiloteca\, il restauro e il significato del legno\, materiale di origine biologica che non solo testimonia gli eventi del passato\, ma rappresenta anche una risorsa di eccellenza per le architetture del futuro. Oltre ad alcuni pezzi restaurati\, vengono esposti una serie di nuovi libri\, nella forma di opere d’arte\, realizzate dagli artisti selezionati da Dolomiti Contemporanee. \nIl restauro si attua grazie ad una rete territoriale e culturale\, avviata grazie alla collaborazione tra Dolomiti Contemporanee e il Tesaf\, Dipartimento Territorio e Sistemi Agro-Forestali dell’Università degli Studi di Padova\, il Centro Studi per l’Ambiente Alpino Lucio Susmel di San Vito di Cadore\, il CAM Centro di Ateneo per i Musei dell’Università di Padova. \nLa mostra Xilogenesi viene presentata venerdì 26 settembre alle ore 18: l’ingresso è gratuito\, su prenotazione fino a esaurimento dei posti disponibili\, e non prevede la visita all’Orto botanico.\nIn occasione del festival delle scienze Science4All\, nei giorni di sabato 27 e domenica 28 settembre\, l’ingresso all’Orto botanico è gratuito. Nei giorni successivi alla manifestazione\, la mostra è compresa nel biglietto d’ingresso ed è visitabile fino al 6 gennaio 2026. \nArtisti\nAriele Bacchetti\, Grazia Bacchetti\, Mattia Barbieri\, Lorenzo Barbasetti di Prun\, Francesco Battistello\, Giulia Maria Belli\, David Casini\, Simone Carraro\, Jonathan Colombo\, Elena De Angeli\, Eliane Diur\, Greta Fabrizio\, Bruno Fantelli\, Anna Furlan\, Leonardo Furlan\, Riccardo Giacomini\, Agnese Guido\, Sofia Izmailova\, Megan Littlewood\, Riccardo Lodi\, Gabriele Longega\, Anna Marzuttini\, Marco Mastropieri\, Alice Mazzer\, Alessandro Pagani\, Sebastiano Pallavisini\, Chiara Peruch\, Francesca Pieropan\, Beatrice Pistolesi\, Italo Pradella\, Francesca Rinaldi\, Francesco Ronchi\, Bianca Francesca Serafin\, Giacomo Silva\, Alan Silvestri\, Martin Schuster Frimiana\, Kristian Sturi\, Tuorlo\, Tommaso Viccaro\, Giuseppe Vigolo\, Sebastiano Zafonte\, Rebecca Zen.
URL:https://ortobotanico1545.it/eventi/mostra-xilogenesi/
CATEGORIES:Mostre e installazioni
ATTACH;FMTTYPE=image/jpeg:https://ortobotanico1545.it/wp-content/uploads/2025/09/Xiloteca-di-Eugenio-Trevisan-Foto-Teresa-De-Toni-3-scaled.jpg
END:VEVENT
BEGIN:VEVENT
DTSTART;TZID=Europe/Rome:20250927T113000
DTEND;TZID=Europe/Rome:20250927T170000
DTSTAMP:20260420T020832
CREATED:20250912T134102Z
LAST-MODIFIED:20250919T093448Z
UID:11130-1758972600-1758992400@ortobotanico1545.it
SUMMARY:I segreti nascosti dell’Orto botanico di Padova
DESCRIPTION:Sabato 27 settembre\, ore 11.30\, 14.15\, 16 \nIn questa visita guidata si scoprono luoghi e attività dell’Orto botanico di Padova\, le collezioni botaniche storiche e contemporanee fino alle attività di gestione\, conservazione e di ricerca. \nScopri e prenota
URL:https://ortobotanico1545.it/eventi/i-segreti-nascosti-dellorto-botanico-di-padova/
CATEGORIES:Giornate speciali
ATTACH;FMTTYPE=image/jpeg:https://ortobotanico1545.it/wp-content/uploads/2025/09/Copia-di-Estate-allOrto-1.jpg
END:VEVENT
BEGIN:VEVENT
DTSTART;TZID=Europe/Rome:20250927T140000
DTEND;TZID=Europe/Rome:20251005T190000
DTSTAMP:20260420T020832
CREATED:20250917T105349Z
LAST-MODIFIED:20251006T080543Z
UID:11113-1758981600-1759690800@ortobotanico1545.it
SUMMARY:Cure illustrate: farmaci e salute nei manifesti della Collezione Salce
DESCRIPTION:“Cure illustrate: farmaci e salute nei manifesti della Collezione Salce” offre una panoramica sull’evoluzione del linguaggio pubblicitario tra XIX e XX secolo attraverso una selezione di manifesti provenienti dalla prestigiosa Collezione Salce di Treviso\, il più importante fondo pubblico di manifesti d’Italia e uno dei più ricchi a livello europeo. \nLa Collezione ha preso vita grazie alla grande passione di Ferdinando Salce\, cultore e amante di manifesti illustrati\, che ha dedicato gran parte della sua vita al collezionismo arrivando a raccogliere oltre 25.000 pezzi che documentano la storia della grafica pubblicitaria. L’intera collezione\, per sua volontà testamentaria\, è stata interamente donata allo Stato nel 1962 affinché potesse diventare uno strumento di studio e conoscenza per le generazioni future. \nLa mostra\, curata da Alberto Zanatta e Vittoria D’Agostini\, è organizzata dal CISM – Centro Interdipartimentale di Storia della Medicina dell’Università di Padova con la collaborazione del Museo Nazionale Collezione Salce di Treviso\, che opera per garantire la tutela\, favorire la fruizione e promuovere la valorizzazione dei materiali della Collezione. \nL’esposizione viene ospitata all’Orto botanico di Padova\, luogo simbolo che ha contribuito in modo determinante al progresso di numerose discipline scientifiche moderne\, come la botanica\, la medicina e la farmacia.\nDurante Science4all\, nei giorni di sabato 27 e domenica 28 settembre la mostra è fruibile gratuitamente\, mentre è compresa nel biglietto d’ingresso all’Orto botanico nei giorni successivi alla manifestazione fino al 5 ottobre 2025. La mostra è chiusa al pubblico venerdì 3 ottobre 2025. \nImmagine di copertina\nMuseo nazionale Collezione Salce – Treviso \nDirezione regionale Musei nazionali Veneto\nOpera riprodotta su concessione del Ministero della Cultura
URL:https://ortobotanico1545.it/eventi/cure-illustrate-farmaci-e-salute-nei-manifesti-della-collezione-salce/
CATEGORIES:Mostre e installazioni
ATTACH;FMTTYPE=image/png:https://ortobotanico1545.it/wp-content/uploads/2025/09/Progetto-senza-titolo-42-1.png
END:VEVENT
BEGIN:VEVENT
DTSTART;TZID=Europe/Rome:20250927T150000
DTEND;TZID=Europe/Rome:20250927T180000
DTSTAMP:20260420T020832
CREATED:20250911T110645Z
LAST-MODIFIED:20250919T093257Z
UID:11136-1758985200-1758996000@ortobotanico1545.it
SUMMARY:Radici del sapere: botanica e medicina nei libri della Biblioteca storica Pinali Marsili
DESCRIPTION:Sabato 27 settembre\, ore 15\, 16.30 \nUna visita guidata su due turni per esplorare le stanze storiche della palazzina dei Prefetti dell’Orto botanico\, dove si conserva il ricco patrimonio della biblioteca botanica e di quella antica di medicina. Si possono vedere da vicino libri\, illustrazioni antiche\, i primi erbari e le opere mediche fondamentali\, pezzi di storia della scienza che raccontano lo sviluppo dell’insegnamento scientifico a Padova. \nScopri e prenota
URL:https://ortobotanico1545.it/eventi/radici-del-sapere-botanica-e-medicina-nei-libri-della-biblioteca-storica-pinali-marsili/
CATEGORIES:Giornate speciali
ATTACH;FMTTYPE=image/jpeg:https://ortobotanico1545.it/wp-content/uploads/2025/09/Copia-di-Estate-allOrto-2.jpg
END:VEVENT
END:VCALENDAR