BEGIN:VCALENDAR
VERSION:2.0
PRODID:-//Orto Botanico di Padova - ECPv6.15.19//NONSGML v1.0//EN
CALSCALE:GREGORIAN
METHOD:PUBLISH
X-ORIGINAL-URL:https://ortobotanico1545.it
X-WR-CALDESC:Eventi per Orto Botanico di Padova
REFRESH-INTERVAL;VALUE=DURATION:PT1H
X-Robots-Tag:noindex
X-PUBLISHED-TTL:PT1H
BEGIN:VTIMEZONE
TZID:Europe/Rome
BEGIN:DAYLIGHT
TZOFFSETFROM:+0100
TZOFFSETTO:+0200
TZNAME:CEST
DTSTART:20240331T010000
END:DAYLIGHT
BEGIN:STANDARD
TZOFFSETFROM:+0200
TZOFFSETTO:+0100
TZNAME:CET
DTSTART:20241027T010000
END:STANDARD
BEGIN:DAYLIGHT
TZOFFSETFROM:+0100
TZOFFSETTO:+0200
TZNAME:CEST
DTSTART:20250330T010000
END:DAYLIGHT
BEGIN:STANDARD
TZOFFSETFROM:+0200
TZOFFSETTO:+0100
TZNAME:CET
DTSTART:20251026T010000
END:STANDARD
BEGIN:DAYLIGHT
TZOFFSETFROM:+0100
TZOFFSETTO:+0200
TZNAME:CEST
DTSTART:20260329T010000
END:DAYLIGHT
BEGIN:STANDARD
TZOFFSETFROM:+0200
TZOFFSETTO:+0100
TZNAME:CET
DTSTART:20261025T010000
END:STANDARD
BEGIN:DAYLIGHT
TZOFFSETFROM:+0100
TZOFFSETTO:+0200
TZNAME:CEST
DTSTART:20270328T010000
END:DAYLIGHT
BEGIN:STANDARD
TZOFFSETFROM:+0200
TZOFFSETTO:+0100
TZNAME:CET
DTSTART:20271031T010000
END:STANDARD
END:VTIMEZONE
BEGIN:VEVENT
DTSTART;TZID=Europe/Rome:20250926T180000
DTEND;TZID=Europe/Rome:20260106T170000
DTSTAMP:20260419T225107
CREATED:20250916T110122Z
LAST-MODIFIED:20260107T095914Z
UID:11218-1758909600-1767718800@ortobotanico1545.it
SUMMARY:Mostra Xilogenesi
DESCRIPTION:Xilogenesi è un progetto scientifico\, culturale e artistico\, di valorizzazione e comunicazione\, per la Xiloteca ottocentesca di Eugenio Trevisan\, una collezione unica di libri in legno\, realizzata con perizia eccezionale attorno alla metà del XIX secolo\, connettendo aspetti di studio e ricerca scientifica ed ecologica\, rinnovazione culturale e artistica\, valorizzazione e comunicazione\, costruendo un programma interdisciplinare. \nL’esposizione racconta la Xiloteca\, il restauro e il significato del legno\, materiale di origine biologica che non solo testimonia gli eventi del passato\, ma rappresenta anche una risorsa di eccellenza per le architetture del futuro. Oltre ad alcuni pezzi restaurati\, vengono esposti una serie di nuovi libri\, nella forma di opere d’arte\, realizzate dagli artisti selezionati da Dolomiti Contemporanee. \nIl restauro si attua grazie ad una rete territoriale e culturale\, avviata grazie alla collaborazione tra Dolomiti Contemporanee e il Tesaf\, Dipartimento Territorio e Sistemi Agro-Forestali dell’Università degli Studi di Padova\, il Centro Studi per l’Ambiente Alpino Lucio Susmel di San Vito di Cadore\, il CAM Centro di Ateneo per i Musei dell’Università di Padova. \nLa mostra Xilogenesi viene presentata venerdì 26 settembre alle ore 18: l’ingresso è gratuito\, su prenotazione fino a esaurimento dei posti disponibili\, e non prevede la visita all’Orto botanico.\nIn occasione del festival delle scienze Science4All\, nei giorni di sabato 27 e domenica 28 settembre\, l’ingresso all’Orto botanico è gratuito. Nei giorni successivi alla manifestazione\, la mostra è compresa nel biglietto d’ingresso ed è visitabile fino al 6 gennaio 2026. \nArtisti\nAriele Bacchetti\, Grazia Bacchetti\, Mattia Barbieri\, Lorenzo Barbasetti di Prun\, Francesco Battistello\, Giulia Maria Belli\, David Casini\, Simone Carraro\, Jonathan Colombo\, Elena De Angeli\, Eliane Diur\, Greta Fabrizio\, Bruno Fantelli\, Anna Furlan\, Leonardo Furlan\, Riccardo Giacomini\, Agnese Guido\, Sofia Izmailova\, Megan Littlewood\, Riccardo Lodi\, Gabriele Longega\, Anna Marzuttini\, Marco Mastropieri\, Alice Mazzer\, Alessandro Pagani\, Sebastiano Pallavisini\, Chiara Peruch\, Francesca Pieropan\, Beatrice Pistolesi\, Italo Pradella\, Francesca Rinaldi\, Francesco Ronchi\, Bianca Francesca Serafin\, Giacomo Silva\, Alan Silvestri\, Martin Schuster Frimiana\, Kristian Sturi\, Tuorlo\, Tommaso Viccaro\, Giuseppe Vigolo\, Sebastiano Zafonte\, Rebecca Zen.
URL:https://ortobotanico1545.it/eventi/mostra-xilogenesi/
CATEGORIES:Mostre e installazioni
ATTACH;FMTTYPE=image/jpeg:https://ortobotanico1545.it/wp-content/uploads/2025/09/Xiloteca-di-Eugenio-Trevisan-Foto-Teresa-De-Toni-3-scaled.jpg
END:VEVENT
BEGIN:VEVENT
DTSTART;TZID=Europe/Rome:20251110T080000
DTEND;TZID=Europe/Rome:20251121T140000
DTSTAMP:20260419T225107
CREATED:20250915T151256Z
LAST-MODIFIED:20251125T080304Z
UID:11204-1762761600-1763733600@ortobotanico1545.it
SUMMARY:Science4All scuole 2025
DESCRIPTION:Science4All torna\, dal 10 al 21 novembre 2025\, con un programma ricco di attività dedicate alle scuole primarie e secondarie di primo grado\, e dall’1 al 5 dicembre alle scuole secondarie di secondo grado. \nAnche per l’edizione 2025 l’Orto botanico e il Museo della Natura e dell’Uomo presentano e ospitano numerosi incontri e attività coinvolgenti\, con visite guidate speciali\, attività sugli erbari e in biblioteca\, oppure legate alla medicina e alla letteratura.  Per le due settimane di manifestazione a novembre\, il biglietto d’ingresso all’Orto botanico è gratuito per le scuole che partecipano ad almeno un’attività che si svolge in Orto (nella giornata di svolgimento dell’attività di Science4All oppure normali visite guidate). \nL’evento viene ospitato in numerose sedi dell’Ateneo\, sia in quelle cittadine che a Legnaro e Chioggia\, con tante proposte che spaziano tra Arti e Lettere\, Scienza e Ingegneria\, Scienze della Vita e Salute\, Statistica e Scienze Sociali. \nLe iscrizioni aprono martedì 16 settembre alle ore 14 sul sito scuole.science4all.it. \nPROGRAMMA \nATTIVITÀ ORGANIZZATE DALL’ORTO BOTANICO \nI superpoteri delle piante – 11-14 novembre \nSemi\, questi sconosciuti – 11\, 12 e 14 novembre \nLa rappresentazione del corpo umano nelle scienze mediche attraverso i secoli – 13 e 20 novembre \nLe piante che hanno cambiato il mondo – 18-21 novembre \nCome ti riproduci? Le strategie delle piante – 18\, 19 e 21 novembre \nATTIVITÀ OSPITATE IN ORTO BOTANICO \nI bestiari del Medioevo: un viaggio alla scoperta di draghi\, sirene e altri animali fantastici – 10 e 11 novembre \nLupus in fabula. Storie di lupi nell’Italia medievale – 10 e 17 novembre \nAlberi che non conosciamo: miti\, leggende e loro simbologia – 12 e 21 novembre \nLa foglia: come si misura l’area fogliare – 13 e 20 novembre \nViaggio nel microcosmo: alla scoperta del sorprendente universo dei microbi – 14 e 21 novembre \nPenne\, inchiostri e colori – 17 novembre \nLifeShell: arredi anti-sismici in legno – 17 e 18 novembre \nChe mal di pancia! – 18 e 19 novembre
URL:https://ortobotanico1545.it/eventi/science4all-scuole-2025/
CATEGORIES:Giornate speciali
ATTACH;FMTTYPE=image/jpeg:https://ortobotanico1545.it/wp-content/uploads/2025/09/ELW_6565-copia-scaled.jpg
END:VEVENT
BEGIN:VEVENT
DTSTART;TZID=Europe/Rome:20251111T100000
DTEND;TZID=Europe/Rome:20260106T170000
DTSTAMP:20260419T225107
CREATED:20251022T095333Z
LAST-MODIFIED:20251215T084059Z
UID:12130-1762855200-1767718800@ortobotanico1545.it
SUMMARY:Mostra Sottoterra
DESCRIPTION:A partire dalle giornate del CICAP Fest 2025\, l’Orto botanico ospita Sottoterra\, la mostra fotografica di Jacopo Pasotti\, comunicatore scientifico\, giornalista ambientale e fotografo. \nDalle fumarole islandesi alle lagune d’alta quota delle Ande\, questa mostra racconta l’invisibile dialogo tra microrganismi e ambienti estremi. Le immagini\, frutto di un progetto durato tre anni svelano paesaggi remoti dove la vita si adatta\, trasforma e co-evolve con la roccia in ambienti impensabili. La mostra è un intreccio tra scienza e bellezza che ci porta ai confini del vivente – e ci fa riflettere sulle origini della vita stessa\, e sui confini di ciò che definiamo abitabilità. \nLa mostra\, patrocinata dall’Università degli studi di Napoli Federico II\, è frutto del progetto CoEvolve\, guidato dal microbiologo Donato Giovannelli. Viene presentata da Jacopo Pasotti e Donato Giovannelli domenica 16 novembre alle ore 10.30: la partecipazione è gratuita\, su prenotazione fino a esaurimento dei posti disponibili.\nNei giorni successivi all’evento di presentazione\, la mostra è compresa nel biglietto d’ingresso ed è visitabile fino al 6 gennaio 2026. \nPer approfondire i contenuti della mostra\, consultare la pagina dedicata. \nJacopo Pasotti \nJacopo Pasotti è comunicatore scientifico\, giornalista ambientale\, fotografo e autore di video e reportage per vari media. Ha scritto per Science\, Nature\, National Geographic\, L’Espresso\, Repubblica\, GEO etc. Tra le sue spedizioni scientifiche e reportage più significativi: Polo Nord\, Antartide\, Karakorum pakistano\, puña Cilena. \nDonato Giovannelli\nDonato Giovannelli è professore ordinario di microbiologia all’Università degli Studi di Napoli “Federico II” \, dove con il suo gruppo di ricerca studia i microbi in ambienti estremi e la coevoluzione di Terra e vita. Ha partecipato a numerose spedizioni scientifiche internazionali — incluse immersioni con il batiscafo Alvin e studi su sorgenti idrotermali — e collabora con centri di ricerca nazionali e internazionali. È coautore e conduttore del podcast Abissi e si occupa di divulgazione scientifica ed esplorazione. \nI posti disponibili sono esauriti\, iscrizioni chiuse. 
URL:https://ortobotanico1545.it/eventi/mostra-sottoterra/
CATEGORIES:Eventi in collaborazione,Mostre e installazioni
ATTACH;FMTTYPE=image/jpeg:https://ortobotanico1545.it/wp-content/uploads/2025/10/DSCF7611-scaled.jpg
END:VEVENT
END:VCALENDAR