BEGIN:VCALENDAR
VERSION:2.0
PRODID:-//Orto Botanico di Padova - ECPv6.15.19//NONSGML v1.0//EN
CALSCALE:GREGORIAN
METHOD:PUBLISH
X-WR-CALNAME:Orto Botanico di Padova
X-ORIGINAL-URL:https://ortobotanico1545.it
X-WR-CALDESC:Eventi per Orto Botanico di Padova
REFRESH-INTERVAL;VALUE=DURATION:PT1H
X-Robots-Tag:noindex
X-PUBLISHED-TTL:PT1H
BEGIN:VTIMEZONE
TZID:Europe/Rome
BEGIN:DAYLIGHT
TZOFFSETFROM:+0100
TZOFFSETTO:+0200
TZNAME:CEST
DTSTART:20250330T010000
END:DAYLIGHT
BEGIN:STANDARD
TZOFFSETFROM:+0200
TZOFFSETTO:+0100
TZNAME:CET
DTSTART:20251026T010000
END:STANDARD
BEGIN:DAYLIGHT
TZOFFSETFROM:+0100
TZOFFSETTO:+0200
TZNAME:CEST
DTSTART:20260329T010000
END:DAYLIGHT
BEGIN:STANDARD
TZOFFSETFROM:+0200
TZOFFSETTO:+0100
TZNAME:CET
DTSTART:20261025T010000
END:STANDARD
BEGIN:DAYLIGHT
TZOFFSETFROM:+0100
TZOFFSETTO:+0200
TZNAME:CEST
DTSTART:20270328T010000
END:DAYLIGHT
BEGIN:STANDARD
TZOFFSETFROM:+0200
TZOFFSETTO:+0100
TZNAME:CET
DTSTART:20271031T010000
END:STANDARD
END:VTIMEZONE
BEGIN:VEVENT
DTSTART;TZID=Europe/Rome:20260503T190000
DTEND;TZID=Europe/Rome:20260503T213000
DTSTAMP:20260420T073933
CREATED:20260403T155146Z
LAST-MODIFIED:20260417T063600Z
UID:14464-1777834800-1777843800@ortobotanico1545.it
SUMMARY:La signoria degli alberi
DESCRIPTION:DOMENICA 3 MAGGIO – ore 19 e 20.30 (durata 1 ora)\nSpettacolo itinerante di danza verticale\nproduzione Vertical Waves Project\nregia Marianna Andrigo\ncon Alice Marchiori\, Carlotta Riva\, Marianna Andrigo\, Michela Lorenzano\nAttività compresa nel biglietto di ingresso | Su prenotazione\nSi ricorda che il biglietto comprende la visita all’Orto botanico il giorno dell’evento\, dalle ore 9 alle 19 \nUna passeggiata poetica tra alberi\, versi\, suoni e danza\, in cui la natura si trasforma in esperienza viva e immersiva\, osservando le danzatrici mentre restano sospese\, senza mai toccare terra. \nUn modo per avvicinarsi al mondo degli alberi\, che appartiene agli arrampicatori e alle altalene\, agli insetti e agli uccelli\, ai venti e agli argini\, così come alla poesia. La loro forza e la loro flessibilità nel vento\, insieme alla loro tensione verso l’alto e alla loro unicità\, ispirano parole e danze del mondo umano\, quasi invidioso della loro pazienza. La tensione verticale e la gravità diventano forze\, fisiche e metaforiche\, che guidano lo spettacolo: la natura non è soltanto una cornice\, ma la sostanza di uno sguardo responsabile e contemplativo\, in cui incontrare il senso creativo dell’umano. \nItinerante con partenza dal Meeting point. In caso di maltempo l’evento viene rinviato. \nVertical Waves Project\nVertical Waves Project è una compagnia di danza dedita in particolare alla produzione di spettacoli di danza verticale. Nasce nel 2010 a Venezia e da allora realizza performance che si caratterizzano per l’uso di architetture e di paesaggi naturali come spazio scenico: grazie all’utilizzo delle tecniche e delle attrezzature per il lavoro in quota\, la danza abita altezze e vuoto guardando allo spazio come co-autore delle regie. I lavori prodotti hanno natura site specific e variano tra pareti\, vuoti\, strutture autoportanti\, alberi. \nIscrizioni\n\n	Avviso: JavaScript è obbligatorio per questo contenuto.
URL:https://ortobotanico1545.it/eventi/la-signoria-degli-alberi/
CATEGORIES:Appuntamenti al tramonto
ATTACH;FMTTYPE=image/png:https://ortobotanico1545.it/wp-content/uploads/2026/04/La-signoria-degli-alberi-1.png
END:VEVENT
END:VCALENDAR