BEGIN:VCALENDAR
VERSION:2.0
PRODID:-//Orto Botanico di Padova - ECPv6.15.19//NONSGML v1.0//EN
CALSCALE:GREGORIAN
METHOD:PUBLISH
X-ORIGINAL-URL:https://ortobotanico1545.it
X-WR-CALDESC:Eventi per Orto Botanico di Padova
REFRESH-INTERVAL;VALUE=DURATION:PT1H
X-Robots-Tag:noindex
X-PUBLISHED-TTL:PT1H
BEGIN:VTIMEZONE
TZID:Europe/Rome
BEGIN:DAYLIGHT
TZOFFSETFROM:+0100
TZOFFSETTO:+0200
TZNAME:CEST
DTSTART:20210328T010000
END:DAYLIGHT
BEGIN:STANDARD
TZOFFSETFROM:+0200
TZOFFSETTO:+0100
TZNAME:CET
DTSTART:20211031T010000
END:STANDARD
BEGIN:DAYLIGHT
TZOFFSETFROM:+0100
TZOFFSETTO:+0200
TZNAME:CEST
DTSTART:20220327T010000
END:DAYLIGHT
BEGIN:STANDARD
TZOFFSETFROM:+0200
TZOFFSETTO:+0100
TZNAME:CET
DTSTART:20221030T010000
END:STANDARD
BEGIN:DAYLIGHT
TZOFFSETFROM:+0100
TZOFFSETTO:+0200
TZNAME:CEST
DTSTART:20230326T010000
END:DAYLIGHT
BEGIN:STANDARD
TZOFFSETFROM:+0200
TZOFFSETTO:+0100
TZNAME:CET
DTSTART:20231029T010000
END:STANDARD
END:VTIMEZONE
BEGIN:VEVENT
DTSTART;TZID=Europe/Rome:20220321T180000
DTEND;TZID=Europe/Rome:20221204T170000
DTSTAMP:20260422T200827
CREATED:20241001T095215Z
LAST-MODIFIED:20241112T082948Z
UID:2821-1647885600-1670173200@ortobotanico1545.it
SUMMARY:Racconti della Natura 2022
DESCRIPTION:Racconti della Natura è una rassegna di appuntamenti letterari\, organizzati dall’Orto botanico dell’Università di Padova\, che ruotano attorno al tema della scrittura come mezzo privilegiato per raccontare la natura che ci circonda. \nAPPUNTAMENTI \nRacconti della Natura \n\n21 marzo ore 18 – Laurent Tillon\, Essere una Quercia\, edizioni Contrasto – in dialogo con Telmo Pievani\n18 maggio ore 18.30 – Lucio Montecchio\, Pane e Noci\, Ronzani editore – reading con l’accompagnamento musicale di Giorgio Gobbo\n15 giugno ore 18.30 – Fabio Marzano\, I racconti delle piante\, EDT – in dialogo con Francesca Boccaletto (Il Bo live)\n22 settembre ore 18.15 – Mariacristina Villani\, Ci vuole un fiore\, Codice edizioni – percorso botanico guidato a cura dell’autrice\n21 novembre ore 17.30 – Tiziano Fratus\, Alberi millenari d’Italia – presentazione del libro e passeggiata nell’arboreto\n\nRacconti della Natura KIDS \n\n9 luglio ore 10.30 – Livia Rocchi\, Cavalieri di fiori\, Camelozampa – presentazione del libro e attività ludico-didattica a cura dell’autrice\n28 agosto ore 10.30 – Kribbel-Krabbel\, Piccoli\, molto piccoli\, piccolissimi\, HOPI Edizioni – presentazione del libro e attività ludico-didattica a cura dell’illustratrice Irene Penazzi\n23 ottobre ore 11 – Beti Piotto\, In un seme. Manuale per piccoli collezionisti di meraviglie\, Topipittori – presentazione del libro e attività ludico-didattica a cura dell’illustratrice Gioia Marchegiani\n4 dicembre ore 10-17 – I libri dell’Orto – evento speciale incentrato sulla collana di divulgazione scientifica realizzata da Editoriale Scienza in collaborazione con l’Università di Padova
URL:https://ortobotanico1545.it/eventi/racconti-della-natura-2022/
CATEGORIES:Racconti della Natura
END:VEVENT
BEGIN:VEVENT
DTSTART;TZID=Europe/Rome:20220615T183000
DTEND;TZID=Europe/Rome:20220615T193000
DTSTAMP:20260422T200827
CREATED:20241001T095218Z
LAST-MODIFIED:20241027T212844Z
UID:2827-1655317800-1655321400@ortobotanico1545.it
SUMMARY:I racconti delle piante
DESCRIPTION:Le piante non parlano\, ma hanno molto da dire\nFabio Marzano \n  \nNuovo appuntamento della rassegna Racconti della Natura mercoledì 15 giugno alle ore 18.30 con Fabio Marzano\, autore de I racconti delle piante. Viaggio curioso nel mondo vegetale italiano\, nuovissimo volume della collana La Piccola Biblioteca di Ulisse di EDT. \nIn dialogo con la giornalista de Il Bo Live Francesca Boccaletto\, lo scrittore ed esperto di botanica Fabio Marzano racconta alcune delle storie più curiose che riguardano il mondo vegetale italiano: storie di collezionisti maniacali\, piante che hanno attraversato il mondo\, alberi che sfidano le leggi del tempo\, coltivazioni protagoniste in Italia di memorabili flop industriali o varietà antiche da frutto delle quali esistono solo pochi esemplari. Un viaggio attraverso il tempo e gli incredibili itinerari percorsi delle piante nel corso della loro storia\, che ci aiuta a capire come il mondo vegetale e la storia della civiltà umana siano strettamente intrecciati. Le piante hanno tanto da dire su di noi e sul pianeta: ci parlano del nostro clima\, delle nostre abitudini alimentari\, del nostro gusto estetico e\, soprattutto\, del nostro futuro. \nL’evento è gratuito e si tiene all’aperto (in caso di maltempo\, in uno spazio al coperto). \nI racconti delle piante è in vendita presso il bookshop dal 15 giugno. Al termine dell’evento è previsto un breve firmacopie. \n  \nFabio Marzano è giornalista\, scrittore ed esperto di botanica. Ha viaggiato negli ultimi paradisi perduti in America Latina e in Africa\, e i suoi articoli sulle piante sono pubblicati da La Repubblica\, La Stampa e Airone\, come lo speciale dedicato all’Orto botanico di Padova.
URL:https://ortobotanico1545.it/eventi/i-racconti-delle-piante/
END:VEVENT
END:VCALENDAR