BEGIN:VCALENDAR
VERSION:2.0
PRODID:-//Orto Botanico di Padova - ECPv6.15.19//NONSGML v1.0//EN
CALSCALE:GREGORIAN
METHOD:PUBLISH
X-WR-CALNAME:Orto Botanico di Padova
X-ORIGINAL-URL:https://ortobotanico1545.it
X-WR-CALDESC:Eventi per Orto Botanico di Padova
REFRESH-INTERVAL;VALUE=DURATION:PT1H
X-Robots-Tag:noindex
X-PUBLISHED-TTL:PT1H
BEGIN:VTIMEZONE
TZID:Europe/Rome
BEGIN:DAYLIGHT
TZOFFSETFROM:+0100
TZOFFSETTO:+0200
TZNAME:CEST
DTSTART:20210328T010000
END:DAYLIGHT
BEGIN:STANDARD
TZOFFSETFROM:+0200
TZOFFSETTO:+0100
TZNAME:CET
DTSTART:20211031T010000
END:STANDARD
BEGIN:DAYLIGHT
TZOFFSETFROM:+0100
TZOFFSETTO:+0200
TZNAME:CEST
DTSTART:20220327T010000
END:DAYLIGHT
BEGIN:STANDARD
TZOFFSETFROM:+0200
TZOFFSETTO:+0100
TZNAME:CET
DTSTART:20221030T010000
END:STANDARD
BEGIN:DAYLIGHT
TZOFFSETFROM:+0100
TZOFFSETTO:+0200
TZNAME:CEST
DTSTART:20230326T010000
END:DAYLIGHT
BEGIN:STANDARD
TZOFFSETFROM:+0200
TZOFFSETTO:+0100
TZNAME:CET
DTSTART:20231029T010000
END:STANDARD
END:VTIMEZONE
BEGIN:VEVENT
DTSTART;TZID=Europe/Rome:20220321T180000
DTEND;TZID=Europe/Rome:20221204T170000
DTSTAMP:20260422T182749
CREATED:20241001T095215Z
LAST-MODIFIED:20241112T082948Z
UID:2821-1647885600-1670173200@ortobotanico1545.it
SUMMARY:Racconti della Natura 2022
DESCRIPTION:Racconti della Natura è una rassegna di appuntamenti letterari\, organizzati dall’Orto botanico dell’Università di Padova\, che ruotano attorno al tema della scrittura come mezzo privilegiato per raccontare la natura che ci circonda. \nAPPUNTAMENTI \nRacconti della Natura \n\n21 marzo ore 18 – Laurent Tillon\, Essere una Quercia\, edizioni Contrasto – in dialogo con Telmo Pievani\n18 maggio ore 18.30 – Lucio Montecchio\, Pane e Noci\, Ronzani editore – reading con l’accompagnamento musicale di Giorgio Gobbo\n15 giugno ore 18.30 – Fabio Marzano\, I racconti delle piante\, EDT – in dialogo con Francesca Boccaletto (Il Bo live)\n22 settembre ore 18.15 – Mariacristina Villani\, Ci vuole un fiore\, Codice edizioni – percorso botanico guidato a cura dell’autrice\n21 novembre ore 17.30 – Tiziano Fratus\, Alberi millenari d’Italia – presentazione del libro e passeggiata nell’arboreto\n\nRacconti della Natura KIDS \n\n9 luglio ore 10.30 – Livia Rocchi\, Cavalieri di fiori\, Camelozampa – presentazione del libro e attività ludico-didattica a cura dell’autrice\n28 agosto ore 10.30 – Kribbel-Krabbel\, Piccoli\, molto piccoli\, piccolissimi\, HOPI Edizioni – presentazione del libro e attività ludico-didattica a cura dell’illustratrice Irene Penazzi\n23 ottobre ore 11 – Beti Piotto\, In un seme. Manuale per piccoli collezionisti di meraviglie\, Topipittori – presentazione del libro e attività ludico-didattica a cura dell’illustratrice Gioia Marchegiani\n4 dicembre ore 10-17 – I libri dell’Orto – evento speciale incentrato sulla collana di divulgazione scientifica realizzata da Editoriale Scienza in collaborazione con l’Università di Padova
URL:https://ortobotanico1545.it/eventi/racconti-della-natura-2022/
CATEGORIES:Racconti della Natura
END:VEVENT
BEGIN:VEVENT
DTSTART;VALUE=DATE:20220701
DTEND;VALUE=DATE:20220702
DTSTAMP:20260422T182749
CREATED:20241001T095322Z
LAST-MODIFIED:20241119T181156Z
UID:2933-1656633600-1656719999@ortobotanico1545.it
SUMMARY:Notturno in eco
DESCRIPTION:Venerdì 1 luglio l’Orchestra di Padova e del Veneto diretta da Marco Angius eseguirà il Notturno K 286 di Wolfgang Amadeus Mozart all’interno dell’hortus cinctus\, Patrimonio Mondiale UNESCO. Le note di uno dei più grandi compositori e musicisti della storia risuoneranno per la prima volta in notturna tra i vialetti\, le fontane e le piante dell’Orto botanico più antico del mondo. \nComposto alla fine del 1776\, il brano è fortemente sperimentale e manifesta una tendenza progettuale in cui Mozart direziona il suono in senso orario o antiorario rispetto al pubblico. I quattro quarti dell’Orto antico si faranno palcoscenico nel quale si esibiranno quattro gruppi orchestrali\, composti ciascuno da archi e fiati. La divisione in quattro gruppi orchestrali simmetrici produrrà un triplo effetto d’eco\, con i suoni che si propagheranno da un’orchestra all’altra. La dimensione naturalistica dell’Orto botanico amplificherà i cerchi dell’eco su tre livelli concentrici: un primo cerchio offerto dal pubblico\, un secondo dalle quattro orchestre\, un terzo dell’architettura del sito che riflette\, attraverso una geometria architettonica\, quella ineffabile dei suoni. Il pubblico non assisterà a un evento musicale\, sarà letteralmente immerso in un’esperienza multisensoriale unica. \nIl biglietto d’ingresso (tariffa unica 5 euro) è acquistabile direttamente in biglietteria la sera dello spettacolo. Per partecipare all’evento è comunque richiesta la prenotazione online. Sono disponibili tre turni: 21.30\, 22.30 o 23.30. Il concerto avrà la durata di circa mezz’ora. \nL’evento si terrà interamente negli spazi dell’Orto antico\, eccezionalmente aperto in notturna. In caso di maltempo verrà rimandato a sabato 2 luglio. \n  \nL’Orchestra di Padova e del Veneto si è costituita nell’ottobre 1966 e in oltre cinquant’anni di attività si è affermata come una delle principali orchestre italiane. Realizza circa 120 concerti l’anno\, con una propria stagione a Padova\, concerti in ambito regionale e nazionale per le maggiori società di concerti e festival. Da settembre 2015 la direzione artistica e musicale dell’Orchestra è affidata al Maestro Marco Angius\, che nella sua lunga carriera ha diretto numerose orchestre sinfoniche\, da camera e ensemble in Italia e all’estero ed è oggi considerato un direttore di riferimento in particolare per il repertorio contemporaneo.
URL:https://ortobotanico1545.it/eventi/notturno-in-eco/
CATEGORIES:Eventi in collaborazione
ATTACH;FMTTYPE=image/jpeg:https://ortobotanico1545.it/wp-content/uploads/2024/10/night_1.jpg
END:VEVENT
BEGIN:VEVENT
DTSTART;TZID=Europe/Rome:20220709T103000
DTEND;TZID=Europe/Rome:20220709T113000
DTSTAMP:20260422T182749
CREATED:20241001T095216Z
LAST-MODIFIED:20241027T185804Z
UID:2823-1657362600-1657366200@ortobotanico1545.it
SUMMARY:Cavalieri di fiori
DESCRIPTION:Tu che sogni di compiere imprese che saranno cantate per secoli\, come i grandi cavalieri di un tempo lontano\,\nsai forse quanto dovrai impegnarti per diventare protagonista di epiche avventure?\nE quali compagni potrebbero seguirti nel tuo eroico viaggio?\nLivia Rocchi\n \nCavalieri di fiori è il volume scelto per il primo appuntamento di Racconti della Natura KIDS\, la nuova proposta dedicata interamente a bambini e ragazzi. Scritto da Livia Rocchi e illustrato da Elisa Macellari\, il libro edito da Camelozampa verrà presentato in Orto botanico sabato 9 luglio alle 10.30. A seguire\, l’autrice Livia Rocchi proporrà un’attività ludico-didattica (età consigliata 8-12 anni). \nAlberi e piante hanno fatto la loro comparsa sulla Terra prima dell’umanità. Sono artefici e custodi del nostro respiro\, fonte di nutrimento\, riparo e cura\, sostegno economico\, fucina di scoperte\, da sempre protagonisti di miti e leggende\, ma anche di appassionanti quanto incredibili storie vere. Le suggestioni delle gesta cavalleresche\, in epoche e parti del mondo diverse\, si intrecciano alla narrazione botanica\, che racconta caratteristiche\, utilità e possibilità offerte da vari tipi di piante. \nL’evento è compreso nel biglietto di ingresso all’Orto botanico e si tiene all’aperto (in caso di maltempo\, in uno spazio coperto). \n \nCavalieri di fiori è in vendita presso il bookshop dal 9 luglio. Al termine dell’evento è previsto un breve firmacopie. \n  \nLivia Rocchi è autrice di romanzi\, racconti e libri didattici per ragazzi. Lavora come editor freelance e collabora a progetti di vari editori tra cui Camelozampa\, Vanvere e Pension Lepic. Dal 2012 conduce laboratori di scrittura creativa e si occupa di promozione della lettura sia per ragazzi che per adulti.
URL:https://ortobotanico1545.it/eventi/cavalieri-di-fiori/
END:VEVENT
BEGIN:VEVENT
DTSTART;TZID=Europe/Rome:20220727T210000
DTEND;TZID=Europe/Rome:20220727T220000
DTSTAMP:20260422T182749
CREATED:20241001T095256Z
LAST-MODIFIED:20241119T180939Z
UID:2890-1658955600-1658959200@ortobotanico1545.it
SUMMARY:Libera la natura
DESCRIPTION:Operaestate e Università di Padova tornano a collaborare in occasione degli 800 anni dell’Ateneo. Operaestate Festival Veneto\, nato a Bassano del Grappa (VI) nel 1981\, è un festival multidisciplinare di danza\, teatro\, musica\, lirica\, di grande rilievo nazionale ed internazionale. \nTre scrittrici e tre danz’autrici trovano uno spazio comune di meraviglia\, in cui dialogare ed esplorare come l’arte della parola e della danza possano incontrarsi nella musicalità e nel ritmo. Le tre performance\, avvolte da una scenografia di natura e architetture e da una calante luce naturale\, si inseriranno in diversi spazi dell’Orto. Il pubblico\, scegliendo di volta in volta la propria prospettiva di visione\, diventerà così parte integrante della scena. \nL’evento si terrà mercoledì 27 luglio alle ore 21\, all’aperto\, sul prato di fronte alle serre del Giardino della biodiversità che saranno eccezionalmente visitabili per tutta la serata. Non sono previste sedute tradizionali: il pubblico verrà invitato tra una performance e l’altra a spostarsi all’interno del prato fronte serre del Giardino della biodiversità seguendo la suggestione delle parole e della danza (saranno comunque a disposizione cuscini e sedie per chi ne avesse necessità). \nIl biglietto d’ingresso (tariffa unica 5 euro) è acquistabile online o presso la biglietteria di Operaestate festival (attiva dal lunedì al venerdì con orario 10-13 e 15-18\, il sabato dalle 10 alle 13 – telefono 0424 524214). \nL’ingresso è gratuito\, su prenotazione (fino ad esaurimento dei posti disponibili) per alcune categorie: bambini fino a 5 anni; studenti e personale Unipd; persone con disabilità e accompagnatore; giornalisti; guide turistiche e abbonati Orto botanico. Il diritto alla gratuità verrà verificato in biglietteria al momento dell’ingresso. I posti gratuiti sono esauriti. \nL’evento si terrà all’aperto. È consigliabile munirsi di repellente antizanzare. In caso di maltempo l’evento sarà rimandato a venerdì 29 luglio. \nLibera la natura viene proposto anche giovedì 28 luglio a Castelfranco Veneto (TV)\, in una performance site-specific all’interno degli spazi di Villa Parco Bolasco. Per maggiori informazioni: https://www.villaparcobolasco.it/appuntamento/libera-la-natura/. \n  \nCHE È BELLEZZA \nCoreografia: Masako Matsushita\, Laura Pugno\nInterpreti: Masako Matsushita\nTesto: Laura Pugno\nProduttori/Co-produttori: Produzione Operaestate con Orto botanico di Padova / Co-produzione Nanou Associazione Culturale\nDurata: 15 minuti \nL’arte della scrittura\, l’arte della coreografia in dialogo. L’espressione di un incontro\, di un ritmo\, di una musicalità. La voce del corpo e il movimento della parola tra stati in metamorfosi seguendo la via della guarigione\, come se ciò da cui stiamo prendendo congedo non fosse mai accaduto\, o potesse ancora accadere\, ma sotto stelle diverse. In un nuovo spaziotempo. E ciò da cui prendiamo congedo\, e a cui allo stesso tempo facciamo ritorno\, è vita\, natura\, nostra natura\, noi stessi all’incontro di un mondo dotato di Storia che ci appare non più sotto la forma della perdita ma della possibilità\, dell’apertura. Dello splendore. \nMasako Matsushita\nArtista italo-giapponese\, Masako Matsushita si occupa di analisi del movimento attraverso processi di ricerca\, coreografia e danza\, installazioni performative ed esperimenti sociali. Esplora la presenza del corpo nello spazio con l’obiettivo di generare architetture per la socializzazione attraverso sensi\, mappe\, memoria e uso dello sguardo. Masako è una dei fondatori di 4bid Gallery Amsterdam\, collaboratrice all’interno di Hangartfest festival e ideatrice del processo creativo multidisciplinare dal titolo Diary of a Move\, realizzato a Bassano del Grappa collaborando con i cittadini.  \nLaura Pugno\nNata a Roma nel 1970\, ha vinto il Premio Campiello Selezione Letterati e il Premio Fortini. Tra gli ultimi libri\, i romanzi Sirene e La ragazza selvaggia (Marsilio) e i saggi In territorio selvaggio\, Nottetempo\, Oracolo manuale per poete e poeti (Sonzogno). In poesia: Noi (Amos Edizioni) e L’alea (Perrone Editore). Collabora con L’Espresso e con il blog Le parole e le cose ed è una dei curatori della collana di poesia I domani di Aragno Edizioni. Ha ideato il programma Oltrelontano. Poesia come paesaggio per Radio3.  \n  \nDI RAMO IN RAMO\n \nCoreografia: Stefania Tansini\, Simona Vinci\nInterpreti: Stefania Tansini\, Simona Vinci\nProduttori/Co-produttori: Produzione Operaestate con Orto botanico di Padova / Co-produzione Nanou Associazione Culturale\nDurata: 15 minuti \nUn racconto poetico della relazione tra l’umano e il vegetale. Un percorso che pone l’accento sul limite indistinto e indefinibile tra uomo e ambiente. Un attraversamento di paesaggi naturali uniti dalla presenza della voce e del corpo. \nSimona Vinci  \nSimona Vinci è laureata in Letteratura Italiana Contemporanea. Scrittrice\, vincitrice del Premio Campiello 2016 con il romanzo La prima verità (Einaudi). Su Rai 3 nel 2000 ha condotto Cenerentola\, un programma di Gregorio Paolini\, e nel 2006 Milonga Station. Nel 2021 pubblica L’altra casa (Einaudi).  \nStefania Tansini  \nDanzatrice e coreografa\, Stefania Tansini porta avanti un percorso autoriale sul corpo e sul movimento\, intesi come l’occasione per venire a contatto con l’esserci\, con lo stare nelle cose. Nel 2014 prende parte allo spettacolo di Dario Fo e Franca Rame Storia di Q e inizia a lavorare come danzatrice in tutte le produzioni di Simona Bertozzi. Nel 2021 è invitata a partecipare all’incontro Cellule d’Essai per giovani coreografi europei\, alla Maison de la Danse di Lione. \n  \nCREPA \nCoreografia: Sara Sguotti e Arianna Ulian\nInterpreti: Sara Sguotti e Arianna Ulian\nTesti: Arianna Ulian\nAmbiente sonoro: Arianna Ulian e Sara Sguotti\nCura: Serena Roberti\nProduttori/Co-produttori: Produzione Operaestate con Orto botanico di Padova / Co-produzione Perypezye Urbane\nDurata: 15 minuti \nUn montaggio di parole\, suoni e gesti attorno all’immagine di una crepa: smottamento ma anche apertura\, ferita oppure feritoia per corpi che si accostano\, diversi ma appartenenti allo stesso lembo: scivolano\, glissano\, attraversano un tempo di conservazione tra ciò che è definito vivo e ciò che è definito morto: lo mutano\, lo invertono. La crepa si apre con il suono: è un evento irreversibile\, divide lo spazio e segna il tempo. Bisogna progettare movimenti e trovare parole per comprendere la sua ambivalenza: la crepa apre la possibilità che filtri la luce\, che l’acqua fluisca\, che i lembi si assestino in una nuova configurazione. Il lavoro di Sara Sguotti e Arianna Ulian celebra e allo stesso tempo maledice il mutamento dei corpi\, segnati da crepe dentro e fuori\, isola ma con un ritmo pulsante\, tenace e consapevole che testimonia l’irriducibile meraviglia dell’essere corpi. Come la danza\, come la poesia\, il giardino piega e torce\, traduce e ricombina gli elementi del proprio discorso e smargina il confine fra lo stato naturale e innaturale delle cose. Crepa ciò che vive\, dalla crepa germoglia nuova vita. \nSara Sguotti \nSara Sguotti è performer e coreografa interessata al corpo singolo\, plurale e collettivo.\nCollabora con la Compagnia Virgilio Sieni\, Anton Lachky\, Company Blu\, Damien Jalet\, e molti altri. Fa parte del collettivo LoStabileDiLì\, di Attivisti Della Danza e di WANNAWANNAWANNA. Il suo percorso coreografico personale inizia con S.solo. Attualmente è coinvolta nella produzione TOCCARE e Echoes di Cristina Rizzo e nella nuova produzione di Virgilio Sieni UMANO. Dal 2020 collabora con il gruppo Dance Well. La sua ultima produzione è Some Other Place\, selezionata per la NID 2021 nella sezione Open Studios. Nel 2021 ha vinto il premio RAT per la sua nuova produzione It’s hard to be human. \nArianna Ulian \nArianna Ulian è scrittrice e performer. Ha studiato filosofia del linguaggio a Bologna\, e composizione elettroacustica con il Maestro Baboni Schilingi a Parigi. Ha lavorato come sound designer per la comunicazione. È docente e collabora con la Bottega di Narrazione di Giulio Mozzi. Nel 2020 ha esordito con il romanzo La questione dei cavalli (Laurana). Ha pubblicato alcuni racconti per la rivista Opera Nuova. Attualmente lavora a un ciclo di cortometraggi dal titolo Il talento del corpo con il regista Matteo Maffesanti\, ha scritto una dichiarazione di poetica sulla letteratura come performance e lavora al secondo romanzo\, L’opera viva.
URL:https://ortobotanico1545.it/eventi/libera-la-natura/
CATEGORIES:Eventi in collaborazione
ATTACH;FMTTYPE=image/jpeg:https://ortobotanico1545.it/wp-content/uploads/2024/10/Operaestate-scaled.jpg
END:VEVENT
END:VCALENDAR