BEGIN:VCALENDAR
VERSION:2.0
PRODID:-//Orto Botanico di Padova - ECPv6.15.19//NONSGML v1.0//EN
CALSCALE:GREGORIAN
METHOD:PUBLISH
X-ORIGINAL-URL:https://ortobotanico1545.it
X-WR-CALDESC:Eventi per Orto Botanico di Padova
REFRESH-INTERVAL;VALUE=DURATION:PT1H
X-Robots-Tag:noindex
X-PUBLISHED-TTL:PT1H
BEGIN:VTIMEZONE
TZID:Europe/Rome
BEGIN:DAYLIGHT
TZOFFSETFROM:+0100
TZOFFSETTO:+0200
TZNAME:CEST
DTSTART:20220327T010000
END:DAYLIGHT
BEGIN:STANDARD
TZOFFSETFROM:+0200
TZOFFSETTO:+0100
TZNAME:CET
DTSTART:20221030T010000
END:STANDARD
BEGIN:DAYLIGHT
TZOFFSETFROM:+0100
TZOFFSETTO:+0200
TZNAME:CEST
DTSTART:20230326T010000
END:DAYLIGHT
BEGIN:STANDARD
TZOFFSETFROM:+0200
TZOFFSETTO:+0100
TZNAME:CET
DTSTART:20231029T010000
END:STANDARD
BEGIN:DAYLIGHT
TZOFFSETFROM:+0100
TZOFFSETTO:+0200
TZNAME:CEST
DTSTART:20240331T010000
END:DAYLIGHT
BEGIN:STANDARD
TZOFFSETFROM:+0200
TZOFFSETTO:+0100
TZNAME:CET
DTSTART:20241027T010000
END:STANDARD
END:VTIMEZONE
BEGIN:VEVENT
DTSTART;TZID=Europe/Rome:20230321T180000
DTEND;TZID=Europe/Rome:20231214T190000
DTSTAMP:20260421T235849
CREATED:20241001T095111Z
LAST-MODIFIED:20241120T084429Z
UID:2713-1679421600-1702580400@ortobotanico1545.it
SUMMARY:Racconti della Natura 2023
DESCRIPTION:Racconti della Natura è una rassegna di appuntamenti letterari\, organizzati dall’Orto botanico dell’Università di Padova\, che ruotano attorno al tema della scrittura come mezzo privilegiato per raccontare la natura che ci circonda. \nAPPUNTAMENTI \nRacconti della Natura \n\n\n21 marzo\, ore 18 – Brunella Torresin\, Nel gran teatro della natura. Maria Sibylla Merian\, donna d’arte e di scienza 1647-1717\, Edizioni Pendragon – dialogo con Elena Canadelli e visita al Museo botanico\n20 giugno ore 18.30 – Daniele Zovi\, Caccia al topo. Una storia di uomini\, animali\, trappole e amicizie\, UTET – presentazione del libro in dialogo con Renato Semenzato\n5 luglio ore 18.30 – Giuseppe Barbera\, Agrumi. Una storia del mondo\, Il Saggiatore – presentazione del libro e visita guidata\n23 settembre ore 10.30 – Barbara Bernardini\, Dall’Orto al mondo. Piccolo manuale di resistenza ecologica\, Nottetempo – presentazione del libro in dialogo con Roberto Tacchetto\n7 ottobre ore 10 – Jacopo Starace\, Essere montagna\, BAO Publishing – presentazione del libro e workshop di fumetto a cura dell’autore\n14 dicembre ore 18 – Massimo De Giuseppe\, Cacao\, la pianta che attraversa il tempo\, Carocci Editore – presentazione del libro in dialogo con Rafael Gaune e Mario Sartor\n\nRacconti della Natura KIDS \n\n\n21 maggio ore 10.30 – Valentina Gottardi\, Danio Miserocchi\, Maciej Michno\, Solo dance. Api solitarie e api selvatiche\, Cocai Books – presentazione del libro e attività ludico-didattica\n27 agosto ore 10.30 – Arianna Papini\, Prima di tagliare un albero\, Camelozampa – presentazione del libro e laboratorio creativo per persone di tutte le età\n26 novembre ore 10.30 – Irene Penazzi\, Un anno tra gli alberi (testi di Valentina Levrini\, illustrazioni di Irene Penazzi)\, Terre di mezzo Editore – presentazione del libro e attività ludico-didattica
URL:https://ortobotanico1545.it/eventi/racconti-della-natura/
CATEGORIES:Racconti della Natura
END:VEVENT
BEGIN:VEVENT
DTSTART;TZID=Europe/Rome:20230705T183000
DTEND;TZID=Europe/Rome:20230705T193000
DTSTAMP:20260421T235849
CREATED:20241001T095144Z
LAST-MODIFIED:20241119T180233Z
UID:2769-1688581800-1688585400@ortobotanico1545.it
SUMMARY:Agrumi. Una storia del mondo
DESCRIPTION:Giardini\, alberi e frutti che hanno determinato la storia del mondo e l’hanno accompagnata\, capaci di tenere insieme il dolce\, l’aspro e l’amaro. Tutto\, insomma.\nGiuseppe Barbera \n\nMercoledì 5 luglio alle ore 18.30 nuovo appuntamento della rassegna Racconti della Natura con Giuseppe Barbera e il suo ultimo libro\, Agrumi. Una storia del mondo\, Edizioni Il Saggiatore: una storia del mondo inedita\, lunga venti milioni di anni in cui\, attraverso l’importanza degli agrumi nella cultura e nei giardini dei popoli più diversi\, si afferma l’importanza dello studio e della cura del paesaggio\, dei suoi frutti e della sua bellezza. \nLimoni\, arance\, cedri\, mandarini sono al centro di miti greci\, pagine bibliche e leggende orientali. Hanno ispirato scrittori e poeti di tutti i tempi. Hanno condizionato l’esistenza di imperi economici internazionali. Il loro primo nome\, “esperidi”\, richiama le ninfe che insieme al drago Ladone custodivano i pomi d’oro del giardino di Zeus: i frutti più preziosi della terra\, i più difficili da raccogliere. In Oriente\, la loro rarità aveva fatto sì che in Cina nel III a.C. esistesse un Ministero degli Agrumi\, che aveva il compito di procurare e inviare le arance alla corte dell’imperatore. I viaggi di questi frutti non si sono mai arrestati: per secoli hanno solcato gli oceani sulle navi mercantili di tutti i Paesi. Sono stati addirittura il rimedio per un male che da secoli flagellava il mondo\, lo scorbuto: James Lind\, nel Settecento\, riuscì a trovare una cura proprio nel semplice succo di limone. \nInsieme all’autore e alle guide naturalistiche dell’Orto sarà possibile vedere dal vivo le piante di agrumi (e non solo!) dell’Orto\, scoprendone le principali caratteristiche e raccontandone gli aneddoti più curiosi in una visita guidata speciale\, tra i colori e i profumi tipici dell’estate. \nL’evento è gratuito ed è garantito anche in caso di maltempo. \nAgrumi. Una storia del mondo è in vendita presso il bookshop a partire dal 5 luglio. Al termine dell’evento è previsto un breve firmacopie. \n  \nGiuseppe Barbera (Palermo\, 1948) è stato professore ordinario di Colture arboree all’Università di Palermo. Ha curato per il FAI il recupero del giardino della Kolymbethra nella Valle dei Templi e di Donnafugata a Pantelleria. Fa parte del Consiglio Scientifico dell’Osservatorio nazionale del paesaggio rurale e dell’Associazione Italiana Parchi e Giardini Storici ed è socio emerito dell’Accademia nazionale di Scienze Forestali. Tra le sue pubblicazioni Tuttifrutti (2018; premio Grinzane Cavour)\, Abbracciare gli alberi (2017) e Il giardino del Mediterraneo (2021; premio speciale Cultura del Mediterraneo).
URL:https://ortobotanico1545.it/eventi/agrumi-una-storia-del-mondo/
CATEGORIES:Estate all'Orto 2023
ATTACH;FMTTYPE=image/jpeg:https://ortobotanico1545.it/wp-content/uploads/2024/10/agrumi.jpg
END:VEVENT
BEGIN:VEVENT
DTSTART;TZID=Europe/Rome:20230711T210000
DTEND;TZID=Europe/Rome:20230711T220000
DTSTAMP:20260421T235849
CREATED:20241001T095143Z
LAST-MODIFIED:20241119T173021Z
UID:2768-1689109200-1689112800@ortobotanico1545.it
SUMMARY:Monday
DESCRIPTION:Martedì 11 luglio l’Orto botanico di Padova ospita Monday\, lo spettacolo teatrale ideato e realizzato dalla compagnia teatrale Dynamis nell’ambito del progetto LIFE Blue Lakes\, in collaborazione con ENEA\, l’Agenzia nazionale per le nuove tecnologie\, l’energia e lo sviluppo economico sostenibile e Legambiente. Lo spettacolo è prodotto da Dynamis e Teatro Vascello. \nIn Monday\, due artisti di un collettivo di teatro contemporaneo (interpretati da Marta Vitalini e Jules Benveniste) si incontrano\, dopo dieci anni di lontananza\, per realizzare un progetto commissionato da uno dei gruppi di scienziati più autorevoli del dibattito mondiale sull’inquinamento da microplastiche nell’ambiente. Un argomento tra i più urgenti e scomodi del momento\, artisticamente difficile da affrontare ma socialmente imprescindibile! Come salvare il mondo dalle plastiche diventa il tema dell’accesa e stravagante discussione\, tra idee inverosimili\, realizzazioni utopiche\, sterili dibattiti e inevitabili contraddizioni\, che porteranno i due artisti a scoprire tormenti e fragilità di una umanità ormai troppo inquinata. \nL’evento è ospitato in Teatro botanico\, con inizio alle ore 21. \nIl biglietto (tariffa unica 6 euro; gratuito 0-5 anni) è acquistabile online o presso la biglietteria dell’Orto (aperta dal martedì alla domenica e nei giorni festivi dalle 10 alle 18.15)\, fino ad esaurimento dei posti disponibili. \n  \n— \nDynamis è un gruppo dedicato al teatro e alle arti performative con base a Roma. Da un decennio connette le sue attività con diversi spazi culturali della città\, sviluppando un interesse multidisciplinare nella ricerca. I progetti si sviluppano intrecciando la ricerca teatrale all’incontro con diverse discipline come la filosofia\, la scienza e le arti visive connettendo il “nuovo” alla tradizione teatrale. I lavori prediligono il potenziale situazionale dell’atto performativo e predispongono la scena a luogo di dialogo e conflitto. Il teatro è spazio di confronto\, campo di battaglia e occasione di esplorazione del disordine.  \nLIFE Blue Lakes è un progetto europeo finalizzato alla prevenzione e riduzione dei rifiuti di plastica nei laghi italiani e tedeschi attraverso un approccio integrato che combina governance\, attività di formazione\, informazione e sensibilizzazione. Nell’estate 2023 attraversa l’Italia con il Road Show che propone in sette regioni e nelle principali località lacustri italiane una rassegna di spettacoli teatrali\, laboratori\, corsi di formazione e attività dove arte e scienza si incontrano\, con l’obiettivo di sensibilizzare il pubblico su tematiche ambientali e relative all’inquinamento.
URL:https://ortobotanico1545.it/eventi/monday/
LOCATION:Via Orto botanico\, 15
CATEGORIES:Estate all'Orto,Estate all'Orto 2023
ATTACH;FMTTYPE=image/jpeg:https://ortobotanico1545.it/wp-content/uploads/2024/10/monday.jpg
END:VEVENT
BEGIN:VEVENT
DTSTART;TZID=Europe/Rome:20230718T190000
DTEND;TZID=Europe/Rome:20230718T210000
DTSTAMP:20260421T235849
CREATED:20241001T095154Z
LAST-MODIFIED:20241119T180555Z
UID:2786-1689706800-1689714000@ortobotanico1545.it
SUMMARY:Cosimo
DESCRIPTION:L’Orto botanico di Padova rende omaggio al grande Italo Calvino\, nell’anno del centenario della nascita\, con una performance di danza verticale sugli alberi dedicata ad uno dei suoi personaggi più noti\, Cosimo Piovasco di Rondò\, protagonista del romanzo Il barone rampante. \nMartedì 18 luglio l’arboreto ospita lo spettacolo Cosimo\, in cui gli alberi sono la superficie verticale utilizzata per la danza da Marianna Andrigo\, Michela Lorenzano\, Valentina Milan e Silvia Zotto\, della compagnia Vertical Waves Project.\n \nCosimo sceglie di vivere sugli alberi per tutta la vita. Un atto di coraggio e di libertà lo spinge a guardare il mondo con occhi diversi senza separarsi dagli affetti terreni\, dalla curiosità verso l’umano. Incontreremo insieme a lui Viola\, la bambina di cui si innamora\, e poi la figura dell’albero\, dell’uccello e della lumaca: la danza sviluppa soli\, duetti e coralità avvolta nella natura\, un abbraccio che richiama emozioni infantili e fiabesche che danno spazio anche ai suoni dell’ambiente. \nIl biglietto d’ingresso (tariffa unica 6 euro; gratuito 0-5 anni) è acquistabile online o presso la biglietteria dell’Orto (aperta dal martedì alla domenica e nei giorni festivi dalle 10 alle 18.15)\, fino ad esaurimento dei posti. Sono disponibili tre turni: 19\, 19.30 e 20. Lo spettacolo è itinerante e dura circa 30 minuti. Poiché si tiene interamente all’aperto\, è consigliabile munirsi di repellente antizanzare. \nIn caso di maltempo l’evento è rimandato a mercoledì 19 luglio. Il biglietto – non rimborsabile – resta valido anche nella data di recupero. \n  \n— \nVertical Waves Project è una compagnia di danza verticale che realizza performance utilizzando le architetture come spazio scenico: grazie a funi e imbraghi\, gli spettacoli sperimentano la dimensione verticale e il vuoto anche attraverso l’impiego di gru\, strutture\, allestimenti su alberi e infrastrutture. \nCredits: foto di Lorenza Cini
URL:https://ortobotanico1545.it/eventi/cosimo/
CATEGORIES:Estate all'Orto 2023
ATTACH;FMTTYPE=image/jpeg:https://ortobotanico1545.it/wp-content/uploads/2024/10/cosimo.jpg
END:VEVENT
BEGIN:VEVENT
DTSTART;TZID=Europe/Rome:20230727T190000
DTEND;TZID=Europe/Rome:20230727T200000
DTSTAMP:20260421T235849
CREATED:20241001T095156Z
LAST-MODIFIED:20241119T175008Z
UID:2789-1690484400-1690488000@ortobotanico1545.it
SUMMARY:T'es rien sans la terre
DESCRIPTION:Giovedì 27 luglio alle ore 19 l’Orto botanico di Padova ospita lo spettacolo di circo contemporaneo T’es rien sans la Terre\, dell’omonima compagnia francese. \nUno spettacolo dalle intenzioni profonde\, che avvicina in modo poetico il pubblico a domande essenziali sulla biodiversità\, gli ecosistemi e la stretta correlazione che esiste tra ogni individuo\, attraverso una messa in scena orchestrata intorno a proiezioni video e set fatti di materiali naturali. Grazie alla leggerezza delle acrobazie\, necessaria per condividere una discussione sincera sospesa tra ecologia e umorismo\, ci si allontana dalle lezioni morali per andare avanti un passo dopo l’altro\, tutti e tutte insieme\, allo scopo di ricollegarsi alla propria umanità e di assaporare le ripercussioni delle azioni che si compiono. \nIl biglietto d’ingresso (tariffa unica 6 euro; gratuito 0-5 anni) è acquistabile online o presso la biglietteria dell’Orto (aperta dal martedì alla domenica e nei giorni festivi dalle 10 alle 18.15)\, fino ad esaurimento dei posti. \nLo spettacolo si tiene all’aperto: è consigliabile munirsi di repellente antizanzare. \n  \n—\nT’es rien sans la Terre è una compagnia di spettacolo circense contemporaneo che riunisce artisti impegnati per l’ambiente e usa l’arte\, le immagini poetiche e l’umorismo per parlare della Terra. Dal 2020 il gruppo invita il pubblico a interrogarsi sul futuro del pianeta e a fare un piccolo passo verso il cambiamento.
URL:https://ortobotanico1545.it/eventi/tes-rien-sans-la-terre/
CATEGORIES:Estate all'Orto,Estate all'Orto 2023
ATTACH;FMTTYPE=image/jpeg:https://ortobotanico1545.it/wp-content/uploads/2024/10/tesriensanslaterre.jpg
END:VEVENT
END:VCALENDAR