BEGIN:VCALENDAR
VERSION:2.0
PRODID:-//Orto Botanico di Padova - ECPv6.15.19//NONSGML v1.0//EN
CALSCALE:GREGORIAN
METHOD:PUBLISH
X-WR-CALNAME:Orto Botanico di Padova
X-ORIGINAL-URL:https://ortobotanico1545.it
X-WR-CALDESC:Eventi per Orto Botanico di Padova
REFRESH-INTERVAL;VALUE=DURATION:PT1H
X-Robots-Tag:noindex
X-PUBLISHED-TTL:PT1H
BEGIN:VTIMEZONE
TZID:Europe/Rome
BEGIN:DAYLIGHT
TZOFFSETFROM:+0100
TZOFFSETTO:+0200
TZNAME:CEST
DTSTART:20220327T010000
END:DAYLIGHT
BEGIN:STANDARD
TZOFFSETFROM:+0200
TZOFFSETTO:+0100
TZNAME:CET
DTSTART:20221030T010000
END:STANDARD
BEGIN:DAYLIGHT
TZOFFSETFROM:+0100
TZOFFSETTO:+0200
TZNAME:CEST
DTSTART:20230326T010000
END:DAYLIGHT
BEGIN:STANDARD
TZOFFSETFROM:+0200
TZOFFSETTO:+0100
TZNAME:CET
DTSTART:20231029T010000
END:STANDARD
BEGIN:DAYLIGHT
TZOFFSETFROM:+0100
TZOFFSETTO:+0200
TZNAME:CEST
DTSTART:20240331T010000
END:DAYLIGHT
BEGIN:STANDARD
TZOFFSETFROM:+0200
TZOFFSETTO:+0100
TZNAME:CET
DTSTART:20241027T010000
END:STANDARD
END:VTIMEZONE
BEGIN:VEVENT
DTSTART;TZID=Europe/Rome:20230321T180000
DTEND;TZID=Europe/Rome:20231214T190000
DTSTAMP:20260421T173013
CREATED:20241001T095111Z
LAST-MODIFIED:20241120T084429Z
UID:2713-1679421600-1702580400@ortobotanico1545.it
SUMMARY:Racconti della Natura 2023
DESCRIPTION:Racconti della Natura è una rassegna di appuntamenti letterari\, organizzati dall’Orto botanico dell’Università di Padova\, che ruotano attorno al tema della scrittura come mezzo privilegiato per raccontare la natura che ci circonda. \nAPPUNTAMENTI \nRacconti della Natura \n\n\n21 marzo\, ore 18 – Brunella Torresin\, Nel gran teatro della natura. Maria Sibylla Merian\, donna d’arte e di scienza 1647-1717\, Edizioni Pendragon – dialogo con Elena Canadelli e visita al Museo botanico\n20 giugno ore 18.30 – Daniele Zovi\, Caccia al topo. Una storia di uomini\, animali\, trappole e amicizie\, UTET – presentazione del libro in dialogo con Renato Semenzato\n5 luglio ore 18.30 – Giuseppe Barbera\, Agrumi. Una storia del mondo\, Il Saggiatore – presentazione del libro e visita guidata\n23 settembre ore 10.30 – Barbara Bernardini\, Dall’Orto al mondo. Piccolo manuale di resistenza ecologica\, Nottetempo – presentazione del libro in dialogo con Roberto Tacchetto\n7 ottobre ore 10 – Jacopo Starace\, Essere montagna\, BAO Publishing – presentazione del libro e workshop di fumetto a cura dell’autore\n14 dicembre ore 18 – Massimo De Giuseppe\, Cacao\, la pianta che attraversa il tempo\, Carocci Editore – presentazione del libro in dialogo con Rafael Gaune e Mario Sartor\n\nRacconti della Natura KIDS \n\n\n21 maggio ore 10.30 – Valentina Gottardi\, Danio Miserocchi\, Maciej Michno\, Solo dance. Api solitarie e api selvatiche\, Cocai Books – presentazione del libro e attività ludico-didattica\n27 agosto ore 10.30 – Arianna Papini\, Prima di tagliare un albero\, Camelozampa – presentazione del libro e laboratorio creativo per persone di tutte le età\n26 novembre ore 10.30 – Irene Penazzi\, Un anno tra gli alberi (testi di Valentina Levrini\, illustrazioni di Irene Penazzi)\, Terre di mezzo Editore – presentazione del libro e attività ludico-didattica
URL:https://ortobotanico1545.it/eventi/racconti-della-natura/
CATEGORIES:Racconti della Natura
END:VEVENT
BEGIN:VEVENT
DTSTART;TZID=Europe/Rome:20231007T100000
DTEND;TZID=Europe/Rome:20231007T123000
DTSTAMP:20260421T173013
CREATED:20241001T095141Z
LAST-MODIFIED:20241027T211044Z
UID:2763-1696672800-1696681800@ortobotanico1545.it
SUMMARY:Essere montagna
DESCRIPTION:Sabato 7 ottobre alle ore 10 un nuovo appuntamento della rassegna Racconti della Natura\, dedicato questa volta ad una particolare forma letteraria: Jacopo Starace\, fumettista e illustratore\, presenta infatti la sua graphic novel Essere Montagna (BAO Publishing). La presentazione del libro è accompagnata da un workshop sul tema del character design\, in cui verranno approfonditi vari aspetti del processo creativo\, dall’idea iniziale del personaggio fino alla sua realizzazione pratica. \nEssere montagna è una storia complessa e stratificata\, che intrattiene ma allo stesso tempo fa riflettere su alcuni temi di grande attualità come il collasso del nostro ecosistema e il contributo che ciascuno di noi può dare per provare a “fare la differenza”. Nel mondo fantastico in cui è ambientata esistono gli Esseri formica\, umani alti appena qualche millimetro\, decimati da una misteriosa malattia\, e gli Esseri montagna\, creature quasi mitiche\, gigantesche\, che hanno lasciato cadere sulla terra una cura. Anni dopo il morbo ritorna\, ma la popolazione degli Esseri formica è ormai preda di un culto religioso basato sull’aiuto che cade dal cielo\, e le scorte di antidoto si sono esaurite da tempo. Un giovane\, Myco\, costretto dalle drammatiche circostanze\, lascia il villaggio per cercare una nuova cura alla malattia. Troverà molto di più: il proprio senso\, la propria strada\, e la speranza della libertà. \nL’evento è compreso nel biglietto d’ingresso all’Orto. Il workshop avrà una durata di circa 2 ore e mezza. \nEssere montagna è in vendita presso il bookshop a partire dal 7 ottobre. Al termine dell’evento è previsto un breve firmacopie. \n  \nJacopo Starace (1989) è un fumettista e illustratore italiano. Laureato in Scenografia all’Accademia di Belle Arti di Brera di Milano\, lavora per numerose case editrici italiane e francesi come Sergio Bonelli Editore\, Edition Sarbacane\, Eris Edizioni\, Comicon Edizioni\, Beccogiallo\, Passenger Press. Illustra articoli e copertine per riviste\, libri di narrativa e saggistica\, aziende. Nel 2022 scrive e disegna Il teatro dei demoni sul Dylan Dog Color Fest 40 – Estreme Visioni e pubblica il suo secondo libro a fumetti\, Essere Montagna.
URL:https://ortobotanico1545.it/eventi/essere-montagna/
END:VEVENT
BEGIN:VEVENT
DTSTART;VALUE=DATE:20231014
DTEND;VALUE=DATE:20231015
DTSTAMP:20260421T173013
CREATED:20241001T095158Z
LAST-MODIFIED:20241021T093250Z
UID:2793-1697241600-1697327999@ortobotanico1545.it
SUMMARY:L'Orto botanico al CICAP Fest 2023
DESCRIPTION:Dal 13 al 15 ottobre torna a Padova il CICAP Fest. Il tema prescelto per questa sesta edizione è Facciamo la nostra parte\, seguendo la strada tracciata da Piero Angela che\, nel 1989\, ha fondato il Comitato Italiano per il Controllo delle Affermazioni sulle Pseudoscienze e lo ha accompagnato e fatto crescere per più di trent’anni. Promossa dal Cicap in collaborazione con l’Università degli Studi di Padova\, il Comune di Padova e la Provincia di Padova\, la manifestazione propone tre percorsi di indagine e analisi per riflettere su altrettanti valori cardine per la costruzione di un futuro in cui il progresso scientifico\, civile e politico tengano lo stesso passo e procedano in armonia: il valore della responsabilità\, il valore della trasparenza e il valore dei fatti. \nInsieme al Palazzo del Bo e al Museo della Natura e dell’Uomo\, l’Orto botanico è una delle sedi dell’Università di Padova che ospitano la manifestazione\, proponendo al pubblico sabato 14 ottobre un’attivita speciale per tutta la famiglia\, Tra miti e leggende. L’ingresso è gratuito\, su prenotazione. \nSabato 14 ottobre\, ore 14.30 e 16.30\nTRA MITI E LEGGENDE\nVisita guidata tematica tout public\nA cura di Orto botanico di Padova \nL’umanità ha sempre avuto un legame profondo con il mondo naturale\, in particolare quello vegetale: gli alberi vivono a lungo e possono resistere alle catastrofi; le piante ci curano…ma possono anche farci del male\, o addirittura ucciderci. Un percorso per ascoltare storie ancestrali e fantastiche ispirate al mondo vegetale\, esplorando il confine tra realtà e leggenda. \n  \n 
URL:https://ortobotanico1545.it/eventi/lorto-botanico-al-cicap-fest-2023/
CATEGORIES:Eventi in collaborazione
ATTACH;FMTTYPE=image/jpeg:https://ortobotanico1545.it/wp-content/uploads/2024/10/sito-orto-960x400-1.jpg
END:VEVENT
END:VCALENDAR