BEGIN:VCALENDAR
VERSION:2.0
PRODID:-//Orto Botanico di Padova - ECPv6.15.19//NONSGML v1.0//EN
CALSCALE:GREGORIAN
METHOD:PUBLISH
X-WR-CALNAME:Orto Botanico di Padova
X-ORIGINAL-URL:https://ortobotanico1545.it
X-WR-CALDESC:Eventi per Orto Botanico di Padova
REFRESH-INTERVAL;VALUE=DURATION:PT1H
X-Robots-Tag:noindex
X-PUBLISHED-TTL:PT1H
BEGIN:VTIMEZONE
TZID:Europe/Rome
BEGIN:DAYLIGHT
TZOFFSETFROM:+0100
TZOFFSETTO:+0200
TZNAME:CEST
DTSTART:20240331T010000
END:DAYLIGHT
BEGIN:STANDARD
TZOFFSETFROM:+0200
TZOFFSETTO:+0100
TZNAME:CET
DTSTART:20241027T010000
END:STANDARD
BEGIN:DAYLIGHT
TZOFFSETFROM:+0100
TZOFFSETTO:+0200
TZNAME:CEST
DTSTART:20250330T010000
END:DAYLIGHT
BEGIN:STANDARD
TZOFFSETFROM:+0200
TZOFFSETTO:+0100
TZNAME:CET
DTSTART:20251026T010000
END:STANDARD
BEGIN:DAYLIGHT
TZOFFSETFROM:+0100
TZOFFSETTO:+0200
TZNAME:CEST
DTSTART:20260329T010000
END:DAYLIGHT
BEGIN:STANDARD
TZOFFSETFROM:+0200
TZOFFSETTO:+0100
TZNAME:CET
DTSTART:20261025T010000
END:STANDARD
END:VTIMEZONE
BEGIN:VEVENT
DTSTART;TZID=Europe/Rome:20250221T180000
DTEND;TZID=Europe/Rome:20250221T193000
DTSTAMP:20260420T112837
CREATED:20250214T083952Z
LAST-MODIFIED:20250304T131321Z
UID:6435-1740160800-1740166200@ortobotanico1545.it
SUMMARY:Il ritorno delle piante
DESCRIPTION:Circolari\, polifunzionali: sapersi riciclare è una chiave di sopravvivenza per le piante nella contemporaneità. Il racconto di questa nuova era di biofilia\, declinata in tante storie da tutta Italia\, non è un viaggio nostalgico. È un cammino a ritroso nel futuro di erbe\, alberi e arbusti simbolici che oggi ricompaiono sotto una nuova luce.Venerdì 21 febbraio alle ore 18 l’Orto botanico di Padova ospita un nuovo appuntamento della rassegna Racconti della Natura\, dedicato al profondo legame tra l’uomo e il mondo vegetale.\nPer affrontare la crisi ambientale in Italia\, come in tutto il mondo\, ci sono esperienze che propongono alle piante una nuova alleanza\, offrendo loro di ritornare negli habitat originari così come nelle nostre metropoli. La nuova convivenza con le piante prelude a un’era di biofilia\, a un recupero del nostro rapporto ancestrale con la natura? Forse\, ma questa unione d’amore è anche un matrimonio d’interesse. \nLe piante tornano nei vuoti delle città e in quelli della natura. Tornano spesso in silenzio\, ma tornano sempre. Dopo averle esiliate per migliaia di anni\, la crisi climatica e ambientale ci ha suggerito una nuova alleanza con il mondo vegetale. Olivi\, viti e ortaggi freschi si coltivano nei centri storici per non consumare suolo naturale\, i semi delle specie autoctone si conservano gelosamente per recuperare habitat perduti mentre le specie tessili sono riscoperte in ambito terapeutico. \nL’evento è gratuito; per partecipare è richiesta la prenotazione online.\nIl ritorno delle piante è in vendita presso il bookshop a partire dal 21 febbraio. Al termine dell’evento è previsto un breve firmacopie. \nFabio Marzano\nScrittore e giornalista specializzato sui temi di botanica e di natura\, per EDT ha pubblicato I racconti delle piante (2022) e Il ritorno delle piante (2024). La passione per il mondo vegetale in tutte le sue espressioni lo ha trascinato anche fuori dall’ambito editoriale e oggi contribuisce all’ideazione di festival dedicati al verde urbano e di altri eventi culturali sul tema. \nPrenota\n\n	Avviso: JavaScript è obbligatorio per questo contenuto.
URL:https://ortobotanico1545.it/eventi/il-ritorno-delle-piante/
CATEGORIES:Racconti della Natura
ATTACH;FMTTYPE=image/jpeg:https://ortobotanico1545.it/wp-content/uploads/2025/02/00_Immagine-Evento-ORTO-2240-x-1060-px-Il-ritorno-delle-piante-scaled.jpg
END:VEVENT
END:VCALENDAR