BEGIN:VCALENDAR
VERSION:2.0
PRODID:-//Orto Botanico di Padova - ECPv6.15.19//NONSGML v1.0//EN
CALSCALE:GREGORIAN
METHOD:PUBLISH
X-ORIGINAL-URL:https://ortobotanico1545.it
X-WR-CALDESC:Eventi per Orto Botanico di Padova
REFRESH-INTERVAL;VALUE=DURATION:PT1H
X-Robots-Tag:noindex
X-PUBLISHED-TTL:PT1H
BEGIN:VTIMEZONE
TZID:Europe/Rome
BEGIN:DAYLIGHT
TZOFFSETFROM:+0100
TZOFFSETTO:+0200
TZNAME:CEST
DTSTART:20240331T010000
END:DAYLIGHT
BEGIN:STANDARD
TZOFFSETFROM:+0200
TZOFFSETTO:+0100
TZNAME:CET
DTSTART:20241027T010000
END:STANDARD
BEGIN:DAYLIGHT
TZOFFSETFROM:+0100
TZOFFSETTO:+0200
TZNAME:CEST
DTSTART:20250330T010000
END:DAYLIGHT
BEGIN:STANDARD
TZOFFSETFROM:+0200
TZOFFSETTO:+0100
TZNAME:CET
DTSTART:20251026T010000
END:STANDARD
BEGIN:DAYLIGHT
TZOFFSETFROM:+0100
TZOFFSETTO:+0200
TZNAME:CEST
DTSTART:20260329T010000
END:DAYLIGHT
BEGIN:STANDARD
TZOFFSETFROM:+0200
TZOFFSETTO:+0100
TZNAME:CET
DTSTART:20261025T010000
END:STANDARD
END:VTIMEZONE
BEGIN:VEVENT
DTSTART;VALUE=DATE:20250501
DTEND;VALUE=DATE:20250804
DTSTAMP:20260420T020853
CREATED:20250418T074213Z
LAST-MODIFIED:20250520T112008Z
UID:7456-1746057600-1754265599@ortobotanico1545.it
SUMMARY:Finestre sull'altrove. 60 vedute per 60 rifugiati
DESCRIPTION:I rifugiati sono stati sradicati\, hanno visto le loro esistenze strappate via\, rivoltate e trapiantate brutalmente in un suolo altro\, in un ambiente diverso\, un differente clima\, ecosistema… Rimettere radici può riguardare la condizione del rifugiato\, ma\, in fondo\, la condizione universale di tutti coloro che si ritrovano a vivere il dramma dello sradicamento e devono tentare\, in qualche modo\, di ripartire. Un processo doloroso\, faticoso\, ma che lascia aperto uno spiraglio di speranza.  (Martina Bastianello)GIOVEDÌ 1 MAGGIO – DOMENICA 3 AGOSTO 2025\nMostra\nin collaborazione con Amnesty International Italia\nCompresa nel biglietto di ingresso \nSessanta vedute. Sessanta storie. Sessanta persone rifugiate che\, insieme all’architetto e disegnatore Matteo Pericoli\, hanno trasformato una finestra in una narrazione visiva e personale. Finestre sull’altrove è un progetto ideato da Bill Shipsey\, fondatore di Art for Human Rights\, e Matteo Pericoli\, realizzato tra il 2018 e il 2021 a sostegno di Amnesty International.  \nIl percorso espositivo raccoglie sessanta disegni originali realizzati da Pericoli\, ognuno accompagnato dal racconto intimo di chi ha affrontato lo sradicamento\, la perdita\, ma anche la rinascita in una nuova terra. L’idea di portare questa esperienza all’Orto botanico di Padova nasce da un’intuizione di Martina Bastianello\, che ha colto un dialogo profondo tra il progetto e il patrimonio vegetale dell’Orto botanico. Proprio come gli alberi evocati con struggente affetto nei racconti dei rifugiati\, le finestre della mostra si affacciano su memorie\, identità e speranze. In molti scrivono degli alberi della loro infanzia e dei nuovi alberi osservati oggi: un filo verde e vivo che unisce passato e presente. \nIl tiglio rovesciato di Linneo – capace di trasformare rami in radici – diventa simbolo della condizione del rifugiato: vite capovolte che cercano di mettere nuove radici in un terreno altro. È una metafora potente\, che parla anche a chiunque viva un’esperienza di cambiamento profondo\, di dislocazione\, di ricostruzione. \nCome scriveva Gianni Rufini\, allora direttore di Amnesty International Italia:\n“Non solo che gli occhi vedano\, ma che vedano attraverso altri occhi: occhi che non sono né ‘nostri’ né ‘loro’\, bensì occhi comuni\, sguardi condivisi…”. Finestre sull’altrove invita proprio a questo: guardare il mondo attraverso occhi diversi\, lasciandosi toccare da storie che ci riguardano tutti. \nAmnesty InternationalAmnesty International è un movimento globale indipendente che conta oltre 10 milioni di persone impegnate nella difesa dei diritti umani. Denuncia le violazioni\, fa pressione su governi e aziende affinché rispettino la legge internazionale\, e mobilita attivisti in tutto il mondo per promuovere giustizia\, libertà e dignità. Attraverso campagne\, azioni concrete ed educazione ai diritti umani\, da oltre 50 anni lavora per un mondo più giusto\, combattendo discriminazioni\, tortura\, repressione del dissenso e difendendo i diritti di rifugiati e migranti.Matteo PericoliMatteo Pericoli è architetto\, autore\, disegnatore e insegnante. I suoi lavori sono stati pubblicati su numerosi giornali e riviste nazionali e internazionali. Nel 2007 completa Skyline of the World\, un murale di 120 metri per il terminal dell’American Airlines all’aeroporto internazionale JFK. I suoi libri sono stati pubblicati in Italia\, in Francia\, negli Stati Uniti\, nel Regno Unito\, in Corea del Sud\, in Taiwan e in Cina. L’ultimo è Il grande museo vivente dell’immaginazione. Guida all’esplorazione dell’architettura letteraria (Il Saggiatore). A Torino nel 2010 ha fondato il Laboratorio di architettura letteraria.Art for Human RightsArt for Human Rights riunisce artisti di tutte le discipline per sensibilizzare l’opinione pubblica sulle violazioni dei diritti umani. Usiamo l’arte per ispirare l’azione affinché la libertà\, l’uguaglianza e la dignità diventino una realtà per tutti”.
URL:https://ortobotanico1545.it/eventi/finestre-sullaltrove/
CATEGORIES:Attività a ciclo continuo,Giornata di apertura,Mostre e installazioni,Risvegli 2025
ATTACH;FMTTYPE=image/jpeg:https://ortobotanico1545.it/wp-content/uploads/2025/04/finestresull-altrove.jpg
END:VEVENT
BEGIN:VEVENT
DTSTART;TZID=Europe/Rome:20250806T183000
DTEND;TZID=Europe/Rome:20250806T203000
DTSTAMP:20260420T020853
CREATED:20250710T091645Z
LAST-MODIFIED:20250807T075642Z
UID:10298-1754505000-1754512200@ortobotanico1545.it
SUMMARY:Piante oriGINali
DESCRIPTION:Nel mondo naturale alcune piante possono essere impiegate per la creazione o l’aromatizzazione di bevande. Mercoledì 6 agosto alle ore 18.30 è in programma una particolare visita guidata incentrata sulle botaniche utilizzate per la creazione del gin\, seguita da una degustazione.  \nLe guide dell’Orto accompagnano i partecipanti alla scoperta di ginepro\, timo\, carciofo\, cardo mariano e salicornia e\, a seguire\, i distillatori dell’azienda veneziana Sospiri – Botaniche Veneziane illustrano le caratteristiche e le modalità con le quali gli ingredienti naturali vengono trasformati per ottenere il gin. A chiudere l’incontro\, un assaggio di tre tipologie preparate con botaniche coltivate nell’Isola di Sant’Erasmo a Venezia.  \nConosciuta come l’Orto di Venezia\, l’isola si caratterizza per la presenza di un terreno molto particolare che favorisce la crescita di varietà vegetali che\, opportunamente trattate\, possono essere impiegate per la preparazione di bevande che esaltano i sapori e i profumi del territorio lagunare. Tra queste emerge in particolare la salicornia: in dialogo con i distillatori\, il professor Carlo Nicoletto\, responsabile scientifico del progetto VERTICHALPONICS (Dipartimento DAFNAE\, Università di Padova) racconta le ultime ricerche dedicate a questa pianta poco conosciuta. \nPer partecipare all’esperienza è necessario acquistare il biglietto online (tariffa unica 10€\, non rimborsabile)\, fino ad esaurimento dei posti disponibili. L’evento si tiene all’aperto e\, in caso di maltempo\, è rinviato al 7 agosto. \nPosti esauritiSospiri - Botaniche Veneziane\nSospiri Botaniche Veneziane è un progetto nato nel 2019 dall’incontro tra la passione per l’arte della miscelazione e l’amore autentico per Venezia. L’idea prende vita da Marco Vian\, che ha voluto tradurre in distillati e sali aromatici l’anima più autentica della laguna. Protagonista assoluta è l’isola di Sant’Erasmo storicamente conosciuta come “l’orto dei veneziani”\, da cui provengono le botaniche che caratterizzano ogni creazione di Sospiri. Ogni prodotto è un omaggio alla Venezia meno convenzionale\, raccontata attraverso ingredienti raccolti a mano\, lavorazioni accurate. La produzione avviene nel segno della sostenibilità\, evitando l’uso della plastica e privilegiando materiali naturali e riciclati. \nVERTICHALPONICS\nIn risposta alle sfide ambientali e globali\, il progetto VERTICHALPONICS sviluppa un innovativo sistema di produzione alimentare sostenibile che unisce acquacoltura e coltivazione di piante resistenti alla salinità in un’unica struttura verticale. Utilizzando acque salmastre e specie vegetali alofite\, il sistema permette di produrre ortaggi e prodotti ittici in modo efficiente\, con un basso impatto ambientale\, contribuendo alla costruzione di filiere alimentari più resilienti\, locali e accessibili.\nResponsabile scientifico – Carlo Nicoletto.
URL:https://ortobotanico1545.it/eventi/piante-originali/
CATEGORIES:Estate all'Orto 2025
ATTACH;FMTTYPE=image/jpeg:https://ortobotanico1545.it/wp-content/uploads/2025/07/AdobeStock_99853642-scaled.jpeg
END:VEVENT
BEGIN:VEVENT
DTSTART;TZID=Europe/Rome:20250813T203000
DTEND;TZID=Europe/Rome:20250813T223000
DTSTAMP:20260420T020853
CREATED:20250710T090714Z
LAST-MODIFIED:20250814T080406Z
UID:10291-1755117000-1755124200@ortobotanico1545.it
SUMMARY:Visita serale al Giardino della biodiversità
DESCRIPTION:Mercoledì 13 agosto il Giardino della biodiversità apre eccezionalmente le proprie serre in orario serale\, con cinque turni di visita guidata previsti a partire dalle ore 20.30. Un’occasione speciale per attraversare i biomi del pianeta in una luce diversa\, quando l’atmosfera si fa più silenziosa e raccolta. \nIl percorso conduce attraverso le cinque grandi serre che riproducono altrettanti ambienti climatici della Terra: dalle foreste tropicali umide alle aree temperate\, dalle zone aride fino ai paesaggi subumidi\, lungo un itinerario immersivo che consente di osservare da vicino gli adattamenti di oltre 1.300 specie vegetali\, distribuite secondo una logica fitogeografica. Le condizioni serali\, con variazioni di luce e temperatura\, offrono una prospettiva inedita sulle collezioni e sull’interazione tra piante\, ambiente e presenza umana\, riletta nei diversi contesti storici e geografici. \nL’evento ha una durata complessiva di 60 minuti\, con inizio alle 20.30\, 20.45\, 21\, 21.15 o 21.30. \nPer partecipare è necessario acquistare il biglietto online o in biglietteria (tariffa unica 6€\, non rimborsabile)\, fino ad esaurimento dei posti disponibili. \nOre 20.30 – Posti esauritiOre 20.45 – Posti esauritiOre 21 – Posti esauritiOre 21.15 – Posti esauritiOre 21.30 – Posti esauriti
URL:https://ortobotanico1545.it/eventi/visita-serale-al-giardino-della-biodiversita/
CATEGORIES:Estate all'Orto,Estate all'Orto 2025
ATTACH;FMTTYPE=image/jpeg:https://ortobotanico1545.it/wp-content/uploads/2025/07/Serre_notte_frontale-scaled.jpg
END:VEVENT
BEGIN:VEVENT
DTSTART;TZID=Europe/Rome:20250822T180000
DTEND;TZID=Europe/Rome:20250822T203000
DTSTAMP:20260420T020853
CREATED:20250724T141558Z
LAST-MODIFIED:20250822T143027Z
UID:10508-1755885600-1755894600@ortobotanico1545.it
SUMMARY:(T)Essere Giardino
DESCRIPTION:EVENTO RINVIATO A VENERDÌ 22 AGOSTO\nLe piante rappresentano uno straordinario modello esemplare di rete\, simbiosi e strategie di collaborazione\, offrendo spunti utili per ripensare i modelli di azione. L’epoca attuale è caratterizzata da sfide complesse di natura climatica\, sociale e culturale. Affrontarle richiede l’adozione di strumenti innovativi\, un’evoluzione dei paradigmi di pensiero e un costante esercizio nella pratica collaborativa. È a partire da questo scenario che prende forma la performance collettiva (T)Essere Giardino\, in programma giovedì 21 agosto su due turni\, alle ore 18 e 19.30. \nLa produzione viene presentata in anteprima per l’Orto botanico\, con suono di Marco Prampolini\, ideazione e regia di Angela Ruozzi e con la complicità drammaturgica di Riccardo Tabilio. Accompagnato dall’artista ambientale Antonella De Nisco e dall’ascolto in cuffia di musica e testi scientifici e poetici di filosofi\, studiose e contemplatori della natura\, attraverso erbe\, piante officinali e steli dell’Orto\, il pubblico partecipa alla tessitura di un sipario d’erba\, aria e relazioni\, dando vita a un’opera verde collettiva. Un esperimento di consociazione tra esseri umani ispirato ai comportamenti delle piante in natura. \nLa performance è consigliata a un pubblico dai 12 anni. La partecipazione\, compresa nel biglietto d’ingresso dell’Orto botanico\, è su prenotazione online\, compilando il form di iscrizione. \nIl biglietto è acquistabile online o presso la biglietteria dell’Orto\, aperta dal martedì alla domenica e nei giorni festivi dalle 10 alle 18.15\, e il giorno dell’evento giovedì 21 agosto fino alle 19.30. \nIn caso di maltempo\, l’evento viene recuperato venerdì 22 agosto.  \nLe iscrizioni all’evento sono chiuse. \nAntonella De Nisco \nAntonella De Nisco vive a Reggio Emilia. Laureata in Storia dell’Arte  all’Università di Parma e diplomata in Pittura all’Accademia di Belle Arti di Bologna\, ha seguito corsi nell’ambito dell’Alta Formazione in Didattica Laboratoriale all’Università di Bologna. L’artista affianca alle attività espositive collaborazioni in progetti\, installazioni\, eventi\, lezioni\, pubblicazioni e docenza di storia dell’arte. È autrice di articoli e ricerche sulla didattica dell’arte; con l’architetto Giorgio Teggi\, ha teorizzato “Per un’arte clandestina”\, continuando a praticarla nell’ideazione di progetti sperimentali e di ricerca artistica; insieme\, hanno fondato l’Associazione LAAI (Laboratorio di Arte Ambientale Itinerante) che interviene negli spazi della quotidianità attraverso installazioni territoriali\, con lo scopo di produrre “luoghi di sosta” che possano creare riposo\, riparo e cura\, oltre a condurre a fruizioni simboliche e poetiche. Collabora con la Scuola di Paesaggio Emilio Sereni (Museo Cervi\, Gattatico\, RE). Svolge attività creative con scuole\, comuni\, musei\, teatri\, intervenendo in mostre e installazioni site-specific in luoghi naturali: giardini\, parchi\, aree urbane\, museali o di margine. \n \nAngela Ruozzi \nAngela Ruozzi è regista teatrale\, compie gli studi alla Scuola di Teatro École Philippe Gaulier di Parigi e si perfeziona con maestri quali Ariane Mnouchkine\, Carmelo Rifici\, Claudia Castellucci. Al centro del suo lavoro pone la ricerca di un teatro interdisciplinare\, di incontro tra differenti linguaggi\, che approfondisca contenuti d’attualità per facilitare nel pubblico una riflessione sul contemporaneo ispirando al cambiamento. Usa il linguaggio teatrale come strumento di stimolo alle sfide di transizione culturale. Ama spaziare tra i generi\, occupandosi di prosa per adulti\, teatro ragazzi\, opera lirica\, creazioni community-based e workshop rivolti a professionisti e  non professionisti. Affianca al lavoro di regista incarichi di direzione artistica e curatela di progetti culturali. È stata ideatrice e curatrice del Festival Felicità Sostenibile. Eventi di spudorata propaganda a sostegno dell’ambiente. Si occupa della Direzione artistica del Teatro Fabrizio De André di Casalgrande (RE). Realizza spettacoli e progetti culturali attraverso l’ICC Nativa.  \nMarco Prampolini\nMarco Prampolini si innamora del pianoforte all’età di otto anni dopo aver passato una giornata al Teatro Romolo Valli di Reggio Emilia\, insieme al nonno. Inizia cosi il suo percorso di studi musicali che\, dalla musica classica\, lo porta ad approfondire la musica jazz studiando con Vincenzo Muré fino a sperimentare con le sonorità di tastiere come Hammond\, sintetizzatori ed effetti. Partecipa a progetti con gruppi e band che lo portano a suonare dal vivo in Italia e in Europa\, producendo dischi e inediti e spaziando tra i generi musicali. Contemporaneamente si dedica alla direzione musicale della componente orchestrale di formazioni musical e produce colonne sonore tra cui quella per il film L’uomo che cammina\, regia di Fabio Adani. Da anni lavora come fonico e light designer e per teatri e service italiani.
URL:https://ortobotanico1545.it/eventi/tessere-giardino/
CATEGORIES:Estate all'Orto,Estate all'Orto 2025
ATTACH;FMTTYPE=image/jpeg:https://ortobotanico1545.it/wp-content/uploads/2025/07/Magic-forest-scaled.jpg
END:VEVENT
END:VCALENDAR