BEGIN:VCALENDAR
VERSION:2.0
PRODID:-//Orto Botanico di Padova - ECPv6.15.19//NONSGML v1.0//EN
CALSCALE:GREGORIAN
METHOD:PUBLISH
X-WR-CALNAME:Orto Botanico di Padova
X-ORIGINAL-URL:https://ortobotanico1545.it
X-WR-CALDESC:Eventi per Orto Botanico di Padova
REFRESH-INTERVAL;VALUE=DURATION:PT1H
X-Robots-Tag:noindex
X-PUBLISHED-TTL:PT1H
BEGIN:VTIMEZONE
TZID:Europe/Rome
BEGIN:DAYLIGHT
TZOFFSETFROM:+0100
TZOFFSETTO:+0200
TZNAME:CEST
DTSTART:20250330T010000
END:DAYLIGHT
BEGIN:STANDARD
TZOFFSETFROM:+0200
TZOFFSETTO:+0100
TZNAME:CET
DTSTART:20251026T010000
END:STANDARD
BEGIN:DAYLIGHT
TZOFFSETFROM:+0100
TZOFFSETTO:+0200
TZNAME:CEST
DTSTART:20260329T010000
END:DAYLIGHT
BEGIN:STANDARD
TZOFFSETFROM:+0200
TZOFFSETTO:+0100
TZNAME:CET
DTSTART:20261025T010000
END:STANDARD
BEGIN:DAYLIGHT
TZOFFSETFROM:+0100
TZOFFSETTO:+0200
TZNAME:CEST
DTSTART:20270328T010000
END:DAYLIGHT
BEGIN:STANDARD
TZOFFSETFROM:+0200
TZOFFSETTO:+0100
TZNAME:CET
DTSTART:20271031T010000
END:STANDARD
END:VTIMEZONE
BEGIN:VEVENT
DTSTART;TZID=Europe/Rome:20260210T110000
DTEND;TZID=Europe/Rome:20260210T180000
DTSTAMP:20260419T161004
CREATED:20260119T104933Z
LAST-MODIFIED:20260217T143051Z
UID:13470-1770721200-1770746400@ortobotanico1545.it
SUMMARY:Complex Objects\, Different Perspectives
DESCRIPTION:Studying and Digitising Cecidological Collections in Italy\, France\, and Beyond\nMartedì 10 febbraio\, dalle ore 11 alle ore 18\, si svolge in Teatro botanico il workshop internazionale Complex Objects\, Different Perspectives: Studying and Digitising Cecidological Collections in Italy\, France\, and Beyond\, un seminario specialistico in lingua inglese e francese sulle collezioni cecidologiche e le differenti visioni disciplinari sulle galle. \nIl workshop è finanziato grazie a una convenzione stipulata tra il DiSSGeA dell’Università di Padova e l’Institut Français (progetto Cassini senior)\, e la partecipazione è gratuita\, su prenotazione. \nProgramma
URL:https://ortobotanico1545.it/eventi/complex-objects-different-perspectives/
ATTACH;FMTTYPE=image/jpeg:https://ortobotanico1545.it/wp-content/uploads/2026/01/Extra_Fig_1-scaled.jpg
END:VEVENT
BEGIN:VEVENT
DTSTART;TZID=Europe/Rome:20260218T160000
DTEND;TZID=Europe/Rome:20260218T180000
DTSTAMP:20260419T161005
CREATED:20260205T140956Z
LAST-MODIFIED:20260219T134756Z
UID:13548-1771430400-1771437600@ortobotanico1545.it
SUMMARY:Da Padova al Portogallo: Domenico Vandelli\, un naturalista nell'Europa del Settecento
DESCRIPTION:Mercoledì 18 febbraio\, dalle ore 16 alle ore 18\, in Teatro botanico è in programma un appuntamento organizzato dal Gruppo Giardino Storico in collaborazione con l’Orto botanico dedicato alla figura di Domenico Agostino Vandelli (1735-1816)\, scienziato\, naturalista e botanico attivo tra Padova e il Portogallo nel XVIII secolo. \nL’incontro fa parte del XXXVI corso di aggiornamento sul Giardino storico “Giuliana Baldan Zenoni-Politeo” 2026 dal titolo Giardini e paesaggi raccontano la storia: la memoria coloniale nel presente\, ed è tenuto da Cristina Castel-Branco\, professoressa di Architettura del Paesaggio presso l’Università di Lisbona – Scuola di Agricoltura\, con l’introduzione di Mauro Varotto\, Delegato ai Musei e alle Collezioni dell’Università di Padova\, Elena Canadelli\, Direttrice scientifica del Museo Botanico\, e Alberta Campitelli\, vicepresidente dell’APGI – Associazione Parchi e Giardini d’Italia. \nL’incontro ripercorre il ruolo di Domenico Agostino Vandelli nella circolazione dei saperi scientifici nell’Europa del Settecento\, soffermandosi sul rapporto tra botanica\, agricoltura\, politica e paesaggio. Formatosi all’Università di Padova\, la sua esperienza si sviluppa in Portogallo a partire dal 1768\, quando è incaricato della realizzazione del Jardim Botânico da Ajuda\, primo giardino botanico del Paese\, progettato in dialogo con il modello dell’Orto botanico di Padova. \nL’esperienza di Coimbra\, segnata dalla realizzazione di un nuovo giardino botanico e dall’attività di ricerca e insegnamento universitario\, si accompagna all’elaborazione di un legame tra descrizione botanica e agricoltura\, sviluppato anche attraverso missioni di studio in territorio portoghese e brasiliano. Tali attività favoriscono inoltre la classificazione di nuove specie e un avanzamento dell’agricoltura\, considerata centrale per l’economia portoghese. \nL’evento si svolge in Teatro botanico; la partecipazione è gratuita\, su prenotazione. \nCristina Castel-Branco\nCristina Castel-Branco è architetto paesaggista internazionale\, ha ricevuto numerosi premi tra cui il Premio internazionale di Architettura Andrea Palladio 1988; Merit Award by Boston Society of Landscape Architects to Boston Common Management Plan\, avec Victor Walker\, 1993; Prix de la Commission Européenne de la Sauvegarde du patrimoine culturel de l`Europe\, 1994; Premio Grandi Giardini d’Italia\, Milano\, 1997 per il restauro del Giardino Botanico d’Ajuda. Ha inoltre conseguito molti altri premi in Portogallo\, il suo Paese. Storica dei giardini\, si è diplomata in Architettura del Paesaggio all’Università di Lisbona. Ha successivamente completato la propria formazione negli Stati Uniti\, all’università del Massachusetts e ad Harvard. Dal 1989 insegna all’Università di Lisbona\, dove dirige il programma di Master e il Dottorato in Architettura del paesaggio e Ecologia urbana. Nel 1991 ha fondato lo studio ACB Arquitectura Paisagista con il quale ha creato e restaurato circa 100 parchi e giardini. Ha fondato l’Associazione Portoghese dei Giardini Storici e ha al suo attivo numerose pubblicazioni e conferenze. È stata membro del Comitato Scientifico Internazionale per i paesaggi culturali ICOMOS-Unesco ed è Vice-presidente dell’Institut Européen des Jardins & Paysages\, con base in Francia\, paese con cui ha stretti legami. Il Giappone nel 2020 le ha assegnato la Medaglia d’Onore e Merito.
URL:https://ortobotanico1545.it/eventi/da-padova-al-portogallo-domenico-vandelli-un-naturalista-nelleuropa-del-settecento/
ATTACH;FMTTYPE=image/jpeg:https://ortobotanico1545.it/wp-content/uploads/2026/02/tomasini-orto-botanico--e1770633089861.jpg
END:VEVENT
END:VCALENDAR