BEGIN:VCALENDAR
VERSION:2.0
PRODID:-//Orto Botanico di Padova - ECPv6.15.19//NONSGML v1.0//EN
CALSCALE:GREGORIAN
METHOD:PUBLISH
X-WR-CALNAME:Orto Botanico di Padova
X-ORIGINAL-URL:https://ortobotanico1545.it/en/
X-WR-CALDESC:Events for Orto Botanico di Padova
REFRESH-INTERVAL;VALUE=DURATION:PT1H
X-Robots-Tag:noindex
X-PUBLISHED-TTL:PT1H
BEGIN:VTIMEZONE
TZID:Europe/Rome
BEGIN:DAYLIGHT
TZOFFSETFROM:+0100
TZOFFSETTO:+0200
TZNAME:CEST
DTSTART:20230326T010000
END:DAYLIGHT
BEGIN:STANDARD
TZOFFSETFROM:+0200
TZOFFSETTO:+0100
TZNAME:CET
DTSTART:20231029T010000
END:STANDARD
BEGIN:DAYLIGHT
TZOFFSETFROM:+0100
TZOFFSETTO:+0200
TZNAME:CEST
DTSTART:20240331T010000
END:DAYLIGHT
BEGIN:STANDARD
TZOFFSETFROM:+0200
TZOFFSETTO:+0100
TZNAME:CET
DTSTART:20241027T010000
END:STANDARD
BEGIN:DAYLIGHT
TZOFFSETFROM:+0100
TZOFFSETTO:+0200
TZNAME:CEST
DTSTART:20250330T010000
END:DAYLIGHT
BEGIN:STANDARD
TZOFFSETFROM:+0200
TZOFFSETTO:+0100
TZNAME:CET
DTSTART:20251026T010000
END:STANDARD
BEGIN:DAYLIGHT
TZOFFSETFROM:+0100
TZOFFSETTO:+0200
TZNAME:CEST
DTSTART:20260329T010000
END:DAYLIGHT
BEGIN:STANDARD
TZOFFSETFROM:+0200
TZOFFSETTO:+0100
TZNAME:CET
DTSTART:20261025T010000
END:STANDARD
END:VTIMEZONE
BEGIN:VEVENT
DTSTART;TZID=Europe/Rome:20240425T100000
DTEND;TZID=Europe/Rome:20250106T170000
DTSTAMP:20260420T190046
CREATED:20241016T153643Z
LAST-MODIFIED:20241218T085009Z
UID:5404-1714039200-1736182800@ortobotanico1545.it
SUMMARY:Plants\, in the eyes of science
DESCRIPTION:From the first photographic reproductions made for scientific purposes to modern illustrations: microscopy\, infrared\, ultraviolet\, satellite\, and time-lapse images tell the story of contemporary themes\, from climate change to air quality\, from agricultural sustainability to the management of urban greenery and forestry. The photographic section of the exhibition Impronte – Noi e le piante (‘Imprints – We and Plants’) organised by the Botanical Garden of the University of Parma (Parma\, January/March 2024)\, comes to Padova. \nHistorically\, the purpose of botanical illustrations was initially practical and didactic: illustrations were not used to discover the world of plants\, but to educate the medical profession about medicinal plants. The first illustrations were often of a decorative nature\, useless for identifying specific species\, but useful for memorising and studying\, while the focus on biodiversity came later. \nIf botanists once brought illustrators with them into the field\, today researchers welcome visual artists into the laboratory to create scientifically impeccable\, colour-enhanced images. These digital illustrations serve a research and dissemination function\, often ending up on the covers of the most prestigious scientific journals and infusing the objectivity of science with a touch of human flair. Plants\, in the Eyes of Science opens on Thursday 25 April as part of the Risvegli festival and can be visited in the Foyer during the opening hours of the Garden\, included in the entrance fee\, until 6 January 2025. \nImage by Craig P. Burrows\, Head of Coreopsis tinctoria Nutt.\nUltraviolet light-induced visible fluorescence (UVIVF) photograph\, 2016. Courtesy of the author
URL:https://ortobotanico1545.it/en/eventi/plants-in-the-eyes-of-science/
CATEGORIES:Exhibitions and installations
ATTACH;FMTTYPE=image/jpeg:https://ortobotanico1545.it/wp-content/uploads/2024/10/Plains-Coreopsis-Pair-2_62x42.jpg
END:VEVENT
END:VCALENDAR