BEGIN:VCALENDAR
VERSION:2.0
PRODID:-//Orto Botanico di Padova - ECPv6.15.19//NONSGML v1.0//EN
CALSCALE:GREGORIAN
METHOD:PUBLISH
X-ORIGINAL-URL:https://ortobotanico1545.it/en/
X-WR-CALDESC:Events for Orto Botanico di Padova
REFRESH-INTERVAL;VALUE=DURATION:PT1H
X-Robots-Tag:noindex
X-PUBLISHED-TTL:PT1H
BEGIN:VTIMEZONE
TZID:Europe/Rome
BEGIN:DAYLIGHT
TZOFFSETFROM:+0100
TZOFFSETTO:+0200
TZNAME:CEST
DTSTART:20250330T010000
END:DAYLIGHT
BEGIN:STANDARD
TZOFFSETFROM:+0200
TZOFFSETTO:+0100
TZNAME:CET
DTSTART:20251026T010000
END:STANDARD
BEGIN:DAYLIGHT
TZOFFSETFROM:+0100
TZOFFSETTO:+0200
TZNAME:CEST
DTSTART:20260329T010000
END:DAYLIGHT
BEGIN:STANDARD
TZOFFSETFROM:+0200
TZOFFSETTO:+0100
TZNAME:CET
DTSTART:20261025T010000
END:STANDARD
BEGIN:DAYLIGHT
TZOFFSETFROM:+0100
TZOFFSETTO:+0200
TZNAME:CEST
DTSTART:20270328T010000
END:DAYLIGHT
BEGIN:STANDARD
TZOFFSETFROM:+0200
TZOFFSETTO:+0100
TZNAME:CET
DTSTART:20271031T010000
END:STANDARD
END:VTIMEZONE
BEGIN:VEVENT
DTSTART;TZID=Europe/Rome:20260503T113000
DTEND;TZID=Europe/Rome:20260503T124500
DTSTAMP:20260421T080752
CREATED:20260403T130019Z
LAST-MODIFIED:20260420T112157Z
UID:14842-1777807800-1777812300@ortobotanico1545.it
SUMMARY:The Scent of Memory
DESCRIPTION:SUNDAY\, 3 MAY – 11:30 AM\nScientific popularisation meeting\nWith Hirac Gurden\, Anne-Cécile Pouant\, Anna D’Errico. Moderator: Monica Baggio\nFree | Subject to booking \nScents and aromas bring with them memories and sensations that weave through the fabric of our minds\, linking past experiences with our present-day life. At the crossroads of science\, art and history\, the conference explores the bond between smell and memory\, revealing how our brain—even without our awareness—gathers and preserves countless amounts of information. For fragrance is far more than a fleeting recollection; it is a bridge of connection\, a subtle language through which we share something of ourselves with others. \nThe conference will be held in English and French with simultaneous translation. \nIt will take place at the Auditorium. Entrance: Prato della Valle 57/C. \nRegistration\n\n	Notice: JavaScript is required for this content.
URL:https://ortobotanico1545.it/en/eventi/the-scent-of-memory/
ATTACH;FMTTYPE=image/png:https://ortobotanico1545.it/wp-content/uploads/2026/04/Il-profumo-della-memoria-1.png
END:VEVENT
END:VCALENDAR